BEGIN:VCALENDAR
VERSION:2.0
PRODID:-//Volejbalový sportovní klub Baník Sokolov, z.s.85175//NONSGML kigkonsult.se iCalcreator 2.41.80//
CALSCALE:GREGORIAN
UID:65393735-6632-4837-b738-316663386362
BEGIN:VEVENT
UID:35356236-3030-4766-b061-623261313865
DTSTAMP:20260422T014824Z
DESCRIPTION:1/1 Sokolov - Mikulova Praha B 0:2 (-8\,-16)
DTSTART;TZID=Europe/Berlin:20240323T090000
DTEND;TZID=Europe/Berlin:20240323T110000
LOCATION:Jiskra\, Maxima Gorkého 280 Sokolov
SUMMARY:MCR-U14Z-1AC: Sokolov-Mikulova Praha B
END:VEVENT
BEGIN:VEVENT
UID:38646161-3336-4135-b330-326132323063
DTSTAMP:20260422T014824Z
DESCRIPTION:3/3 Bedřichov - Sokolov 2:0 (18\,7)
DTSTART;TZID=Europe/Berlin:20240323T113000
DTEND;TZID=Europe/Berlin:20240323T133000
LOCATION:TJ Sokol Bedřichov\, Jihlava\, Sokolovská 4656 Jihlava
SUMMARY:MCR-U14Z-1AC: Bedřichov-Sokolov
END:VEVENT
BEGIN:VEVENT
UID:65353737-6163-4139-a233-323032333437
DTSTAMP:20260422T014824Z
DESCRIPTION:2/2 Sokolov - VK Madeta ČB 0:2 (-14\,-16)
DTSTART;TZID=Europe/Berlin:20240323T141500
DTEND;TZID=Europe/Berlin:20240323T161500
LOCATION:Jiskra\, Maxima Gorkého 280 Sokolov
SUMMARY:MCR-U14Z-1AD: Sokolov-VK Madeta ČB
END:VEVENT
BEGIN:VEVENT
UID:64353237-3939-4466-b539-373133323135
DTSTAMP:20260422T014824Z
DESCRIPTION:1/1 Kralupy - Sokolov 2:0 (15\,17)
DTSTART;TZID=Europe/Berlin:20240323T130000
DTEND;TZID=Europe/Berlin:20240323T150000
LOCATION:TJ KRALUPY\, z.s.\, Gen. Klapálka 1029 Kralupy nad Vltavou
SUMMARY:MCR-U14Z-1AD: Kralupy-Sokolov
END:VEVENT
BEGIN:VEVENT
UID:65383739-3366-4436-b038-393136386566
DTSTAMP:20260422T014824Z
DESCRIPTION:3/3 Sokolov - Španielka 2:0 (23\,22)
DTSTART;TZID=Europe/Berlin:20240324T113000
DTEND;TZID=Europe/Berlin:20240324T133000
LOCATION:Jiskra\, Maxima Gorkého 280 Sokolov
SUMMARY:MCR-U14Z-1A3: Sokolov-Španielka
END:VEVENT
BEGIN:VEVENT
UID:63653563-6161-4233-a333-613138316538
DTSTAMP:20260422T014824Z
DESCRIPTION:2/2 VA-Klokani - Sokolov 1:2 (-11\,19\,-10)
DTSTART;TZID=Europe/Berlin:20240324T101500
DTEND;TZID=Europe/Berlin:20240324T121500
LOCATION:Sportovní hala Textilka\, Gustava Geipela 2713 Aš
SUMMARY:MCR-U14Z-1A3: VA-Klokani-Sokolov
END:VEVENT
END:VCALENDAR
