BEGIN:VCALENDAR
VERSION:2.0
PRODID:-//Tělocvičná jednota Sokol Česká Třebová85189//NONSGML kigkonsult.se iCalcreator 2.41.80//
CALSCALE:GREGORIAN
UID:30653539-6332-4330-b130-616437333432
BEGIN:VEVENT
UID:66326266-3933-4931-b034-313966633635
DTSTAMP:20260423T111511Z
DESCRIPTION:2/2 Tělocvičná jednota Sokol Česká Třebová - Orion Praha 0:2 (-
 9\,-4)
DTSTART;TZID=Europe/Berlin:20240414T100000
DTEND;TZID=Europe/Berlin:20240414T120000
LOCATION:Hala VDA Skalka\, Skalka 1162 Česká Třebová
SUMMARY:MCR-U14MH: Tělocvičná jednota Sokol Česká Třebová-Orion Praha
END:VEVENT
BEGIN:VEVENT
UID:36313865-3265-4936-b565-353264623138
DTSTAMP:20260423T111511Z
DESCRIPTION:5/5 Tělocvičná jednota Sokol Česká Třebová - VK Karlovarsko\, z
 .s. 0:2 (-10\,-11)
DTSTART;TZID=Europe/Berlin:20240414T130000
DTEND;TZID=Europe/Berlin:20240414T150000
LOCATION:Hala VDA Skalka\, Skalka 1162 Česká Třebová
SUMMARY:MCR-U14MH: Tělocvičná jednota Sokol Česká Třebová-VK Karlovarsko\, 
 z.s.
END:VEVENT
BEGIN:VEVENT
UID:33623066-6233-4064-a135-636135643561
DTSTAMP:20260423T111511Z
DESCRIPTION:3/3 SK Volejbal Kolín\, z.s. - Tělocvičná jednota Sokol Česká T
 řebová 2:0 (5\,10)
DTSTART;TZID=Europe/Berlin:20240414T110000
DTEND;TZID=Europe/Berlin:20240414T130000
LOCATION:hala STAV\, SOŠ Kolín\, Brankovická 1417 Kolín - Kolín V
SUMMARY:MCR-U14MH: SK Volejbal Kolín\, z.s.-Tělocvičná jednota Sokol Česká 
 Třebová
END:VEVENT
BEGIN:VEVENT
UID:61326163-3639-4239-b834-393265366265
DTSTAMP:20260423T111511Z
DESCRIPTION:8/8 TJ Slavia HK - Tělocvičná jednota Sokol Česká Třebová 2:0 (
 11\,5)
DTSTART;TZID=Europe/Berlin:20240414T160000
DTEND;TZID=Europe/Berlin:20240414T180000
LOCATION:TJ Slavia Hradec Králové\, Víta Nejedlého 1216 Hradec Králové
SUMMARY:MCR-U14MH: TJ Slavia HK-Tělocvičná jednota Sokol Česká Třebová
END:VEVENT
END:VCALENDAR
