BEGIN:VCALENDAR
VERSION:2.0
PRODID:-//Tělovýchovná jednota Spartak Pelhřimov, z.s.85190//NONSGML kigkonsult.se iCalcreator 2.41.80//
CALSCALE:GREGORIAN
UID:30373234-3135-4133-b962-623965323137
BEGIN:VEVENT
UID:30336166-3531-4661-b438-336537636663
DTSTAMP:20260422T014838Z
DESCRIPTION:1/1 Spartak Pelhřimov - ABC Braník 0:2 (-22\,-14)
DTSTART;TZID=Europe/Berlin:20240323T090000
DTEND;TZID=Europe/Berlin:20240323T110000
LOCATION:Základní škola Pelhřimov\, Osvobození\, Osvobození 1881 Pelhřimov
SUMMARY:MCR-U14Z-1FB: Spartak Pelhřimov-ABC Braník
END:VEVENT
BEGIN:VEVENT
UID:37363435-3936-4030-a361-666265613732
DTSTAMP:20260422T014838Z
DESCRIPTION:3/3 Slavia H.Králové - Spartak Pelhřimov 2:1 (18\,-19\,10)
DTSTART;TZID=Europe/Berlin:20240323T113000
DTEND;TZID=Europe/Berlin:20240323T133000
LOCATION:TJ Slavia Hradec Králové\, Víta Nejedlého 1216 Hradec Králové
SUMMARY:MCR-U14Z-1FB: Slavia H.Králové-Spartak Pelhřimov
END:VEVENT
BEGIN:VEVENT
UID:61383863-3033-4538-b437-383534323430
DTSTAMP:20260422T014838Z
DESCRIPTION:1/1 TJ Jiskra Havl.Brod - Spartak Pelhřimov 2:0 (8\,10)
DTSTART;TZID=Europe/Berlin:20240323T140000
DTEND;TZID=Europe/Berlin:20240323T160000
LOCATION:Sportovní hala TJ Jiskra\, Ledečská 3028 Havlíčkův Brod
SUMMARY:MCR-U14Z-1FF: TJ Jiskra Havl.Brod-Spartak Pelhřimov
END:VEVENT
BEGIN:VEVENT
UID:36383265-6664-4261-b837-623633363838
DTSTAMP:20260422T014838Z
DESCRIPTION:2/2 Znojmo - Přímětice - Spartak Pelhřimov 2:0 (18\,23)
DTSTART;TZID=Europe/Berlin:20240323T151500
DTEND;TZID=Europe/Berlin:20240323T171500
LOCATION:Tělocvična ZŠ Prokopa Diviše a MŠ\, Ke Škole 569 Znojmo - Přímětic
 e
SUMMARY:MCR-U14Z-1FF: Znojmo - Přímětice-Spartak Pelhřimov
END:VEVENT
BEGIN:VEVENT
UID:63396562-6133-4561-b639-386436363932
DTSTAMP:20260422T014838Z
DESCRIPTION:2/2 Spartak Pelhřimov - Škola volejbalu 2:1 (20\,-21\,12)
DTSTART;TZID=Europe/Berlin:20240324T101500
DTEND;TZID=Europe/Berlin:20240324T121500
LOCATION:Základní škola Pelhřimov\, Osvobození\, Osvobození 1881 Pelhřimov
SUMMARY:MCR-U14Z-1F3: Spartak Pelhřimov-Škola volejbalu
END:VEVENT
BEGIN:VEVENT
UID:65356266-3866-4137-b336-363838366563
DTSTAMP:20260422T014838Z
DESCRIPTION:1/1 S V B C - Spartak Pelhřimov 2:0 (16\,19)
DTSTART;TZID=Europe/Berlin:20240324T090000
DTEND;TZID=Europe/Berlin:20240324T110000
LOCATION:Sportovní hala Řevnice \, Školní 600 Řevnice
SUMMARY:MCR-U14Z-1F3: S V B C-Spartak Pelhřimov
END:VEVENT
END:VCALENDAR
