BEGIN:VCALENDAR
VERSION:2.0
PRODID:-//Tělocvičná jednota Sokol Pardubice I.85191//NONSGML kigkonsult.se iCalcreator 2.41.80//
CALSCALE:GREGORIAN
UID:62376663-3537-4134-b965-616338336237
BEGIN:VEVENT
UID:31363631-3865-4462-a133-646230393262
DTSTAMP:20260422T014839Z
DESCRIPTION:2/2 Sokol Pardubice I. - Volejbal Kolín 2:0 (23\,19)
DTSTART;TZID=Europe/Berlin:20240323T120000
DTEND;TZID=Europe/Berlin:20240323T140000
LOCATION:Sokolovna\, Jiráskova 29 Pardubice - Zelené Předměstí
SUMMARY:MCR-U14Z-1DA: Sokol Pardubice I.-Volejbal Kolín
END:VEVENT
BEGIN:VEVENT
UID:33653033-3135-4634-b833-633934323831
DTSTAMP:20260422T014839Z
DESCRIPTION:1/1 VK Královo Pole - Sokol Pardubice I. 2:0 (14\,12)
DTSTART;TZID=Europe/Berlin:20240323T093000
DTEND;TZID=Europe/Berlin:20240323T113000
LOCATION:Sportovní gymnázium Ludvíka Daňka\, Botanická 63 Brno - Ponava
SUMMARY:MCR-U14Z-1DA: VK Královo Pole-Sokol Pardubice I.
END:VEVENT
BEGIN:VEVENT
UID:66336261-3963-4462-a539-643562613863
DTSTAMP:20260422T014839Z
DESCRIPTION:1/3 Sokol Pardubice I. - VoCe 0:2 (-18\,-19)
DTSTART;TZID=Europe/Berlin:20240324T101500
DTEND;TZID=Europe/Berlin:20240324T121500
LOCATION:Sokolovna\, Jiráskova 29 Pardubice - Zelené Předměstí
SUMMARY:MCR-U14Z-1DF: Sokol Pardubice I.-VoCe
END:VEVENT
BEGIN:VEVENT
UID:66633665-3561-4637-b262-376165356666
DTSTAMP:20260422T014839Z
DESCRIPTION:1/2 VK Brno B - Sokol Pardubice I. 0:2 (-7\,-18)
DTSTART;TZID=Europe/Berlin:20240323T181500
DTEND;TZID=Europe/Berlin:20240323T201500
LOCATION:ZŠ Vejrostova\, Vejrostova 1066 Brno - Bystrc
SUMMARY:MCR-U14Z-1DF: VK Brno B-Sokol Pardubice I.
END:VEVENT
BEGIN:VEVENT
UID:63393833-3862-4637-b635-306163313836
DTSTAMP:20260422T014839Z
DESCRIPTION:2/2 Sokol Pardubice I. - Dolní Újezd 0:2 (-14\,-19)
DTSTART;TZID=Europe/Berlin:20240120T140000
DTEND;TZID=Europe/Berlin:20240120T160000
LOCATION:Sokolovna\, Jiráskova 29 Pardubice - Zelené Předměstí
SUMMARY:MCR-U14Z-1D2: Sokol Pardubice I.-Dolní Újezd
END:VEVENT
BEGIN:VEVENT
UID:61353838-3865-4734-b934-316365383836
DTSTAMP:20260422T014839Z
DESCRIPTION:1/1 Sokol N. Veselí - Sokol Pardubice I. 2:0 (10\,11)
DTSTART;TZID=Europe/Berlin:20240120T100000
DTEND;TZID=Europe/Berlin:20240120T120000
LOCATION:Víceúčelová sportovní hala Nové Veselí\, Žďárská 356 Nové Veselí
SUMMARY:MCR-U14Z-1D2: Sokol N. Veselí-Sokol Pardubice I.
END:VEVENT
END:VCALENDAR
