BEGIN:VCALENDAR
VERSION:2.0
PRODID:-//TJ Bižuterie Jablonec n/N A85330//NONSGML kigkonsult.se iCalcreator 2.41.80//
CALSCALE:GREGORIAN
UID:37366662-3631-4438-b861-303564313931
BEGIN:VEVENT
UID:37323839-6631-4235-a266-353038313833
DTSTAMP:20260422T231837Z
DESCRIPTION:1/1 Sportovní klub Hodkovice nad Mohelkou z.s. - TJ Bižuterie J
 ablonec n/N A 0:2 (-10\,-10)\nNový Bor
DTSTART;TZID=Europe/Berlin:20240908T120000
DTEND;TZID=Europe/Berlin:20240908T140000
LOCATION:Sportovní hala Hodkovice nad Mohelkou\, Sportovní 588 Hodkovice na
 d Mohelkou
SUMMARY:LIB-U22Z-K-A: Sportovní klub Hodkovice nad Mohelkou z.s.-TJ Bižuter
 ie Jablonec n/N A
END:VEVENT
BEGIN:VEVENT
UID:64616366-3864-4433-a638-366130343339
DTSTAMP:20260422T231837Z
DESCRIPTION:1/3 TJ Bižuterie Jablonec n/N B - TJ Bižuterie Jablonec n/N A 0
 :2 (-12\,-18)\nNový Bor
DTSTART;TZID=Europe/Berlin:20240908T130000
DTEND;TZID=Europe/Berlin:20240908T150000
LOCATION:Městská sportovní hala\, U Přehrady 4747 Jablonec nad Nisou
SUMMARY:LIB-U22Z-K-A: TJ Bižuterie Jablonec n/N B-TJ Bižuterie Jablonec n/N
  A
END:VEVENT
BEGIN:VEVENT
UID:35363439-3838-4566-a337-343638653736
DTSTAMP:20260422T231837Z
DESCRIPTION:1/5 TJ Lokomotiva Česká Lípa\, z.s. - TJ Bižuterie Jablonec n/N
  A 0:2 (-8\,-19)\nNový Bor
DTSTART;TZID=Europe/Berlin:20240908T140000
DTEND;TZID=Europe/Berlin:20240908T160000
LOCATION:ZŠ Lada\, Šluknovská 2904 Česká Lípa
SUMMARY:LIB-U22Z-K-A: TJ Lokomotiva Česká Lípa\, z.s.-TJ Bižuterie Jablonec
  n/N A
END:VEVENT
END:VCALENDAR
