BEGIN:VCALENDAR
VERSION:2.0
PRODID:-//SK Ještědská Liberec z.s. "B"85363//NONSGML kigkonsult.se iCalcreator 2.41.80//
CALSCALE:GREGORIAN
UID:34623364-6333-4135-b431-326330393732
BEGIN:VEVENT
UID:35356539-3130-4162-a161-613235313866
DTSTAMP:20260421T210049Z
DESCRIPTION:1/1 SK Ještědská Liberec z.s. 'B' - Beach Volley Vratislavice n
 . N. z.s. 0:2 (-5\,-21)
DTSTART;TZID=Europe/Berlin:20240915T090000
DTEND;TZID=Europe/Berlin:20240915T110000
LOCATION:ZŠ Ještědská\, Ještědská 354 Liberec - Liberec VIII-Dolní Hanychov
SUMMARY:LIB-U16Z-K-D: SK Ještědská Liberec z.s. 'B'-Beach Volley Vratislavi
 ce n. N. z.s.
END:VEVENT
BEGIN:VEVENT
UID:66626562-3536-4263-a130-336164303237
DTSTAMP:20260421T210049Z
DESCRIPTION:4/4 Beach Volley Vratislavice B - SK Ještědská Liberec z.s. 'B'
  2:1 (20\,-11\,9)
DTSTART;TZID=Europe/Berlin:20240915T120000
DTEND;TZID=Europe/Berlin:20240915T140000
LOCATION:, Nad Školou 278 Liberec - Liberec XXX-Vratislavice nad Nisou
SUMMARY:LIB-U16Z-K-D: Beach Volley Vratislavice B-SK Ještědská Liberec z.s.
  'B'
END:VEVENT
BEGIN:VEVENT
UID:30336433-3031-4463-b366-376137396538
DTSTAMP:20260421T210049Z
DESCRIPTION:5/5 TJ Bižuterie Jablonec n/N A - SK Ještědská Liberec z.s. 'B'
  2:0 (19\,8)
DTSTART;TZID=Europe/Berlin:20240915T130000
DTEND;TZID=Europe/Berlin:20240915T150000
LOCATION:Městská sportovní hala\, U Přehrady 4747 Jablonec nad Nisou
SUMMARY:LIB-U16Z-K-D: TJ Bižuterie Jablonec n/N A-SK Ještědská Liberec z.s.
  'B'
END:VEVENT
BEGIN:VEVENT
UID:36303365-6566-4533-a666-663634313335
DTSTAMP:20260421T210049Z
DESCRIPTION:1/1 Schrödingerův institut Varnsdorf - SK Ještědská Liberec z.s
 . 'B' 2:0 (9\,8)
DTSTART;TZID=Europe/Berlin:20241006T090000
DTEND;TZID=Europe/Berlin:20241006T110000
LOCATION:, Edisonova 2821 Varnsdorf
SUMMARY:LIB-U16Z-K-G: Schrödingerův institut Varnsdorf-SK Ještědská Liberec
  z.s. 'B'
END:VEVENT
BEGIN:VEVENT
UID:38616330-3965-4437-b563-656135313533
DTSTAMP:20260421T210049Z
DESCRIPTION:3/7 VK Dukla Liberec - SK Ještědská Liberec z.s. 'B' 2:0 (3\,17
 )
DTSTART;TZID=Europe/Berlin:20241006T110000
DTEND;TZID=Europe/Berlin:20241006T130000
LOCATION:Dukla Liberec\, Jeronýmova 558 Liberec - Liberec VII-Horní Růžodol
SUMMARY:LIB-U16Z-K-G: VK Dukla Liberec-SK Ještědská Liberec z.s. 'B'
END:VEVENT
BEGIN:VEVENT
UID:65623464-3435-4335-b432-636262373438
DTSTAMP:20260421T210049Z
DESCRIPTION:6/16 TJ SLAVIA Liberec - SK Ještědská Liberec z.s. 'B' 2:1 (23\
 ,-25\,9)
DTSTART;TZID=Europe/Berlin:20241006T140000
DTEND;TZID=Europe/Berlin:20241006T160000
LOCATION:Základní škola\, Liberec\, Sokolovská \, Sokolovská 328 Liberec - 
 Liberec XIII-Nové Pavlovice
SUMMARY:LIB-U16Z-K-G: TJ SLAVIA Liberec-SK Ještědská Liberec z.s. 'B'
END:VEVENT
BEGIN:VEVENT
UID:31613231-6238-4430-a339-626265646135
DTSTAMP:20260421T210049Z
DESCRIPTION:1/1 TJ Lokomotiva Česká Lípa\, z.s. - SK Ještědská Liberec z.s.
  'B' 2:1 (-12\,17\,11)
DTSTART;TZID=Europe/Berlin:20241208T090000
DTEND;TZID=Europe/Berlin:20241208T110000
LOCATION:ZŠ Lada\, Šluknovská 2904 Česká Lípa
SUMMARY:LIB-U16Z-1-4L: TJ Lokomotiva Česká Lípa\, z.s.-SK Ještědská Liberec
  z.s. 'B'
END:VEVENT
BEGIN:VEVENT
UID:32313832-3832-4537-b035-386336386664
DTSTAMP:20260421T210049Z
DESCRIPTION:3/3 SK Osečná\, z.s. - SK Ještědská Liberec z.s. 'B' 0:2 (-12\,
 -18)
DTSTART;TZID=Europe/Berlin:20241208T110000
DTEND;TZID=Europe/Berlin:20241208T130000
LOCATION:, Školní 63 Osečná
SUMMARY:LIB-U16Z-1-4L: SK Osečná\, z.s.-SK Ještědská Liberec z.s. 'B'
END:VEVENT
BEGIN:VEVENT
UID:63326630-3766-4963-b932-613830363963
DTSTAMP:20260421T210049Z
DESCRIPTION:6/6 Sportovní klub ToRiK Doksy\, z.s. - SK Ještědská Liberec z.
 s. 'B' 0:2 (-8\,-11)
DTSTART;TZID=Europe/Berlin:20241208T140000
DTEND;TZID=Europe/Berlin:20241208T160000
LOCATION:ZŠ K. H. Máchy Doksy\, Valdštejnská 253 Doksy
SUMMARY:LIB-U16Z-1-4L: Sportovní klub ToRiK Doksy\, z.s.-SK Ještědská Liber
 ec z.s. 'B'
END:VEVENT
BEGIN:VEVENT
UID:64323434-3761-4231-a232-326237333330
DTSTAMP:20260421T210049Z
DESCRIPTION:1/1 SK Ještědská Liberec z.s. 'B' - Sportovní klub ToRiK Doksy\
 , z.s. 2:0 (0\,0)
DTSTART;TZID=Europe/Berlin:20250105T090000
DTEND;TZID=Europe/Berlin:20250105T110000
LOCATION:ZŠ Ještědská\, Ještědská 354 Liberec - Liberec VIII-Dolní Hanychov
SUMMARY:LIB-U16Z-2-4L: SK Ještědská Liberec z.s. 'B'-Sportovní klub ToRiK D
 oksy\, z.s.
END:VEVENT
BEGIN:VEVENT
UID:37396339-6564-4530-a137-626666316137
DTSTAMP:20260421T210049Z
DESCRIPTION:4/4 SK Ještědská Liberec z.s. 'B' - SK Osečná\, z.s. 0:2 (-23\,
 -19)
DTSTART;TZID=Europe/Berlin:20250105T120000
DTEND;TZID=Europe/Berlin:20250105T140000
LOCATION:ZŠ Ještědská\, Ještědská 354 Liberec - Liberec VIII-Dolní Hanychov
SUMMARY:LIB-U16Z-2-4L: SK Ještědská Liberec z.s. 'B'-SK Osečná\, z.s.
END:VEVENT
BEGIN:VEVENT
UID:30393561-3433-4166-a330-616563653863
DTSTAMP:20260421T210049Z
DESCRIPTION:5/5 Beach Volley Vratislavice B - SK Ještědská Liberec z.s. 'B'
  1:2 (24\,-17\,-10)
DTSTART;TZID=Europe/Berlin:20250105T130000
DTEND;TZID=Europe/Berlin:20250105T150000
LOCATION:, Nad Školou 278 Liberec - Liberec XXX-Vratislavice nad Nisou
SUMMARY:LIB-U16Z-2-4L: Beach Volley Vratislavice B-SK Ještědská Liberec z.s
 . 'B'
END:VEVENT
BEGIN:VEVENT
UID:34633336-3831-4566-a666-613530303965
DTSTAMP:20260421T210049Z
DESCRIPTION:6/6 SK Ještědská Liberec z.s. 'B' - Sportovní klub ToRiK Doksy\
 , z.s. 2:0 (9\,16)
DTSTART;TZID=Europe/Berlin:20250119T140000
DTEND;TZID=Europe/Berlin:20250119T160000
LOCATION:ZŠ Ještědská\, Ještědská 354 Liberec - Liberec VIII-Dolní Hanychov
SUMMARY:LIB-U16Z-3-4L: SK Ještědská Liberec z.s. 'B'-Sportovní klub ToRiK D
 oksy\, z.s.
END:VEVENT
BEGIN:VEVENT
UID:37313664-6266-4330-a666-336361303232
DTSTAMP:20260421T210049Z
DESCRIPTION:2/2 TJ SLAVIA Liberec - SK Ještědská Liberec z.s. 'B' 2:0 (15\,
 20)
DTSTART;TZID=Europe/Berlin:20250119T100000
DTEND;TZID=Europe/Berlin:20250119T120000
LOCATION:Základní škola\, Liberec\, Sokolovská \, Sokolovská 328 Liberec - 
 Liberec XIII-Nové Pavlovice
SUMMARY:LIB-U16Z-3-4L: TJ SLAVIA Liberec-SK Ještědská Liberec z.s. 'B'
END:VEVENT
BEGIN:VEVENT
UID:36623037-3631-4537-a633-383736333636
DTSTAMP:20260421T210049Z
DESCRIPTION:4/4 SK Osečná\, z.s. - SK Ještědská Liberec z.s. 'B' 2:1 (22\,-
 19\,12)
DTSTART;TZID=Europe/Berlin:20250119T120000
DTEND;TZID=Europe/Berlin:20250119T140000
LOCATION:, Školní 63 Osečná
SUMMARY:LIB-U16Z-3-4L: SK Osečná\, z.s.-SK Ještědská Liberec z.s. 'B'
END:VEVENT
BEGIN:VEVENT
UID:33373333-3261-4131-a237-623835373065
DTSTAMP:20260421T210049Z
DESCRIPTION:1/3 SK Ještědská Liberec z.s. 'B' - SK Osečná\, z.s. 2:0 (16\,2
 2)
DTSTART;TZID=Europe/Berlin:20250202T090000
DTEND;TZID=Europe/Berlin:20250202T110000
LOCATION:ZŠ Ještědská\, Ještědská 354 Liberec - Liberec VIII-Dolní Hanychov
SUMMARY:LIB-U16Z-4-4L: SK Ještědská Liberec z.s. 'B'-SK Osečná\, z.s.
END:VEVENT
BEGIN:VEVENT
UID:34333339-3137-4362-b938-323932373361
DTSTAMP:20260421T210049Z
DESCRIPTION:4/12 SK Ještědská Liberec z.s. 'B' - Sportovní klub ToRiK Doksy
 \, z.s.
DTSTART;TZID=Europe/Berlin:20250202T120000
DTEND;TZID=Europe/Berlin:20250202T140000
LOCATION:ZŠ Ještědská\, Ještědská 354 Liberec - Liberec VIII-Dolní Hanychov
SUMMARY:LIB-U16Z-4-4L: SK Ještědská Liberec z.s. 'B'-Sportovní klub ToRiK D
 oksy\, z.s.
END:VEVENT
BEGIN:VEVENT
UID:61343861-3431-4030-b437-633438386263
DTSTAMP:20260421T210049Z
DESCRIPTION:5/15 Beach Volley Vratislavice B - SK Ještědská Liberec z.s. 'B
 ' 2:0 (15\,10)
DTSTART;TZID=Europe/Berlin:20250202T130000
DTEND;TZID=Europe/Berlin:20250202T150000
LOCATION:, Nad Školou 278 Liberec - Liberec XXX-Vratislavice nad Nisou
SUMMARY:LIB-U16Z-4-4L: Beach Volley Vratislavice B-SK Ještědská Liberec z.s
 . 'B'
END:VEVENT
BEGIN:VEVENT
UID:65363730-3432-4933-b137-326439306632
DTSTAMP:20260421T210049Z
DESCRIPTION:1/1 SK Ještědská Liberec z.s. 'B' - Sportovní klub ToRiK Doksy\
 , z.s. 2:0 (13\,4)
DTSTART;TZID=Europe/Berlin:20250223T090000
DTEND;TZID=Europe/Berlin:20250223T110000
LOCATION:ZŠ Ještědská\, Ještědská 354 Liberec - Liberec VIII-Dolní Hanychov
SUMMARY:LIB-U16Z-5-4L: SK Ještědská Liberec z.s. 'B'-Sportovní klub ToRiK D
 oksy\, z.s.
END:VEVENT
BEGIN:VEVENT
UID:61393038-6365-4739-a531-313831643232
DTSTAMP:20260421T210049Z
DESCRIPTION:4/4 SK Ještědská Liberec z.s. 'B' - SK Osečná\, z.s. 1:2 (-17\,
 20\,-7)
DTSTART;TZID=Europe/Berlin:20250223T120000
DTEND;TZID=Europe/Berlin:20250223T140000
LOCATION:ZŠ Ještědská\, Ještědská 354 Liberec - Liberec VIII-Dolní Hanychov
SUMMARY:LIB-U16Z-5-4L: SK Ještědská Liberec z.s. 'B'-SK Osečná\, z.s.
END:VEVENT
BEGIN:VEVENT
UID:63386631-6562-4164-a432-346237646333
DTSTAMP:20260421T210049Z
DESCRIPTION:5/5 TJ Lokomotiva Česká Lípa\, z.s. - SK Ještědská Liberec z.s.
  'B' 0:2 (-17\,-18)
DTSTART;TZID=Europe/Berlin:20250223T130000
DTEND;TZID=Europe/Berlin:20250223T150000
LOCATION:ZŠ Lada\, Šluknovská 2904 Česká Lípa
SUMMARY:LIB-U16Z-5-4L: TJ Lokomotiva Česká Lípa\, z.s.-SK Ještědská Liberec
  z.s. 'B'
END:VEVENT
BEGIN:VEVENT
UID:61393230-3061-4135-a635-303565393162
DTSTAMP:20260421T210049Z
DESCRIPTION:1/1 Sportovní klub ToRiK Doksy\, z.s. - SK Ještědská Liberec z.
 s. 'B' 0:2 (-8\,-14)
DTSTART;TZID=Europe/Berlin:20250316T090000
DTEND;TZID=Europe/Berlin:20250316T110000
LOCATION:ZŠ K. H. Máchy Doksy\, Valdštejnská 253 Doksy
SUMMARY:LIB-U16Z-F-4L: Sportovní klub ToRiK Doksy\, z.s.-SK Ještědská Liber
 ec z.s. 'B'
END:VEVENT
BEGIN:VEVENT
UID:32383139-6261-4330-b664-663061386138
DTSTAMP:20260421T210049Z
DESCRIPTION:3/3 Beach Volley Vratislavice B - SK Ještědská Liberec z.s. 'B'
  1:2 (20\,-17\,-9)
DTSTART;TZID=Europe/Berlin:20250316T110000
DTEND;TZID=Europe/Berlin:20250316T130000
LOCATION:, Nad Školou 278 Liberec - Liberec XXX-Vratislavice nad Nisou
SUMMARY:LIB-U16Z-F-4L: Beach Volley Vratislavice B-SK Ještědská Liberec z.s
 . 'B'
END:VEVENT
BEGIN:VEVENT
UID:63333337-6465-4961-b565-336634613362
DTSTAMP:20260421T210049Z
DESCRIPTION:6/6 SK Osečná\, z.s. - SK Ještědská Liberec z.s. 'B' 0:2 (-22\,
 -19)
DTSTART;TZID=Europe/Berlin:20250316T140000
DTEND;TZID=Europe/Berlin:20250316T160000
LOCATION:, Školní 63 Osečná
SUMMARY:LIB-U16Z-F-4L: SK Osečná\, z.s.-SK Ještědská Liberec z.s. 'B'
END:VEVENT
END:VCALENDAR
