BEGIN:VCALENDAR
VERSION:2.0
PRODID:-//Tělocvičná Jednota Sokol Vratimov85422//NONSGML kigkonsult.se iCalcreator 2.41.80//
CALSCALE:GREGORIAN
UID:36343162-3261-4063-a336-396632633839
BEGIN:VEVENT
UID:62613630-6432-4637-a235-643034666263
DTSTAMP:20260422T002602Z
DESCRIPTION:3/11 TJ Sokol Vratimov - SK Slezan Orlová B 0:3 (-23\,-19\,-15)
DTSTART;TZID=Europe/Berlin:20241005T100000
DTEND;TZID=Europe/Berlin:20241005T120000
LOCATION:Sokolovna\, Sokolská 290 Vratimov
SUMMARY:MS-U18ZA: TJ Sokol Vratimov-SK Slezan Orlová B
END:VEVENT
BEGIN:VEVENT
UID:30343533-3666-4037-a239-663164656537
DTSTAMP:20260422T002602Z
DESCRIPTION:4/15 TJ Sokol Vratimov - SK Slezan Orlová B 1:3 (-8\,12\,-13\,-
 22)
DTSTART;TZID=Europe/Berlin:20241005T140000
DTEND;TZID=Europe/Berlin:20241005T160000
LOCATION:Sokolovna\, Sokolská 290 Vratimov
SUMMARY:MS-U18ZA: TJ Sokol Vratimov-SK Slezan Orlová B
END:VEVENT
BEGIN:VEVENT
UID:63316236-3234-4034-b565-353236626135
DTSTAMP:20260422T002602Z
DESCRIPTION:7/26 TJ Sokol Vratimov - TJ Sokol Bohumín 2:3 (-19\,-22\,16\,22
 \,-11)
DTSTART;TZID=Europe/Berlin:20250118T100000
DTEND;TZID=Europe/Berlin:20250118T120000
LOCATION:Sokolovna\, Sokolská 290 Vratimov
SUMMARY:MS-U18ZA: TJ Sokol Vratimov-TJ Sokol Bohumín
END:VEVENT
BEGIN:VEVENT
UID:64636664-3864-4661-a165-623835363832
DTSTAMP:20260422T002602Z
DESCRIPTION:8/30 TJ Sokol Vratimov - TJ Sokol Bohumín 3:0 (17\,19\,19)
DTSTART;TZID=Europe/Berlin:20250118T140000
DTEND;TZID=Europe/Berlin:20250118T160000
LOCATION:Sokolovna\, Sokolská 290 Vratimov
SUMMARY:MS-U18ZA: TJ Sokol Vratimov-TJ Sokol Bohumín
END:VEVENT
BEGIN:VEVENT
UID:62333436-3834-4235-a665-336361393338
DTSTAMP:20260422T002602Z
DESCRIPTION:13/52 TJ Sokol Vratimov - VK Karviná 0:3 (-9\,-11\,-17)
DTSTART;TZID=Europe/Berlin:20241123T100000
DTEND;TZID=Europe/Berlin:20241123T120000
LOCATION:Sokolovna\, Sokolská 290 Vratimov
SUMMARY:MS-U18ZA: TJ Sokol Vratimov-VK Karviná
END:VEVENT
BEGIN:VEVENT
UID:62366534-6565-4431-a137-393765363032
DTSTAMP:20260422T002602Z
DESCRIPTION:14/56 TJ Sokol Vratimov - VK Karviná 0:3 (-12\,-11\,-17)
DTSTART;TZID=Europe/Berlin:20241123T140000
DTEND;TZID=Europe/Berlin:20241123T160000
LOCATION:Sokolovna\, Sokolská 290 Vratimov
SUMMARY:MS-U18ZA: TJ Sokol Vratimov-VK Karviná
END:VEVENT
BEGIN:VEVENT
UID:39623064-6532-4666-b766-373061336666
DTSTAMP:20260422T002602Z
DESCRIPTION:15/58 TJ Sokol Vratimov - VKB Frýdlant nad Ostravicí 0:3 (-15\,
 -13\,-11)
DTSTART;TZID=Europe/Berlin:20241130T100000
DTEND;TZID=Europe/Berlin:20241130T120000
LOCATION:Sokolovna\, Sokolská 290 Vratimov
SUMMARY:MS-U18ZA: TJ Sokol Vratimov-VKB Frýdlant nad Ostravicí
END:VEVENT
BEGIN:VEVENT
UID:65323665-6239-4064-b630-633066626564
DTSTAMP:20260422T002602Z
DESCRIPTION:16/62 TJ Sokol Vratimov - VKB Frýdlant nad Ostravicí 0:3 (-13\,
 -9\,-6)
DTSTART;TZID=Europe/Berlin:20241130T140000
DTEND;TZID=Europe/Berlin:20241130T160000
LOCATION:Sokolovna\, Sokolská 290 Vratimov
SUMMARY:MS-U18ZA: TJ Sokol Vratimov-VKB Frýdlant nad Ostravicí
END:VEVENT
BEGIN:VEVENT
UID:31363438-3233-4262-b632-313834646634
DTSTAMP:20260422T002602Z
DESCRIPTION:19/75 TJ Sokol Vratimov - TJ Sokol Frýdek - Místek B 0:3 (-13\,
 -13\,-16)
DTSTART;TZID=Europe/Berlin:20241214T100000
DTEND;TZID=Europe/Berlin:20241214T120000
LOCATION:Sokolovna\, Sokolská 290 Vratimov
SUMMARY:MS-U18ZA: TJ Sokol Vratimov-TJ Sokol Frýdek - Místek B
END:VEVENT
BEGIN:VEVENT
UID:36313731-3536-4435-b836-666330646539
DTSTAMP:20260422T002602Z
DESCRIPTION:20/79 TJ Sokol Vratimov - TJ Sokol Frýdek - Místek B 1:3 (19\,-
 18\,-14\,-5)
DTSTART;TZID=Europe/Berlin:20241214T140000
DTEND;TZID=Europe/Berlin:20241214T160000
LOCATION:Sokolovna\, Sokolská 290 Vratimov
SUMMARY:MS-U18ZA: TJ Sokol Vratimov-TJ Sokol Frýdek - Místek B
END:VEVENT
BEGIN:VEVENT
UID:66633161-6662-4536-a230-653561363566
DTSTAMP:20260422T002602Z
DESCRIPTION:23/92 TJ Sokol Vratimov - SK Slezan Orlová A 3:2 (22\,-20\,-22\
 ,17\,12)
DTSTART;TZID=Europe/Berlin:20250125T090000
DTEND;TZID=Europe/Berlin:20250125T110000
LOCATION:Sokolovna\, Sokolská 290 Vratimov
SUMMARY:MS-U18ZA: TJ Sokol Vratimov-SK Slezan Orlová A
END:VEVENT
BEGIN:VEVENT
UID:65306436-3535-4439-b534-336437323131
DTSTAMP:20260422T002602Z
DESCRIPTION:24/96 TJ Sokol Vratimov - SK Slezan Orlová A 3:2 (-21\,20\,-15\
 ,17\,12)
DTSTART;TZID=Europe/Berlin:20250125T130000
DTEND;TZID=Europe/Berlin:20250125T150000
LOCATION:Sokolovna\, Sokolská 290 Vratimov
SUMMARY:MS-U18ZA: TJ Sokol Vratimov-SK Slezan Orlová A
END:VEVENT
BEGIN:VEVENT
UID:36366634-3336-4930-b462-353830373463
DTSTAMP:20260422T002602Z
DESCRIPTION:25/97 TJ Sokol Vratimov - VAM Havířov 0:3 (-21\,-18\,-12)
DTSTART;TZID=Europe/Berlin:20250201T100000
DTEND;TZID=Europe/Berlin:20250201T120000
LOCATION:Sokolovna\, Sokolská 290 Vratimov
SUMMARY:MS-U18ZA: TJ Sokol Vratimov-VAM Havířov
END:VEVENT
BEGIN:VEVENT
UID:35326461-3338-4432-a163-663037356631
DTSTAMP:20260422T002602Z
DESCRIPTION:26/101 TJ Sokol Vratimov - VAM Havířov 0:3 (-16\,-18\,-21)
DTSTART;TZID=Europe/Berlin:20250201T140000
DTEND;TZID=Europe/Berlin:20250201T160000
LOCATION:Sokolovna\, Sokolská 290 Vratimov
SUMMARY:MS-U18ZA: TJ Sokol Vratimov-VAM Havířov
END:VEVENT
BEGIN:VEVENT
UID:35353635-3437-4534-b163-343237616434
DTSTAMP:20260422T002602Z
DESCRIPTION:1/2 VKB Frýdlant nad Ostravicí - TJ Sokol Vratimov 3:0 (9\,5\,1
 4)
DTSTART;TZID=Europe/Berlin:20240921T100000
DTEND;TZID=Europe/Berlin:20240921T120000
LOCATION:Sokolovna\, Hlavní 401 Frýdlant nad Ostravicí - Frýdlant
SUMMARY:MS-U18ZA: VKB Frýdlant nad Ostravicí-TJ Sokol Vratimov
END:VEVENT
BEGIN:VEVENT
UID:63386565-3936-4138-a437-356161366232
DTSTAMP:20260422T002602Z
DESCRIPTION:2/6 VKB Frýdlant nad Ostravicí - TJ Sokol Vratimov 3:0 (14\,15\
 ,6)
DTSTART;TZID=Europe/Berlin:20240921T140000
DTEND;TZID=Europe/Berlin:20240921T160000
LOCATION:Sokolovna\, Hlavní 401 Frýdlant nad Ostravicí - Frýdlant
SUMMARY:MS-U18ZA: VKB Frýdlant nad Ostravicí-TJ Sokol Vratimov
END:VEVENT
BEGIN:VEVENT
UID:62393136-3333-4935-b030-633333393964
DTSTAMP:20260422T002602Z
DESCRIPTION:5/19 TJ Sokol Frýdek - Místek B - TJ Sokol Vratimov 3:0 (6\,4\,
 9)
DTSTART;TZID=Europe/Berlin:20241012T100000
DTEND;TZID=Europe/Berlin:20241012T120000
LOCATION:Sokolovna Frýdek-Místek\, Novodvorská 667 Frýdek-Místek - Frýdek
SUMMARY:MS-U18ZA: TJ Sokol Frýdek - Místek B-TJ Sokol Vratimov
END:VEVENT
BEGIN:VEVENT
UID:63373862-3762-4734-a530-333038646335
DTSTAMP:20260422T002602Z
DESCRIPTION:6/23 TJ Sokol Frýdek - Místek B - TJ Sokol Vratimov 3:0 (16\,11
 \,15)
DTSTART;TZID=Europe/Berlin:20241012T140000
DTEND;TZID=Europe/Berlin:20241012T160000
LOCATION:Sokolovna Frýdek-Místek\, Novodvorská 667 Frýdek-Místek - Frýdek
SUMMARY:MS-U18ZA: TJ Sokol Frýdek - Místek B-TJ Sokol Vratimov
END:VEVENT
BEGIN:VEVENT
UID:33656437-3638-4332-a463-353232303864
DTSTAMP:20260422T002602Z
DESCRIPTION:9/36 SK Slezan Orlová A - TJ Sokol Vratimov 0:3 (-22\,-10\,-18)
DTSTART;TZID=Europe/Berlin:20241102T100000
DTEND;TZID=Europe/Berlin:20241102T120000
LOCATION:tělocvična ZŠ K.Dvořáčka\, Karla Dvořáčka 1230 Orlová - Lutyně
SUMMARY:MS-U18ZA: SK Slezan Orlová A-TJ Sokol Vratimov
END:VEVENT
BEGIN:VEVENT
UID:30383137-3461-4532-b963-343635616534
DTSTAMP:20260422T002602Z
DESCRIPTION:10/40 SK Slezan Orlová A - TJ Sokol Vratimov 3:0 (15\,18\,26)
DTSTART;TZID=Europe/Berlin:20241102T140000
DTEND;TZID=Europe/Berlin:20241102T160000
LOCATION:tělocvična ZŠ K.Dvořáčka\, Karla Dvořáčka 1230 Orlová - Lutyně
SUMMARY:MS-U18ZA: SK Slezan Orlová A-TJ Sokol Vratimov
END:VEVENT
BEGIN:VEVENT
UID:65373339-3065-4836-b538-373339336132
DTSTAMP:20260422T002602Z
DESCRIPTION:11/41 VAM Havířov - TJ Sokol Vratimov 3:0 (9\,13\,15)
DTSTART;TZID=Europe/Berlin:20241109T090000
DTEND;TZID=Europe/Berlin:20241109T110000
LOCATION:Sportovní hala Žákovská\, Komunardů 1548 Havířov - Město
SUMMARY:MS-U18ZA: VAM Havířov-TJ Sokol Vratimov
END:VEVENT
BEGIN:VEVENT
UID:35393866-3431-4630-b838-353062356430
DTSTAMP:20260422T002602Z
DESCRIPTION:12/45 VAM Havířov - TJ Sokol Vratimov 3:0 (13\,16\,17)
DTSTART;TZID=Europe/Berlin:20241109T120000
DTEND;TZID=Europe/Berlin:20241109T140000
LOCATION:Sportovní hala Žákovská\, Komunardů 1548 Havířov - Město
SUMMARY:MS-U18ZA: VAM Havířov-TJ Sokol Vratimov
END:VEVENT
BEGIN:VEVENT
UID:35366437-3062-4836-b430-313638343365
DTSTAMP:20260422T002602Z
DESCRIPTION:17/67 SK Slezan Orlová B - TJ Sokol Vratimov 3:1 (23\,19\,-22\,
 8)
DTSTART;TZID=Europe/Berlin:20241207T100000
DTEND;TZID=Europe/Berlin:20241207T120000
LOCATION:Sportovní hala Gymnázium Orlová\, Masarykova třída 1313 Orlová - L
 utyně
SUMMARY:MS-U18ZA: SK Slezan Orlová B-TJ Sokol Vratimov
END:VEVENT
BEGIN:VEVENT
UID:64643438-6530-4533-b030-393465353364
DTSTAMP:20260422T002602Z
DESCRIPTION:18/71 SK Slezan Orlová B - TJ Sokol Vratimov 3:0 (15\,16\,8)
DTSTART;TZID=Europe/Berlin:20241207T140000
DTEND;TZID=Europe/Berlin:20241207T160000
LOCATION:Sportovní hala Gymnázium Orlová\, Masarykova třída 1313 Orlová - L
 utyně
SUMMARY:MS-U18ZA: SK Slezan Orlová B-TJ Sokol Vratimov
END:VEVENT
BEGIN:VEVENT
UID:64633462-3236-4562-b066-313738373030
DTSTAMP:20260422T002602Z
DESCRIPTION:21/82 TJ Sokol Bohumín - TJ Sokol Vratimov 3:0 (9\,22\,20)
DTSTART;TZID=Europe/Berlin:20241026T100000
DTEND;TZID=Europe/Berlin:20241026T120000
LOCATION:ZŠ ČSA Bohumín\, Čs. armády 1026 Bohumín - Nový Bohumín
SUMMARY:MS-U18ZA: TJ Sokol Bohumín-TJ Sokol Vratimov
END:VEVENT
BEGIN:VEVENT
UID:30326363-3930-4736-a330-633236653730
DTSTAMP:20260422T002602Z
DESCRIPTION:22/86 TJ Sokol Bohumín - TJ Sokol Vratimov 1:3 (16\,-5\,-24\,-1
 6)
DTSTART;TZID=Europe/Berlin:20241026T140000
DTEND;TZID=Europe/Berlin:20241026T160000
LOCATION:ZŠ ČSA Bohumín\, Čs. armády 1026 Bohumín - Nový Bohumín
SUMMARY:MS-U18ZA: TJ Sokol Bohumín-TJ Sokol Vratimov
END:VEVENT
BEGIN:VEVENT
UID:30613162-3530-4663-b563-386132633739
DTSTAMP:20260422T002602Z
DESCRIPTION:27/108 VK Karviná - TJ Sokol Vratimov 3:0 (19\,9\,20)
DTSTART;TZID=Europe/Berlin:20250208T090000
DTEND;TZID=Europe/Berlin:20250208T110000
LOCATION:Tělocvična ZŠ Družby\, tř. Družby 1383 Karviná - Nové Město
SUMMARY:MS-U18ZA: VK Karviná-TJ Sokol Vratimov
END:VEVENT
BEGIN:VEVENT
UID:34363162-3065-4137-b637-623865366335
DTSTAMP:20260422T002602Z
DESCRIPTION:28/112 VK Karviná - TJ Sokol Vratimov 3:0 (11\,11\,15)
DTSTART;TZID=Europe/Berlin:20250208T130000
DTEND;TZID=Europe/Berlin:20250208T150000
LOCATION:Tělocvična ZŠ Družby\, tř. Družby 1383 Karviná - Nové Město
SUMMARY:MS-U18ZA: VK Karviná-TJ Sokol Vratimov
END:VEVENT
BEGIN:VEVENT
UID:64373531-3438-4566-a461-326535373761
DTSTAMP:20260422T002602Z
DESCRIPTION:5/5 TJ Sokol Vratimov - TJ Hlučín 2:3 (14\,-16\,21\,-14\,-11)
DTSTART;TZID=Europe/Berlin:20250315T100000
DTEND;TZID=Europe/Berlin:20250315T120000
LOCATION:Sokolovna\, Sokolská 290 Vratimov
SUMMARY:MS-U18Z-2F: TJ Sokol Vratimov-TJ Hlučín
END:VEVENT
BEGIN:VEVENT
UID:65366634-3966-4635-a666-323336343031
DTSTAMP:20260422T002602Z
DESCRIPTION:6/6 TJ Sokol Vratimov - TJ Hlučín 2:3 (17\,-21\,-23\,25\,-9)
DTSTART;TZID=Europe/Berlin:20250315T140000
DTEND;TZID=Europe/Berlin:20250315T160000
LOCATION:Sokolovna\, Sokolská 290 Vratimov
SUMMARY:MS-U18Z-2F: TJ Sokol Vratimov-TJ Hlučín
END:VEVENT
BEGIN:VEVENT
UID:64303161-3039-4733-b161-383933306539
DTSTAMP:20260422T002602Z
DESCRIPTION:1/1 TJ Hlučín - TJ Sokol Vratimov 2:3 (-21\,22\,-23\,10\,-12)
DTSTART;TZID=Europe/Berlin:20250301T090000
DTEND;TZID=Europe/Berlin:20250301T110000
LOCATION:, 21. dubna 105 Vřesina
SUMMARY:MS-U18Z-2F: TJ Hlučín-TJ Sokol Vratimov
END:VEVENT
BEGIN:VEVENT
UID:39613639-6534-4235-a665-396639376665
DTSTAMP:20260422T002602Z
DESCRIPTION:2/2 TJ Hlučín - TJ Sokol Vratimov 0:3 (-23\,-23\,-23)
DTSTART;TZID=Europe/Berlin:20250301T130000
DTEND;TZID=Europe/Berlin:20250301T150000
LOCATION:, 21. dubna 105 Vřesina
SUMMARY:MS-U18Z-2F: TJ Hlučín-TJ Sokol Vratimov
END:VEVENT
END:VCALENDAR
