BEGIN:VCALENDAR
VERSION:2.0
PRODID:-//Tělocvičná Jednota Sokol Vratimov85423//NONSGML kigkonsult.se iCalcreator 2.41.80//
CALSCALE:GREGORIAN
UID:61626530-3936-4532-b965-616231666163
BEGIN:VEVENT
UID:39313933-3337-4437-b132-333261336533
DTSTAMP:20260422T003933Z
DESCRIPTION:3/9 Vratimov - Ostrava 'B' 0:2 (-12\,-8)
DTSTART;TZID=Europe/Berlin:20240929T120000
DTEND;TZID=Europe/Berlin:20240929T140000
LOCATION:Sportovní hala Žákovská\, Komunardů 1548 Havířov - Město
SUMMARY:MS-U16Z-KVA: Vratimov-Ostrava 'B'
END:VEVENT
BEGIN:VEVENT
UID:65313864-3066-4039-b533-626538343336
DTSTAMP:20260422T003933Z
DESCRIPTION:5/14 Vratimov - VAM Havířov 0:2 (-11\,-8)
DTSTART;TZID=Europe/Berlin:20240929T150000
DTEND;TZID=Europe/Berlin:20240929T170000
LOCATION:Sportovní hala Žákovská\, Komunardů 1548 Havířov - Město
SUMMARY:MS-U16Z-KVA: Vratimov-VAM Havířov
END:VEVENT
BEGIN:VEVENT
UID:38306531-6639-4862-b739-623033646366
DTSTAMP:20260422T003933Z
DESCRIPTION:1/3 VKB Frýdlant 'A' - Vratimov 2:0 (5\,18)
DTSTART;TZID=Europe/Berlin:20240929T090000
DTEND;TZID=Europe/Berlin:20240929T110000
LOCATION:Sportovní hala Žákovská\, Komunardů 1548 Havířov - Město
SUMMARY:MS-U16Z-KVA: VKB Frýdlant 'A'-Vratimov
END:VEVENT
BEGIN:VEVENT
UID:39623436-3461-4330-b935-353564336531
DTSTAMP:20260422T003933Z
DESCRIPTION:2/4 Polanka 'B' - Vratimov 2:1 (-13\,13\,9)
DTSTART;TZID=Europe/Berlin:20240929T103000
DTEND;TZID=Europe/Berlin:20240929T123000
LOCATION:Sportovní hala Žákovská\, Komunardů 1548 Havířov - Město
SUMMARY:MS-U16Z-KVA: Polanka 'B'-Vratimov
END:VEVENT
BEGIN:VEVENT
UID:36613438-3738-4532-b162-636238666634
DTSTAMP:20260422T003933Z
DESCRIPTION:4/11 TJ Sokol F-M 'A' - Vratimov 2:0 (9\,4)
DTSTART;TZID=Europe/Berlin:20240929T133000
DTEND;TZID=Europe/Berlin:20240929T153000
LOCATION:Sportovní hala Žákovská\, Komunardů 1548 Havířov - Město
SUMMARY:MS-U16Z-KVA: TJ Sokol F-M 'A'-Vratimov
END:VEVENT
BEGIN:VEVENT
UID:36393361-3437-4334-b030-313835656134
DTSTAMP:20260422T003933Z
DESCRIPTION:1/1 Vratimov - TJ Sokol F-M 'C' 0:2 (-24\,-19)
DTSTART;TZID=Europe/Berlin:20241020T090000
DTEND;TZID=Europe/Berlin:20241020T110000
LOCATION:Sokolovna\, Sokolská 290 Vratimov
SUMMARY:MS-U16Z-T1F: Vratimov-TJ Sokol F-M 'C'
END:VEVENT
BEGIN:VEVENT
UID:64373039-3334-4366-b638-323536336439
DTSTAMP:20260422T003933Z
DESCRIPTION:4/4 Vratimov - N.Jičín 'C' 2:0 (19\,18)
DTSTART;TZID=Europe/Berlin:20241020T133000
DTEND;TZID=Europe/Berlin:20241020T153000
LOCATION:Sokolovna\, Sokolská 290 Vratimov
SUMMARY:MS-U16Z-T1F: Vratimov-N.Jičín 'C'
END:VEVENT
BEGIN:VEVENT
UID:33653565-6533-4063-b334-363862316533
DTSTAMP:20260422T003933Z
DESCRIPTION:6/6 Vratimov - Polanka 'B' 2:1 (19\,-9\,10)
DTSTART;TZID=Europe/Berlin:20241020T163000
DTEND;TZID=Europe/Berlin:20241020T183000
LOCATION:Sokolovna\, Sokolská 290 Vratimov
SUMMARY:MS-U16Z-T1F: Vratimov-Polanka 'B'
END:VEVENT
BEGIN:VEVENT
UID:32383832-6161-4666-a164-643735323134
DTSTAMP:20260422T003933Z
DESCRIPTION:1/1 Ostrava 'B' - Vratimov 2:0 (21\,24)
DTSTART;TZID=Europe/Berlin:20241110T090000
DTEND;TZID=Europe/Berlin:20241110T110000
LOCATION:Sportovní hala\, Heleny Salichové 1275 Ostrava - Polanka nad Odrou
SUMMARY:MS-U16Z-T2E: Ostrava 'B'-Vratimov
END:VEVENT
BEGIN:VEVENT
UID:35316533-6263-4665-b732-373731316636
DTSTAMP:20260422T003933Z
DESCRIPTION:2/3 Polanka 'C' - Vratimov 0:2 (-23\,-10)
DTSTART;TZID=Europe/Berlin:20241110T103000
DTEND;TZID=Europe/Berlin:20241110T123000
LOCATION:Sportovní hala\, Heleny Salichové 1275 Ostrava - Polanka nad Odrou
SUMMARY:MS-U16Z-T2E: Polanka 'C'-Vratimov
END:VEVENT
BEGIN:VEVENT
UID:65363762-6139-4166-b835-366365613363
DTSTAMP:20260422T003933Z
DESCRIPTION:3/5 Polanka 'B' - Vratimov 0:2 (-15\,-21)
DTSTART;TZID=Europe/Berlin:20241110T120000
DTEND;TZID=Europe/Berlin:20241110T140000
LOCATION:Sportovní hala\, Heleny Salichové 1275 Ostrava - Polanka nad Odrou
SUMMARY:MS-U16Z-T2E: Polanka 'B'-Vratimov
END:VEVENT
BEGIN:VEVENT
UID:63346464-3435-4633-a561-333035353234
DTSTAMP:20260422T003933Z
DESCRIPTION:3/5 Vratimov - TJ Sokol F-M 'B' 1:2 (-20\,28\,-9)
DTSTART;TZID=Europe/Berlin:20241201T120000
DTEND;TZID=Europe/Berlin:20241201T140000
LOCATION:SH GaSPŠEI Frenštát\, Křižíkova 2204 Frenštát pod Radhoštěm
SUMMARY:MS-U16Z-T3D: Vratimov-TJ Sokol F-M 'B'
END:VEVENT
BEGIN:VEVENT
UID:31613334-3538-4663-b638-393362356334
DTSTAMP:20260422T003933Z
DESCRIPTION:5/10 Vratimov - N.Jičín 'B' 2:1 (21\,-18\,4)
DTSTART;TZID=Europe/Berlin:20241201T150000
DTEND;TZID=Europe/Berlin:20241201T170000
LOCATION:SH GaSPŠEI Frenštát\, Křižíkova 2204 Frenštát pod Radhoštěm
SUMMARY:MS-U16Z-T3D: Vratimov-N.Jičín 'B'
END:VEVENT
BEGIN:VEVENT
UID:35343439-3633-4661-a133-613132393937
DTSTAMP:20260422T003933Z
DESCRIPTION:1/1 Frenštát p.R. - Vratimov 2:0 (14\,19)
DTSTART;TZID=Europe/Berlin:20241201T090000
DTEND;TZID=Europe/Berlin:20241201T110000
LOCATION:SH GaSPŠEI Frenštát\, Křižíkova 2204 Frenštát pod Radhoštěm
SUMMARY:MS-U16Z-T3D: Frenštát p.R.-Vratimov
END:VEVENT
BEGIN:VEVENT
UID:65646164-3866-4636-b133-656331663566
DTSTAMP:20260422T003933Z
DESCRIPTION:2/4 Ostrava 'B' - Vratimov 2:1 (23\,-21\,9)
DTSTART;TZID=Europe/Berlin:20241201T103000
DTEND;TZID=Europe/Berlin:20241201T123000
LOCATION:SH GaSPŠEI Frenštát\, Křižíkova 2204 Frenštát pod Radhoštěm
SUMMARY:MS-U16Z-T3D: Ostrava 'B'-Vratimov
END:VEVENT
BEGIN:VEVENT
UID:62396562-3965-4565-b032-613030633335
DTSTAMP:20260422T003933Z
DESCRIPTION:1/1 Vratimov - Polanka 'C' 1:2 (-26\,24\,-13)
DTSTART;TZID=Europe/Berlin:20250112T090000
DTEND;TZID=Europe/Berlin:20250112T110000
LOCATION:Sportovní hala\, Heleny Salichové 1275 Ostrava - Polanka nad Odrou
SUMMARY:MS-U16Z-T4E: Vratimov-Polanka 'C'
END:VEVENT
BEGIN:VEVENT
UID:36643035-6138-4562-a461-613936346663
DTSTAMP:20260422T003933Z
DESCRIPTION:2/4 Vratimov - Polanka 'B' 2:0 (8\,16)
DTSTART;TZID=Europe/Berlin:20250112T103000
DTEND;TZID=Europe/Berlin:20250112T123000
LOCATION:Sportovní hala\, Heleny Salichové 1275 Ostrava - Polanka nad Odrou
SUMMARY:MS-U16Z-T4E: Vratimov-Polanka 'B'
END:VEVENT
BEGIN:VEVENT
UID:34616663-3661-4163-b235-313830373736
DTSTAMP:20260422T003933Z
DESCRIPTION:3/6 Vratimov - N.Jičín 'B' 0:2 (-19\,-6)
DTSTART;TZID=Europe/Berlin:20250112T120000
DTEND;TZID=Europe/Berlin:20250112T140000
LOCATION:Sportovní hala\, Heleny Salichové 1275 Ostrava - Polanka nad Odrou
SUMMARY:MS-U16Z-T4E: Vratimov-N.Jičín 'B'
END:VEVENT
BEGIN:VEVENT
UID:64333837-3437-4634-b931-336133383831
DTSTAMP:20260422T003933Z
DESCRIPTION:3/5 Vratimov - Bílovec 'B' 0:2 (-15\,-13)
DTSTART;TZID=Europe/Berlin:20250209T120000
DTEND;TZID=Europe/Berlin:20250209T140000
LOCATION:Hala ZŠ Komenského\, Komenského 701 Bílovec
SUMMARY:MS-U16Z-T5E: Vratimov-Bílovec 'B'
END:VEVENT
BEGIN:VEVENT
UID:31666163-3234-4138-b262-353637623530
DTSTAMP:20260422T003933Z
DESCRIPTION:1/2 Polanka 'C' - Vratimov 0:2 (-8\,-15)
DTSTART;TZID=Europe/Berlin:20250209T090000
DTEND;TZID=Europe/Berlin:20250209T110000
LOCATION:Hala ZŠ Komenského\, Komenského 701 Bílovec
SUMMARY:MS-U16Z-T5E: Polanka 'C'-Vratimov
END:VEVENT
BEGIN:VEVENT
UID:35613037-3964-4863-b062-363565633066
DTSTAMP:20260422T003933Z
DESCRIPTION:2/4 Ostrava  'C' - Vratimov 2:0 (17\,14)
DTSTART;TZID=Europe/Berlin:20250209T103000
DTEND;TZID=Europe/Berlin:20250209T123000
LOCATION:Hala ZŠ Komenského\, Komenského 701 Bílovec
SUMMARY:MS-U16Z-T5E: Ostrava  'C'-Vratimov
END:VEVENT
BEGIN:VEVENT
UID:30643235-6438-4134-b836-326634643066
DTSTAMP:20260422T003933Z
DESCRIPTION:3/6 Vratimov - TJ S. St. Bělá 2:1 (12\,-24\,14)
DTSTART;TZID=Europe/Berlin:20250302T120000
DTEND;TZID=Europe/Berlin:20250302T140000
LOCATION:Sportovní hala Nová Bělá\, Krmelínská 750 Ostrava - Nová Bělá
SUMMARY:MS-U16Z-T6E: Vratimov-TJ S. St. Bělá
END:VEVENT
BEGIN:VEVENT
UID:30306163-6463-4261-a137-383731386538
DTSTAMP:20260422T003933Z
DESCRIPTION:1/2 Ostrava  'C' - Vratimov 2:0 (19\,18)
DTSTART;TZID=Europe/Berlin:20250302T090000
DTEND;TZID=Europe/Berlin:20250302T110000
LOCATION:Sportovní hala Nová Bělá\, Krmelínská 750 Ostrava - Nová Bělá
SUMMARY:MS-U16Z-T6E: Ostrava  'C'-Vratimov
END:VEVENT
BEGIN:VEVENT
UID:35623664-3737-4432-b437-386264366533
DTSTAMP:20260422T003933Z
DESCRIPTION:2/3 Hlučín 'B' - Vratimov 2:0 (20\,22)
DTSTART;TZID=Europe/Berlin:20250302T103000
DTEND;TZID=Europe/Berlin:20250302T123000
LOCATION:Sportovní hala Nová Bělá\, Krmelínská 750 Ostrava - Nová Bělá
SUMMARY:MS-U16Z-T6E: Hlučín 'B'-Vratimov
END:VEVENT
BEGIN:VEVENT
UID:61346133-3637-4434-b764-613362653535
DTSTAMP:20260422T003933Z
DESCRIPTION:1/1 Vratimov - Polanka 'B' 1:2 (-22\,14\,-13)
DTSTART;TZID=Europe/Berlin:20250323T090000
DTEND;TZID=Europe/Berlin:20250323T110000
LOCATION:Sokolovna\, K Sokolovně 135 Vratimov
SUMMARY:MS-U16Z-T7F: Vratimov-Polanka 'B'
END:VEVENT
BEGIN:VEVENT
UID:64353565-3563-4630-b935-633738633632
DTSTAMP:20260422T003933Z
DESCRIPTION:4/4 Vratimov - N.Jičín 'C' 0:2 (-19\,-14)
DTSTART;TZID=Europe/Berlin:20250323T133000
DTEND;TZID=Europe/Berlin:20250323T153000
LOCATION:Sokolovna\, K Sokolovně 135 Vratimov
SUMMARY:MS-U16Z-T7F: Vratimov-N.Jičín 'C'
END:VEVENT
BEGIN:VEVENT
UID:37376161-3730-4366-a433-343362393863
DTSTAMP:20260422T003933Z
DESCRIPTION:6/6 Vratimov - VKB Frýdlant 'B' 1:2 (-20\,20\,-10)
DTSTART;TZID=Europe/Berlin:20250323T163000
DTEND;TZID=Europe/Berlin:20250323T183000
LOCATION:Sokolovna\, K Sokolovně 135 Vratimov
SUMMARY:MS-U16Z-T7F: Vratimov-VKB Frýdlant 'B'
END:VEVENT
END:VCALENDAR
