BEGIN:VCALENDAR
VERSION:2.0
PRODID:-//Volejbal Rudolfov C85425//NONSGML kigkonsult.se iCalcreator 2.41.80//
CALSCALE:GREGORIAN
UID:36356538-3332-4437-b839-623337353130
BEGIN:VEVENT
UID:36663461-6663-4234-b031-383366383665
DTSTAMP:20260421T175227Z
DESCRIPTION:1/1 Volejbal Rudolfov C - TJ Tatran Prachatice - B 2:0 (7\,18)
DTSTART;TZID=Europe/Berlin:20240915T090000
DTEND;TZID=Europe/Berlin:20240915T110000
LOCATION:Sportovní hala Rudolfov\, Adamovská 511 Rudolfov
SUMMARY:JC-U16Z-2-1A: Volejbal Rudolfov C-TJ Tatran Prachatice - B
END:VEVENT
BEGIN:VEVENT
UID:63393139-3935-4238-b132-313639643161
DTSTAMP:20260421T175227Z
DESCRIPTION:1/4 Volejbal Rudolfov C - Volejbal Tábor B 1:2 (-17\,17\,-8)
DTSTART;TZID=Europe/Berlin:20240915T112000
DTEND;TZID=Europe/Berlin:20240915T132000
LOCATION:Sportovní hala Rudolfov\, Adamovská 511 Rudolfov
SUMMARY:JC-U16Z-2-1A: Volejbal Rudolfov C-Volejbal Tábor B
END:VEVENT
BEGIN:VEVENT
UID:33383230-3239-4936-b438-313066633734
DTSTAMP:20260421T175227Z
DESCRIPTION:1/6 TJ Slovan J. Hradec B - Volejbal Rudolfov C 0:2 (-16\,-12)
DTSTART;TZID=Europe/Berlin:20240915T123000
DTEND;TZID=Europe/Berlin:20240915T143000
LOCATION:Sportovní hala J. Hradec\, U Stadionu 1137 Jindřichův Hradec - Jin
 dřichův Hradec II
SUMMARY:JC-U16Z-2-1A: TJ Slovan J. Hradec B-Volejbal Rudolfov C
END:VEVENT
BEGIN:VEVENT
UID:65656435-6333-4566-b066-613565313761
DTSTAMP:20260421T175227Z
DESCRIPTION:1/2 Volejbal Rudolfov C - TJ Tatran Prachatice - B 2:0 (17\,21)
DTSTART;TZID=Europe/Berlin:20241013T101000
DTEND;TZID=Europe/Berlin:20241013T121000
LOCATION:Sportovní hala Rudolfov\, Adamovská 511 Rudolfov
SUMMARY:JC-U16Z-2-2A: Volejbal Rudolfov C-TJ Tatran Prachatice - B
END:VEVENT
BEGIN:VEVENT
UID:63353738-3936-4530-a366-386665396430
DTSTAMP:20260421T175227Z
DESCRIPTION:1/5 Volejbal Rudolfov C - Volejbal Tábor B 1:2 (16\,-18\,-11)
DTSTART;TZID=Europe/Berlin:20241013T134000
DTEND;TZID=Europe/Berlin:20241013T154000
LOCATION:Sportovní hala Rudolfov\, Adamovská 511 Rudolfov
SUMMARY:JC-U16Z-2-2A: Volejbal Rudolfov C-Volejbal Tábor B
END:VEVENT
BEGIN:VEVENT
UID:65623832-3463-4938-a433-313734393533
DTSTAMP:20260421T175227Z
DESCRIPTION:1/4 SK Otava Písek - Volejbal Rudolfov C 2:0 (19\,18)
DTSTART;TZID=Europe/Berlin:20241013T123000
DTEND;TZID=Europe/Berlin:20241013T143000
LOCATION:Sportovní Hala Mír\, U Stadionu Míru 1579 Tábor
SUMMARY:JC-U16Z-2-2A: SK Otava Písek-Volejbal Rudolfov C
END:VEVENT
BEGIN:VEVENT
UID:61343933-3465-4633-a334-346264623864
DTSTAMP:20260421T175227Z
DESCRIPTION:1/6 Volejbal Rudolfov C - SK Otava Písek 0:2 (-13\,-18)
DTSTART;TZID=Europe/Berlin:20241110T124500
DTEND;TZID=Europe/Berlin:20241110T144500
LOCATION:Sportovní hala Rudolfov\, Adamovská 511 Rudolfov
SUMMARY:JC-U16Z-2-3A: Volejbal Rudolfov C-SK Otava Písek
END:VEVENT
BEGIN:VEVENT
UID:64353135-3764-4365-b761-663034646161
DTSTAMP:20260421T175227Z
DESCRIPTION:1/2 Volejbal Tábor B - Volejbal Rudolfov C 0:2 (-21\,-20)
DTSTART;TZID=Europe/Berlin:20241110T090000
DTEND;TZID=Europe/Berlin:20241110T110000
LOCATION:Sportovní Hala Mír\, U Stadionu Míru 1579 Tábor
SUMMARY:JC-U16Z-2-3A: Volejbal Tábor B-Volejbal Rudolfov C
END:VEVENT
BEGIN:VEVENT
UID:63373262-3339-4963-a132-636562376161
DTSTAMP:20260421T175227Z
DESCRIPTION:1/3 Škola volejbalu C - Volejbal Rudolfov C 1:2 (-16\,19\,-11)
DTSTART;TZID=Europe/Berlin:20241110T101500
DTEND;TZID=Europe/Berlin:20241110T121500
LOCATION:Sportovní hala Hrdějovice\,  Hrdějovice597
SUMMARY:JC-U16Z-2-3A: Škola volejbalu C-Volejbal Rudolfov C
END:VEVENT
BEGIN:VEVENT
UID:32396661-6137-4961-b233-653163336266
DTSTAMP:20260421T175227Z
DESCRIPTION:1/2 Volejbal Rudolfov C - Škola volejbalu C 1:2 (-20\,23\,-13)
DTSTART;TZID=Europe/Berlin:20241208T090000
DTEND;TZID=Europe/Berlin:20241208T110000
LOCATION:Sportovní hala Rudolfov\, Adamovská 511 Rudolfov
SUMMARY:JC-U16Z-2-4A: Volejbal Rudolfov C-Škola volejbalu C
END:VEVENT
BEGIN:VEVENT
UID:65363633-3464-4462-a234-643637376366
DTSTAMP:20260421T175227Z
DESCRIPTION:1/5 Volejbal Rudolfov C - SK TŘEBÍN B 2:1 (24\,-21\,10)
DTSTART;TZID=Europe/Berlin:20241208T113000
DTEND;TZID=Europe/Berlin:20241208T133000
LOCATION:Sportovní hala Rudolfov\, Adamovská 511 Rudolfov
SUMMARY:JC-U16Z-2-4A: Volejbal Rudolfov C-SK TŘEBÍN B
END:VEVENT
BEGIN:VEVENT
UID:33663234-6439-4835-b835-636236356437
DTSTAMP:20260421T175227Z
DESCRIPTION:1/4 SK Otava Písek - Volejbal Rudolfov C 2:0 (19\,23)
DTSTART;TZID=Europe/Berlin:20241208T101500
DTEND;TZID=Europe/Berlin:20241208T121500
LOCATION:Střední lesnická škola\, Lesnická 55 Písek - Václavské Předměstí
SUMMARY:JC-U16Z-2-4A: SK Otava Písek-Volejbal Rudolfov C
END:VEVENT
BEGIN:VEVENT
UID:31383734-3065-4338-b830-656332393536
DTSTAMP:20260421T175227Z
DESCRIPTION:1/3 Volejbal Rudolfov C - Škola volejbalu C 0:2 (-10\,-15)
DTSTART;TZID=Europe/Berlin:20250112T112000
DTEND;TZID=Europe/Berlin:20250112T132000
LOCATION:Sportovní hala Rudolfov\, Adamovská 511 Rudolfov
SUMMARY:JC-U16Z-2-5A: Volejbal Rudolfov C-Škola volejbalu C
END:VEVENT
BEGIN:VEVENT
UID:30313330-3935-4837-a236-613932626637
DTSTAMP:20260421T175227Z
DESCRIPTION:1/1 Volejbal Tábor B - Volejbal Rudolfov C 1:2 (13\,-13\,-10)
DTSTART;TZID=Europe/Berlin:20250112T090000
DTEND;TZID=Europe/Berlin:20250112T110000
LOCATION:Sportovní Hala Mír\, U Stadionu Míru 1579 Tábor
SUMMARY:JC-U16Z-2-5A: Volejbal Tábor B-Volejbal Rudolfov C
END:VEVENT
BEGIN:VEVENT
UID:36393261-6562-4531-b636-383636643137
DTSTAMP:20260421T175227Z
DESCRIPTION:1/5 SK Otava Písek - Volejbal Rudolfov C 2:0 (19\,10)
DTSTART;TZID=Europe/Berlin:20250112T134000
DTEND;TZID=Europe/Berlin:20250112T154000
LOCATION:Střední lesnická škola\, Lesnická 55 Písek - Václavské Předměstí
SUMMARY:JC-U16Z-2-5A: SK Otava Písek-Volejbal Rudolfov C
END:VEVENT
BEGIN:VEVENT
UID:34313861-3564-4431-b338-316566386463
DTSTAMP:20260421T175227Z
DESCRIPTION:1/1 Volejbal Rudolfov C - Škola volejbalu C 0:2 (-17\,-16)
DTSTART;TZID=Europe/Berlin:20250302T090000
DTEND;TZID=Europe/Berlin:20250302T110000
LOCATION:Sportovní hala Rudolfov\, Adamovská 511 Rudolfov
SUMMARY:JC-U16Z-2-6A: Volejbal Rudolfov C-Škola volejbalu C
END:VEVENT
BEGIN:VEVENT
UID:64373563-3938-4637-a530-646637373065
DTSTAMP:20260421T175227Z
DESCRIPTION:1/4 Volejbal Rudolfov C - SK Otava Písek 2:0 (22\,17)
DTSTART;TZID=Europe/Berlin:20250302T123000
DTEND;TZID=Europe/Berlin:20250302T143000
LOCATION:Sportovní hala Rudolfov\, Adamovská 511 Rudolfov
SUMMARY:JC-U16Z-2-6A: Volejbal Rudolfov C-SK Otava Písek
END:VEVENT
BEGIN:VEVENT
UID:31643235-6239-4162-b633-326130306364
DTSTAMP:20260421T175227Z
DESCRIPTION:1/6 TJ Tatran Prachatice - B - Volejbal Rudolfov C 1:2 (-14\,17
 \,-11)
DTSTART;TZID=Europe/Berlin:20250302T145000
DTEND;TZID=Europe/Berlin:20250302T165000
LOCATION:, U Stadionu 764 Prachatice - Prachatice II
SUMMARY:JC-U16Z-2-6A: TJ Tatran Prachatice - B-Volejbal Rudolfov C
END:VEVENT
BEGIN:VEVENT
UID:66393937-3133-4630-b535-656438343430
DTSTAMP:20260421T175227Z
DESCRIPTION:1/1 Volejbal Rudolfov C - Škola volejbalu C 1:2 (21\,-12\,-7)
DTSTART;TZID=Europe/Berlin:20250323T090000
DTEND;TZID=Europe/Berlin:20250323T110000
LOCATION:Sportovní hala Rudolfov\, Adamovská 511 Rudolfov
SUMMARY:JC-U16Z-2-7A: Volejbal Rudolfov C-Škola volejbalu C
END:VEVENT
BEGIN:VEVENT
UID:39616536-3861-4736-b239-353234346663
DTSTAMP:20260421T175227Z
DESCRIPTION:1/4 Volejbal Rudolfov C - SK TŘEBÍN B 1:2 (20\,-20\,-13)
DTSTART;TZID=Europe/Berlin:20250323T112000
DTEND;TZID=Europe/Berlin:20250323T132000
LOCATION:Sportovní hala Rudolfov\, Adamovská 511 Rudolfov
SUMMARY:JC-U16Z-2-7A: Volejbal Rudolfov C-SK TŘEBÍN B
END:VEVENT
BEGIN:VEVENT
UID:30623337-6231-4538-b232-316433303438
DTSTAMP:20260421T175227Z
DESCRIPTION:1/6 SK Otava Písek - Volejbal Rudolfov C 2:1 (-25\,22\,13)
DTSTART;TZID=Europe/Berlin:20250323T123000
DTEND;TZID=Europe/Berlin:20250323T143000
LOCATION:Střední lesnická škola\, Lesnická 55 Písek - Václavské Předměstí
SUMMARY:JC-U16Z-2-7A: SK Otava Písek-Volejbal Rudolfov C
END:VEVENT
END:VCALENDAR
