BEGIN:VCALENDAR
VERSION:2.0
PRODID:-//VK Šantovka Olomouc UP C85441//NONSGML kigkonsult.se iCalcreator 2.41.80//
CALSCALE:GREGORIAN
UID:65636364-3538-4361-b366-326538393134
BEGIN:VEVENT
UID:36303436-3164-4036-b663-366662613239
DTSTAMP:20260422T014829Z
DESCRIPTION:2/3 VK Olomouc C - VK Prostějov C 0:2 (-23\,-20)\nKurt B
DTSTART;TZID=Europe/Berlin:20241006T100000
DTEND;TZID=Europe/Berlin:20241006T120000
LOCATION:Městská sportovní hala\, Petřivalského 2884 Přerov - Přerov I-Měst
 o
SUMMARY:OLK-U16Z-KD: VK Olomouc C-VK Prostějov C
END:VEVENT
BEGIN:VEVENT
UID:33633837-6561-4639-b933-666462343166
DTSTAMP:20260422T014829Z
DESCRIPTION:3/5 VK Olomouc C - TJ Šumperk B 2:0 (21\,12)\nKurt B
DTSTART;TZID=Europe/Berlin:20241006T110000
DTEND;TZID=Europe/Berlin:20241006T130000
LOCATION:Městská sportovní hala\, Petřivalského 2884 Přerov - Přerov I-Měst
 o
SUMMARY:OLK-U16Z-KD: VK Olomouc C-TJ Šumperk B
END:VEVENT
BEGIN:VEVENT
UID:31323832-3366-4336-a537-626530323537
DTSTAMP:20260422T014829Z
DESCRIPTION:1/2 Přerov A - VK Olomouc C 2:0 (11\,16)\nKurt A
DTSTART;TZID=Europe/Berlin:20241006T090000
DTEND;TZID=Europe/Berlin:20241006T110000
LOCATION:Městská sportovní hala\, Petřivalského 2884 Přerov - Přerov I-Měst
 o
SUMMARY:OLK-U16Z-KD: Přerov A-VK Olomouc C
END:VEVENT
BEGIN:VEVENT
UID:65313132-3735-4731-b961-306664383234
DTSTAMP:20260422T014829Z
DESCRIPTION:4/8 TJ Šternberk A - VK Olomouc C 2:0 (13\,16)\nKurt B
DTSTART;TZID=Europe/Berlin:20241006T120000
DTEND;TZID=Europe/Berlin:20241006T140000
LOCATION:Městská sportovní hala\, Petřivalského 2884 Přerov - Přerov I-Měst
 o
SUMMARY:OLK-U16Z-KD: TJ Šternberk A-VK Olomouc C
END:VEVENT
BEGIN:VEVENT
UID:38666364-3665-4564-a238-666232356433
DTSTAMP:20260422T014829Z
DESCRIPTION:3/3 VK Olomouc C - Přerov B 2:0 (12\,23)
DTSTART;TZID=Europe/Berlin:20241013T110000
DTEND;TZID=Europe/Berlin:20241013T130000
LOCATION:SGO Pasteurova \, Pasteurova 54 Olomouc - Klášterní Hradisko
SUMMARY:OLK-U16Z-1D: VK Olomouc C-Přerov B
END:VEVENT
BEGIN:VEVENT
UID:36396233-3638-4333-b262-663534643932
DTSTAMP:20260422T014829Z
DESCRIPTION:1/1 VK Olomouc D - VK Olomouc C 0:2 (-14\,-18)
DTSTART;TZID=Europe/Berlin:20241013T090000
DTEND;TZID=Europe/Berlin:20241013T110000
LOCATION:SGO Pasteurova \, Pasteurova 54 Olomouc - Klášterní Hradisko
SUMMARY:OLK-U16Z-1D: VK Olomouc D-VK Olomouc C
END:VEVENT
BEGIN:VEVENT
UID:62383939-3265-4161-b661-306531383861
DTSTAMP:20260422T014829Z
DESCRIPTION:5/5 VSK Zábřeh - VK Olomouc C 0:2 (-9\,-5)
DTSTART;TZID=Europe/Berlin:20241013T130000
DTEND;TZID=Europe/Berlin:20241013T150000
LOCATION:SGO Pasteurova \, Pasteurova 54 Olomouc - Klášterní Hradisko
SUMMARY:OLK-U16Z-1D: VSK Zábřeh-VK Olomouc C
END:VEVENT
BEGIN:VEVENT
UID:66396261-3935-4337-a133-623661323133
DTSTAMP:20260422T014829Z
DESCRIPTION:2/3 VK Olomouc C - VK Prostějov B 0:2 (-17\,-15)\nKurt A
DTSTART;TZID=Europe/Berlin:20241027T113000
DTEND;TZID=Europe/Berlin:20241027T133000
LOCATION:Národní sportovní centrum\, Za velodromem 4187 Prostějov
SUMMARY:OLK-U16Z-2C: VK Olomouc C-VK Prostějov B
END:VEVENT
BEGIN:VEVENT
UID:31666635-3737-4964-a234-633433653434
DTSTAMP:20260422T014829Z
DESCRIPTION:1/1 TJ Šumperk A - VK Olomouc C 1:2 (-16\,21\,-12)\nKurt A
DTSTART;TZID=Europe/Berlin:20241027T100000
DTEND;TZID=Europe/Berlin:20241027T120000
LOCATION:Národní sportovní centrum\, Za velodromem 4187 Prostějov
SUMMARY:OLK-U16Z-2C: TJ Šumperk A-VK Olomouc C
END:VEVENT
BEGIN:VEVENT
UID:36306331-3536-4862-b063-366433313635
DTSTAMP:20260422T014829Z
DESCRIPTION:3/5 VK Prostějov C - VK Olomouc C 2:1 (10\,-21\,7)\nKurt A
DTSTART;TZID=Europe/Berlin:20241027T130000
DTEND;TZID=Europe/Berlin:20241027T150000
LOCATION:Národní sportovní centrum\, Za velodromem 4187 Prostějov
SUMMARY:OLK-U16Z-2C: VK Prostějov C-VK Olomouc C
END:VEVENT
BEGIN:VEVENT
UID:62653430-3730-4935-a234-626666643162
DTSTAMP:20260422T014829Z
DESCRIPTION:2/2 VK Olomouc C - TJ Šternberk B 2:0 (13\,23)
DTSTART;TZID=Europe/Berlin:20241110T100000
DTEND;TZID=Europe/Berlin:20241110T120000
LOCATION:Sportovní hala\, Sportovní 744 Troubky
SUMMARY:OLK-U16Z-3D: VK Olomouc C-TJ Šternberk B
END:VEVENT
BEGIN:VEVENT
UID:39333233-3130-4138-b234-306666343839
DTSTAMP:20260422T014829Z
DESCRIPTION:4/4 VK Olomouc C - TJ Sokol Troubky 2:0 (23\,22)
DTSTART;TZID=Europe/Berlin:20241110T120000
DTEND;TZID=Europe/Berlin:20241110T140000
LOCATION:Sportovní hala\, Sportovní 744 Troubky
SUMMARY:OLK-U16Z-3D: VK Olomouc C-TJ Sokol Troubky
END:VEVENT
BEGIN:VEVENT
UID:62613066-3265-4464-a134-323132636537
DTSTAMP:20260422T014829Z
DESCRIPTION:5/5 Přerov B - VK Olomouc C 2:1 (-16\,21\,8)
DTSTART;TZID=Europe/Berlin:20241110T130000
DTEND;TZID=Europe/Berlin:20241110T150000
LOCATION:Sportovní hala\, Sportovní 744 Troubky
SUMMARY:OLK-U16Z-3D: Přerov B-VK Olomouc C
END:VEVENT
BEGIN:VEVENT
UID:34383763-3261-4530-b036-623161336632
DTSTAMP:20260422T014829Z
DESCRIPTION:1/2 VK Olomouc C - TJ Sokol Troubky 2:1 (24\,-21\,8)\nKurt B
DTSTART;TZID=Europe/Berlin:20241201T090000
DTEND;TZID=Europe/Berlin:20241201T110000
LOCATION:3. ZŠ Šumperk\, 8. května 870 Šumperk
SUMMARY:OLK-U16Z-4D: VK Olomouc C-TJ Sokol Troubky
END:VEVENT
BEGIN:VEVENT
UID:65643862-3634-4434-b034-636138373732
DTSTAMP:20260422T014829Z
DESCRIPTION:3/5 VK Olomouc C - TJ Šumperk B 1:2 (-19\,16\,-13)\nKurt A
DTSTART;TZID=Europe/Berlin:20241201T110000
DTEND;TZID=Europe/Berlin:20241201T130000
LOCATION:3. ZŠ Šumperk\, 8. května 870 Šumperk
SUMMARY:OLK-U16Z-4D: VK Olomouc C-TJ Šumperk B
END:VEVENT
BEGIN:VEVENT
UID:30333335-3636-4762-b034-646338393662
DTSTAMP:20260422T014829Z
DESCRIPTION:2/4 VAM Olomouc B - VK Olomouc C 0:2 (-21\,-24)\nKurt B
DTSTART;TZID=Europe/Berlin:20241201T100000
DTEND;TZID=Europe/Berlin:20241201T120000
LOCATION:3. ZŠ Šumperk\, 8. května 870 Šumperk
SUMMARY:OLK-U16Z-4D: VAM Olomouc B-VK Olomouc C
END:VEVENT
BEGIN:VEVENT
UID:30353061-3332-4639-b262-653762653235
DTSTAMP:20260422T014829Z
DESCRIPTION:3/3 VK Olomouc C - TJ Šternberk A 2:0 (20\,16)
DTSTART;TZID=Europe/Berlin:20241208T110000
DTEND;TZID=Europe/Berlin:20241208T130000
LOCATION:3. ZŠ Šumperk\, 8. května 870 Šumperk
SUMMARY:OLK-U16Z-5C: VK Olomouc C-TJ Šternberk A
END:VEVENT
BEGIN:VEVENT
UID:30616431-3166-4231-a536-653865313361
DTSTAMP:20260422T014829Z
DESCRIPTION:2/2 VK Prostějov B - VK Olomouc C 2:0 (24\,15)
DTSTART;TZID=Europe/Berlin:20241208T100000
DTEND;TZID=Europe/Berlin:20241208T120000
LOCATION:3. ZŠ Šumperk\, 8. května 870 Šumperk
SUMMARY:OLK-U16Z-5C: VK Prostějov B-VK Olomouc C
END:VEVENT
BEGIN:VEVENT
UID:65383261-6237-4236-b966-396563336136
DTSTAMP:20260422T014829Z
DESCRIPTION:6/6 TJ Šumperk A - VK Olomouc C 2:1 (-22\,21\,10)
DTSTART;TZID=Europe/Berlin:20241208T140000
DTEND;TZID=Europe/Berlin:20241208T160000
LOCATION:3. ZŠ Šumperk\, 8. května 870 Šumperk
SUMMARY:OLK-U16Z-5C: TJ Šumperk A-VK Olomouc C
END:VEVENT
BEGIN:VEVENT
UID:66366563-3763-4633-a162-366533356131
DTSTAMP:20260422T014829Z
DESCRIPTION:3/6 VK Olomouc C - VK Prostějov C 0:2 (-16\,-13)\nKurt A
DTSTART;TZID=Europe/Berlin:20250112T130000
DTEND;TZID=Europe/Berlin:20250112T150000
LOCATION:Národní sportovní centrum\, Za velodromem 4187 Prostějov
SUMMARY:OLK-U16Z-6C: VK Olomouc C-VK Prostějov C
END:VEVENT
BEGIN:VEVENT
UID:63666164-3836-4266-b663-666566633138
DTSTAMP:20260422T014829Z
DESCRIPTION:1/2 VK Prostějov B - VK Olomouc C 2:0 (20\,19)\nKurt B
DTSTART;TZID=Europe/Berlin:20250112T090000
DTEND;TZID=Europe/Berlin:20250112T110000
LOCATION:Národní sportovní centrum\, Za velodromem 4187 Prostějov
SUMMARY:OLK-U16Z-6C: VK Prostějov B-VK Olomouc C
END:VEVENT
BEGIN:VEVENT
UID:62376137-6264-4232-b466-653462646331
DTSTAMP:20260422T014829Z
DESCRIPTION:2/3 Přerov B - VK Olomouc C 2:0 (13\,24)\nKurt B
DTSTART;TZID=Europe/Berlin:20250112T110000
DTEND;TZID=Europe/Berlin:20250112T130000
LOCATION:Národní sportovní centrum\, Za velodromem 4187 Prostějov
SUMMARY:OLK-U16Z-6C: Přerov B-VK Olomouc C
END:VEVENT
BEGIN:VEVENT
UID:66656134-3462-4962-a230-333934663733
DTSTAMP:20260422T014829Z
DESCRIPTION:1/1 VK Olomouc C - TJ Šternberk B 2:0 (14\,12)
DTSTART;TZID=Europe/Berlin:20250119T090000
DTEND;TZID=Europe/Berlin:20250119T110000
LOCATION:ZS Tererova \, Tererovo nám. 919 Olomouc - Nová Ulice
SUMMARY:OLK-U16Z-7D: VK Olomouc C-TJ Šternberk B
END:VEVENT
BEGIN:VEVENT
UID:64366666-6363-4135-a638-353230646464
DTSTAMP:20260422T014829Z
DESCRIPTION:4/4 VK Olomouc C - TJ Šumperk B 2:1 (21\,-24\,10)
DTSTART;TZID=Europe/Berlin:20250119T120000
DTEND;TZID=Europe/Berlin:20250119T140000
LOCATION:ZS Tererova \, Tererovo nám. 919 Olomouc - Nová Ulice
SUMMARY:OLK-U16Z-7D: VK Olomouc C-TJ Šumperk B
END:VEVENT
BEGIN:VEVENT
UID:31386662-6662-4564-b462-623839646333
DTSTAMP:20260422T014829Z
DESCRIPTION:6/6 TJ Sokol Troubky - VK Olomouc C 0:2 (-24\,-24)
DTSTART;TZID=Europe/Berlin:20250119T140000
DTEND;TZID=Europe/Berlin:20250119T160000
LOCATION:ZS Tererova \, Tererovo nám. 919 Olomouc - Nová Ulice
SUMMARY:OLK-U16Z-7D: TJ Sokol Troubky-VK Olomouc C
END:VEVENT
BEGIN:VEVENT
UID:64323532-3862-4431-a133-393233613164
DTSTAMP:20260422T014829Z
DESCRIPTION:2/3 VK Olomouc C - VK Prostějov B 1:2 (23\,-12\,-6)\nKurt B
DTSTART;TZID=Europe/Berlin:20250209T100000
DTEND;TZID=Europe/Berlin:20250209T120000
LOCATION:Národní sportovní centrum\, Za velodromem 4187 Prostějov
SUMMARY:OLK-U16Z-8C: VK Olomouc C-VK Prostějov B
END:VEVENT
BEGIN:VEVENT
UID:33656538-3762-4639-b631-313431386438
DTSTAMP:20260422T014829Z
DESCRIPTION:1/1 VK Prostějov C - VK Olomouc C 2:1 (-20\,15\,9)\nKurt A
DTSTART;TZID=Europe/Berlin:20250209T090000
DTEND;TZID=Europe/Berlin:20250209T110000
LOCATION:Národní sportovní centrum\, Za velodromem 4187 Prostějov
SUMMARY:OLK-U16Z-8C: VK Prostějov C-VK Olomouc C
END:VEVENT
BEGIN:VEVENT
UID:37636161-6565-4135-b365-343165616439
DTSTAMP:20260422T014829Z
DESCRIPTION:3/5 Přerov B - VK Olomouc C 2:0 (11\,20)\nKurt B
DTSTART;TZID=Europe/Berlin:20250209T110000
DTEND;TZID=Europe/Berlin:20250209T130000
LOCATION:Národní sportovní centrum\, Za velodromem 4187 Prostějov
SUMMARY:OLK-U16Z-8C: Přerov B-VK Olomouc C
END:VEVENT
BEGIN:VEVENT
UID:64656162-3238-4133-b533-663262353235
DTSTAMP:20260422T014829Z
DESCRIPTION:2/2 VK Olomouc C - TJ Sokol Troubky 1:2 (20\,-16\,-10)
DTSTART;TZID=Europe/Berlin:20250223T100000
DTEND;TZID=Europe/Berlin:20250223T120000
LOCATION:Tělocvična při SŠ\, ZŠ\, MŠ a DD Zábřeh\, Sušilova 1912 Zábřeh
SUMMARY:OLK-U16Z-9D: VK Olomouc C-TJ Sokol Troubky
END:VEVENT
BEGIN:VEVENT
UID:37323961-6663-4966-b864-333135366662
DTSTAMP:20260422T014829Z
DESCRIPTION:6/6 VK Olomouc C - VSK Zábřeh 2:0 (8\,19)
DTSTART;TZID=Europe/Berlin:20250223T140000
DTEND;TZID=Europe/Berlin:20250223T160000
LOCATION:Tělocvična při SŠ\, ZŠ\, MŠ a DD Zábřeh\, Sušilova 1912 Zábřeh
SUMMARY:OLK-U16Z-9D: VK Olomouc C-VSK Zábřeh
END:VEVENT
BEGIN:VEVENT
UID:39333133-3664-4337-a363-376434383764
DTSTAMP:20260422T014829Z
DESCRIPTION:3/3 TJ Šternberk A - VK Olomouc C 1:2 (-19\,20\,-12)
DTSTART;TZID=Europe/Berlin:20250223T110000
DTEND;TZID=Europe/Berlin:20250223T130000
LOCATION:Tělocvična při SŠ\, ZŠ\, MŠ a DD Zábřeh\, Sušilova 1912 Zábřeh
SUMMARY:OLK-U16Z-9D: TJ Šternberk A-VK Olomouc C
END:VEVENT
BEGIN:VEVENT
UID:36623135-3939-4633-a236-643637386335
DTSTAMP:20260422T014829Z
DESCRIPTION:1/2 VK Olomouc C - TJ Šternberk A 2:1 (15\,-22\,12)\nKurt B
DTSTART;TZID=Europe/Berlin:20250316T090000
DTEND;TZID=Europe/Berlin:20250316T110000
LOCATION:3. ZŠ Šumperk\, 8. května 870 Šumperk
SUMMARY:OLK-U16Z-10D: VK Olomouc C-TJ Šternberk A
END:VEVENT
BEGIN:VEVENT
UID:32343132-3037-4130-b961-353462303037
DTSTAMP:20260422T014829Z
DESCRIPTION:3/5 VK Olomouc C - TJ Šumperk B 2:0 (20\,21)\nKurt B
DTSTART;TZID=Europe/Berlin:20250316T110000
DTEND;TZID=Europe/Berlin:20250316T130000
LOCATION:3. ZŠ Šumperk\, 8. května 870 Šumperk
SUMMARY:OLK-U16Z-10D: VK Olomouc C-TJ Šumperk B
END:VEVENT
BEGIN:VEVENT
UID:33333234-3964-4763-b034-636635373038
DTSTAMP:20260422T014829Z
DESCRIPTION:2/4 TJ Šumperk A - VK Olomouc C 2:0 (19\,18)\nKurt A
DTSTART;TZID=Europe/Berlin:20250316T100000
DTEND;TZID=Europe/Berlin:20250316T120000
LOCATION:3. ZŠ Šumperk\, 8. května 870 Šumperk
SUMMARY:OLK-U16Z-10D: TJ Šumperk A-VK Olomouc C
END:VEVENT
END:VCALENDAR
