BEGIN:VCALENDAR
VERSION:2.0
PRODID:-//TJ Slovan J. Hradec A85460//NONSGML kigkonsult.se iCalcreator 2.41.80//
CALSCALE:GREGORIAN
UID:66616361-3236-4862-b363-313537303335
BEGIN:VEVENT
UID:38356337-3130-4132-b461-653036376135
DTSTAMP:20260421T210052Z
DESCRIPTION:1/6 TJ Slovan J. Hradec A - Škola volejbalu A 0:2 (-8\,-13)
DTSTART;TZID=Europe/Berlin:20240915T145000
DTEND;TZID=Europe/Berlin:20240915T165000
LOCATION:Sportovní hala J. Hradec\, U Stadionu 1137 Jindřichův Hradec - Jin
 dřichův Hradec II
SUMMARY:JC-U16Z-1-1B: TJ Slovan J. Hradec A-Škola volejbalu A
END:VEVENT
BEGIN:VEVENT
UID:39366666-6362-4061-b233-653739633261
DTSTAMP:20260421T210052Z
DESCRIPTION:1/2 VSK Český Krumlov - TJ Slovan J. Hradec A 2:0 (10\,9)
DTSTART;TZID=Europe/Berlin:20240915T101000
DTEND;TZID=Europe/Berlin:20240915T121000
LOCATION:ZŠ Za Nádražím Český Krumlov\, Za Nádražím 222 Český Krumlov - Nád
 ražní Předměstí
SUMMARY:JC-U16Z-1-1B: VSK Český Krumlov-TJ Slovan J. Hradec A
END:VEVENT
BEGIN:VEVENT
UID:30623161-3238-4864-b332-326262353136
DTSTAMP:20260421T210052Z
DESCRIPTION:1/3 VK Madeta B - TJ Slovan J. Hradec A 2:0 (14\,15)
DTSTART;TZID=Europe/Berlin:20240915T112000
DTEND;TZID=Europe/Berlin:20240915T132000
LOCATION:Sportovní hala\, Stromovka 1216 České Budějovice - České Budějovic
 e 2
SUMMARY:JC-U16Z-1-1B: VK Madeta B-TJ Slovan J. Hradec A
END:VEVENT
BEGIN:VEVENT
UID:66646562-3530-4235-b662-663836326238
DTSTAMP:20260421T210052Z
DESCRIPTION:1/1 TJ Slovan J. Hradec A - Škola volejbalu B 0:2 (-23\,-14)
DTSTART;TZID=Europe/Berlin:20241013T090000
DTEND;TZID=Europe/Berlin:20241013T110000
LOCATION:Sportovní hala J. Hradec\, U Stadionu 1137 Jindřichův Hradec - Jin
 dřichův Hradec II
SUMMARY:JC-U16Z-1-2C: TJ Slovan J. Hradec A-Škola volejbalu B
END:VEVENT
BEGIN:VEVENT
UID:36353063-6465-4730-b339-336262353863
DTSTAMP:20260421T210052Z
DESCRIPTION:1/4 TJ Slovan J. Hradec A - Volejbal Rudolfov B 0:2 (-6\,-17)
DTSTART;TZID=Europe/Berlin:20241013T123000
DTEND;TZID=Europe/Berlin:20241013T143000
LOCATION:Sportovní hala J. Hradec\, U Stadionu 1137 Jindřichův Hradec - Jin
 dřichův Hradec II
SUMMARY:JC-U16Z-1-2C: TJ Slovan J. Hradec A-Volejbal Rudolfov B
END:VEVENT
BEGIN:VEVENT
UID:66323133-6534-4534-a533-323538396539
DTSTAMP:20260421T210052Z
DESCRIPTION:1/5 VSK Český Krumlov B - TJ Slovan J. Hradec A 1:2 (24\,-19\,-
 13)
DTSTART;TZID=Europe/Berlin:20241013T134000
DTEND;TZID=Europe/Berlin:20241013T154000
LOCATION:ZŠ Za Nádražím Český Krumlov\, Za Nádražím 222 Český Krumlov - Nád
 ražní Předměstí
SUMMARY:JC-U16Z-1-2C: VSK Český Krumlov B-TJ Slovan J. Hradec A
END:VEVENT
BEGIN:VEVENT
UID:32636462-3935-4465-a362-303635303765
DTSTAMP:20260421T210052Z
DESCRIPTION:1/1 TJ Slovan J. Hradec A - VSK Český Krumlov 0:2 (-23\,-24)
DTSTART;TZID=Europe/Berlin:20241110T090000
DTEND;TZID=Europe/Berlin:20241110T110000
LOCATION:Sportovní hala J. Hradec\, U Stadionu 1137 Jindřichův Hradec - Jin
 dřichův Hradec II
SUMMARY:JC-U16Z-1-3C: TJ Slovan J. Hradec A-VSK Český Krumlov
END:VEVENT
BEGIN:VEVENT
UID:36626561-3461-4065-b435-363133613537
DTSTAMP:20260421T210052Z
DESCRIPTION:1/4 TJ Slovan J. Hradec A - Škola volejbalu B 2:1 (20\,-22\,4)
DTSTART;TZID=Europe/Berlin:20241110T124500
DTEND;TZID=Europe/Berlin:20241110T144500
LOCATION:Sportovní hala J. Hradec\, U Stadionu 1137 Jindřichův Hradec - Jin
 dřichův Hradec II
SUMMARY:JC-U16Z-1-3C: TJ Slovan J. Hradec A-Škola volejbalu B
END:VEVENT
BEGIN:VEVENT
UID:30313633-3037-4466-b931-383633373733
DTSTAMP:20260421T210052Z
DESCRIPTION:1/6 VSK Český Krumlov B - TJ Slovan J. Hradec A 0:2 (-24\,-17)
DTSTART;TZID=Europe/Berlin:20241110T151500
DTEND;TZID=Europe/Berlin:20241110T171500
LOCATION:ZŠ Za Nádražím Český Krumlov\, Za Nádražím 222 Český Krumlov - Nád
 ražní Předměstí
SUMMARY:JC-U16Z-1-3C: VSK Český Krumlov B-TJ Slovan J. Hradec A
END:VEVENT
BEGIN:VEVENT
UID:61656534-6162-4530-a333-343733626261
DTSTAMP:20260421T210052Z
DESCRIPTION:1/2 TJ Slovan J. Hradec A - Škola volejbalu B 2:0 (7\,20)
DTSTART;TZID=Europe/Berlin:20241208T101500
DTEND;TZID=Europe/Berlin:20241208T121500
LOCATION:Sportovní hala J. Hradec\, U Stadionu 1137 Jindřichův Hradec - Jin
 dřichův Hradec II
SUMMARY:JC-U16Z-1-4C: TJ Slovan J. Hradec A-Škola volejbalu B
END:VEVENT
BEGIN:VEVENT
UID:39663762-6138-4363-b832-323738343262
DTSTAMP:20260421T210052Z
DESCRIPTION:1/5 TJ Slovan J. Hradec A - VSK Český Krumlov B 1:2 (-20\,16\,-
 10)
DTSTART;TZID=Europe/Berlin:20241208T140000
DTEND;TZID=Europe/Berlin:20241208T160000
LOCATION:Sportovní hala J. Hradec\, U Stadionu 1137 Jindřichův Hradec - Jin
 dřichův Hradec II
SUMMARY:JC-U16Z-1-4C: TJ Slovan J. Hradec A-VSK Český Krumlov B
END:VEVENT
BEGIN:VEVENT
UID:35653135-6662-4565-a632-336566633161
DTSTAMP:20260421T210052Z
DESCRIPTION:1/4 Škola volejbalu A - TJ Slovan J. Hradec A 2:0 (17\,19)
DTSTART;TZID=Europe/Berlin:20241208T124500
DTEND;TZID=Europe/Berlin:20241208T144500
LOCATION:Sportovní hala Hrdějovice\,  Hrdějovice597
SUMMARY:JC-U16Z-1-4C: Škola volejbalu A-TJ Slovan J. Hradec A
END:VEVENT
BEGIN:VEVENT
UID:64636236-3238-4437-b266-356663386139
DTSTAMP:20260421T210052Z
DESCRIPTION:1/6 TJ Slovan J. Hradec A - VSK Český Krumlov 0:2 (-22\,-23)
DTSTART;TZID=Europe/Berlin:20250112T151500
DTEND;TZID=Europe/Berlin:20250112T171500
LOCATION:Sportovní hala J. Hradec\, U Stadionu 1137 Jindřichův Hradec - Jin
 dřichův Hradec II
SUMMARY:JC-U16Z-1-5C: TJ Slovan J. Hradec A-VSK Český Krumlov
END:VEVENT
BEGIN:VEVENT
UID:32316631-6135-4839-b863-393961613066
DTSTAMP:20260421T210052Z
DESCRIPTION:1/2 VSK Český Krumlov B - TJ Slovan J. Hradec A 2:1 (20\,-17\,1
 1)
DTSTART;TZID=Europe/Berlin:20250112T101500
DTEND;TZID=Europe/Berlin:20250112T121500
LOCATION:ZŠ Za Nádražím Český Krumlov\, Za Nádražím 222 Český Krumlov - Nád
 ražní Předměstí
SUMMARY:JC-U16Z-1-5C: VSK Český Krumlov B-TJ Slovan J. Hradec A
END:VEVENT
BEGIN:VEVENT
UID:38396538-3136-4436-a662-666339386231
DTSTAMP:20260421T210052Z
DESCRIPTION:1/3 Škola volejbalu B - TJ Slovan J. Hradec A 0:2 (-19\,-17)
DTSTART;TZID=Europe/Berlin:20250112T113000
DTEND;TZID=Europe/Berlin:20250112T133000
LOCATION:Sportovní hala Hrdějovice\,  Hrdějovice597
SUMMARY:JC-U16Z-1-5C: Škola volejbalu B-TJ Slovan J. Hradec A
END:VEVENT
BEGIN:VEVENT
UID:66666633-3331-4636-b464-386439373663
DTSTAMP:20260421T210052Z
DESCRIPTION:1/6 TJ Slovan J. Hradec A - Volejbal Rudolfov B 0:2 (-15\,-21)
DTSTART;TZID=Europe/Berlin:20250302T151500
DTEND;TZID=Europe/Berlin:20250302T171500
LOCATION:Sportovní hala J. Hradec\, U Stadionu 1137 Jindřichův Hradec - Jin
 dřichův Hradec II
SUMMARY:JC-U16Z-1-6C: TJ Slovan J. Hradec A-Volejbal Rudolfov B
END:VEVENT
BEGIN:VEVENT
UID:65383963-3033-4563-b733-626539323133
DTSTAMP:20260421T210052Z
DESCRIPTION:1/2 VSK Český Krumlov B - TJ Slovan J. Hradec A 0:2 (-18\,-16)
DTSTART;TZID=Europe/Berlin:20250302T101500
DTEND;TZID=Europe/Berlin:20250302T121500
LOCATION:ZŠ Za Nádražím Český Krumlov\, Za Nádražím 222 Český Krumlov - Nád
 ražní Předměstí
SUMMARY:JC-U16Z-1-6C: VSK Český Krumlov B-TJ Slovan J. Hradec A
END:VEVENT
BEGIN:VEVENT
UID:39623832-3133-4538-a534-363937333334
DTSTAMP:20260421T210052Z
DESCRIPTION:1/3 Škola volejbalu B - TJ Slovan J. Hradec A 2:0 (23\,20)
DTSTART;TZID=Europe/Berlin:20250302T113000
DTEND;TZID=Europe/Berlin:20250302T133000
LOCATION:Sportovní hala Hrdějovice\,  Hrdějovice597
SUMMARY:JC-U16Z-1-6C: Škola volejbalu B-TJ Slovan J. Hradec A
END:VEVENT
BEGIN:VEVENT
UID:37396332-6332-4561-a237-326165636562
DTSTAMP:20260421T210052Z
DESCRIPTION:1/6 TJ Slovan J. Hradec A - Škola volejbalu B 2:0 (11\,14)
DTSTART;TZID=Europe/Berlin:20250323T151500
DTEND;TZID=Europe/Berlin:20250323T171500
LOCATION:Sportovní hala J. Hradec\, U Stadionu 1137 Jindřichův Hradec - Jin
 dřichův Hradec II
SUMMARY:JC-U16Z-1-7C: TJ Slovan J. Hradec A-Škola volejbalu B
END:VEVENT
BEGIN:VEVENT
UID:39646166-6632-4632-a264-373364363637
DTSTAMP:20260421T210052Z
DESCRIPTION:1/2 VSK Český Krumlov - TJ Slovan J. Hradec A 1:2 (20\,-22\,-13
 )
DTSTART;TZID=Europe/Berlin:20250323T101500
DTEND;TZID=Europe/Berlin:20250323T121500
LOCATION:ZŠ Za Nádražím Český Krumlov\, Za Nádražím 222 Český Krumlov - Nád
 ražní Předměstí
SUMMARY:JC-U16Z-1-7C: VSK Český Krumlov-TJ Slovan J. Hradec A
END:VEVENT
BEGIN:VEVENT
UID:64656531-6133-4864-b664-633434613665
DTSTAMP:20260421T210052Z
DESCRIPTION:1/3 VSK Český Krumlov B - TJ Slovan J. Hradec A 0:2 (-11\,-17)
DTSTART;TZID=Europe/Berlin:20250323T113000
DTEND;TZID=Europe/Berlin:20250323T133000
LOCATION:ZŠ Za Nádražím Český Krumlov\, Za Nádražím 222 Český Krumlov - Nád
 ražní Předměstí
SUMMARY:JC-U16Z-1-7C: VSK Český Krumlov B-TJ Slovan J. Hradec A
END:VEVENT
END:VCALENDAR
