BEGIN:VCALENDAR
VERSION:2.0
PRODID:-//VSK Staré Město85486//NONSGML kigkonsult.se iCalcreator 2.41.80//
CALSCALE:GREGORIAN
UID:37386430-3661-4563-a531-353335353162
BEGIN:VEVENT
UID:32313133-3765-4266-a538-386535643232
DTSTAMP:20260422T221348Z
DESCRIPTION:3/10 Staré Město - Bojkovice 3:0 (21\,22\,15)
DTSTART;TZID=Europe/Berlin:20241019T100000
DTEND;TZID=Europe/Berlin:20241019T120000
LOCATION:Městská sportovní hala Širůch\, Nad Hřištěm 1921 Staré Město
SUMMARY:ZLK-M: Staré Město-Bojkovice
END:VEVENT
BEGIN:VEVENT
UID:66353565-3162-4564-b563-663833653966
DTSTAMP:20260422T221348Z
DESCRIPTION:4/14 Staré Město - Bojkovice 3:0 (16\,13\,14)
DTSTART;TZID=Europe/Berlin:20241019T130000
DTEND;TZID=Europe/Berlin:20241019T150000
LOCATION:Městská sportovní hala Širůch\, Nad Hřištěm 1921 Staré Město
SUMMARY:ZLK-M: Staré Město-Bojkovice
END:VEVENT
BEGIN:VEVENT
UID:65333830-3534-4539-b536-323631373265
DTSTAMP:20260422T221348Z
DESCRIPTION:9/36 Staré Město - Nivnice 1:3 (-23\,20\,-20\,-23)
DTSTART;TZID=Europe/Berlin:20241116T100000
DTEND;TZID=Europe/Berlin:20241116T120000
LOCATION:Městská sportovní hala Širůch\, Nad Hřištěm 1921 Staré Město
SUMMARY:ZLK-M: Staré Město-Nivnice
END:VEVENT
BEGIN:VEVENT
UID:35333166-3937-4065-b338-656335633866
DTSTAMP:20260422T221348Z
DESCRIPTION:10/40 Staré Město - Nivnice 2:3 (23\,-19\,26\,-19\,-11)
DTSTART;TZID=Europe/Berlin:20241116T130000
DTEND;TZID=Europe/Berlin:20241116T150000
LOCATION:Městská sportovní hala Širůch\, Nad Hřištěm 1921 Staré Město
SUMMARY:ZLK-M: Staré Město-Nivnice
END:VEVENT
BEGIN:VEVENT
UID:36623461-3038-4932-a239-333132393462
DTSTAMP:20260422T221348Z
DESCRIPTION:13/51 Staré Město - Napajedla 1:3 (-24\,21\,-17\,-14)
DTSTART;TZID=Europe/Berlin:20241214T100000
DTEND;TZID=Europe/Berlin:20241214T120000
LOCATION:Městská sportovní hala Širůch\, Nad Hřištěm 1921 Staré Město
SUMMARY:ZLK-M: Staré Město-Napajedla
END:VEVENT
BEGIN:VEVENT
UID:30336465-6230-4461-b562-636365333235
DTSTAMP:20260422T221348Z
DESCRIPTION:14/55 Staré Město - Napajedla 2:3 (-18\,-23\,23\,30\,-6)
DTSTART;TZID=Europe/Berlin:20241214T130000
DTEND;TZID=Europe/Berlin:20241214T150000
LOCATION:Městská sportovní hala Širůch\, Nad Hřištěm 1921 Staré Město
SUMMARY:ZLK-M: Staré Město-Napajedla
END:VEVENT
BEGIN:VEVENT
UID:32333064-6635-4933-b866-376232663639
DTSTAMP:20260422T221348Z
DESCRIPTION:15/59 Staré Město - MEZ Vsetín 0:3 (-22\,-21\,-19)
DTSTART;TZID=Europe/Berlin:20250111T090000
DTEND;TZID=Europe/Berlin:20250111T110000
LOCATION:Městská sportovní hala Širůch\, Nad Hřištěm 1921 Staré Město
SUMMARY:ZLK-M: Staré Město-MEZ Vsetín
END:VEVENT
BEGIN:VEVENT
UID:37383964-6164-4132-b935-323832346230
DTSTAMP:20260422T221348Z
DESCRIPTION:16/63 Staré Město - MEZ Vsetín 2:3 (15\,-18\,20\,-15\,-18)
DTSTART;TZID=Europe/Berlin:20250111T120000
DTEND;TZID=Europe/Berlin:20250111T140000
LOCATION:Městská sportovní hala Širůch\, Nad Hřištěm 1921 Staré Město
SUMMARY:ZLK-M: Staré Město-MEZ Vsetín
END:VEVENT
BEGIN:VEVENT
UID:63306138-3965-4665-b464-346363373733
DTSTAMP:20260422T221348Z
DESCRIPTION:19/76 Staré Město - Holešov 3:1 (10\,-26\,18\,26)
DTSTART;TZID=Europe/Berlin:20250310T163000
DTEND;TZID=Europe/Berlin:20250310T183000
LOCATION:Městská sportovní hala Širůch\, Nad Hřištěm 1921 Staré Město
SUMMARY:ZLK-M: Staré Město-Holešov
END:VEVENT
BEGIN:VEVENT
UID:36613731-3735-4066-b466-386533663636
DTSTAMP:20260422T221348Z
DESCRIPTION:20/80 Staré Město - Holešov 3:1 (17\,-18\,17\,17)
DTSTART;TZID=Europe/Berlin:20250310T183000
DTEND;TZID=Europe/Berlin:20250310T203000
LOCATION:Městská sportovní hala Širůch\, Nad Hřištěm 1921 Staré Město
SUMMARY:ZLK-M: Staré Město-Holešov
END:VEVENT
BEGIN:VEVENT
UID:31376337-3432-4461-a437-613762376134
DTSTAMP:20260422T221348Z
DESCRIPTION:21/81 Staré Město - Val.Meziříčí 1:3 (-18\,-23\,19\,-21)
DTSTART;TZID=Europe/Berlin:20250222T140000
DTEND;TZID=Europe/Berlin:20250222T160000
LOCATION:Městská sportovní hala Širůch\, Nad Hřištěm 1921 Staré Město
SUMMARY:ZLK-M: Staré Město-Val.Meziříčí
END:VEVENT
BEGIN:VEVENT
UID:65616138-3066-4634-b337-356639343537
DTSTAMP:20260422T221348Z
DESCRIPTION:22/85 Staré Město - Val.Meziříčí 1:3 (22\,-16\,-17\,-19)
DTSTART;TZID=Europe/Berlin:20250222T160000
DTEND;TZID=Europe/Berlin:20250222T180000
LOCATION:Městská sportovní hala Širůch\, Nad Hřištěm 1921 Staré Město
SUMMARY:ZLK-M: Staré Město-Val.Meziříčí
END:VEVENT
BEGIN:VEVENT
UID:65373635-3535-4434-b539-333138623439
DTSTAMP:20260422T221348Z
DESCRIPTION:25/98 Staré Město - Veselí n.M. 3:0 (23\,10\,19)
DTSTART;TZID=Europe/Berlin:20250322T090000
DTEND;TZID=Europe/Berlin:20250322T110000
LOCATION:Městská sportovní hala Širůch\, Nad Hřištěm 1921 Staré Město
SUMMARY:ZLK-M: Staré Město-Veselí n.M.
END:VEVENT
BEGIN:VEVENT
UID:30323861-3132-4837-a136-383563336365
DTSTAMP:20260422T221348Z
DESCRIPTION:26/102 Staré Město - Veselí n.M. 3:0 (22\,19\,14)
DTSTART;TZID=Europe/Berlin:20250322T120000
DTEND;TZID=Europe/Berlin:20250322T140000
LOCATION:Městská sportovní hala Širůch\, Nad Hřištěm 1921 Staré Město
SUMMARY:ZLK-M: Staré Město-Veselí n.M.
END:VEVENT
BEGIN:VEVENT
UID:36323438-6230-4362-b236-366436313637
DTSTAMP:20260422T221348Z
DESCRIPTION:1/3 MEZ Vsetín - Staré Město 1:3 (-19\,25\,-21\,-23)
DTSTART;TZID=Europe/Berlin:20241005T100000
DTEND;TZID=Europe/Berlin:20241005T120000
LOCATION:ZŠ Hovězí\,  Hovězí426
SUMMARY:ZLK-M: MEZ Vsetín-Staré Město
END:VEVENT
BEGIN:VEVENT
UID:66633131-6231-4937-b430-663966623231
DTSTAMP:20260422T221348Z
DESCRIPTION:2/7 MEZ Vsetín - Staré Město 2:3 (-14\,24\,-25\,22\,-13)
DTSTART;TZID=Europe/Berlin:20241005T130000
DTEND;TZID=Europe/Berlin:20241005T150000
LOCATION:ZŠ Hovězí\,  Hovězí426
SUMMARY:ZLK-M: MEZ Vsetín-Staré Město
END:VEVENT
BEGIN:VEVENT
UID:33363537-3864-4164-a134-656265643930
DTSTAMP:20260422T221348Z
DESCRIPTION:5/20 Holešov - Staré Město 3:0 (22\,16\,17)
DTSTART;TZID=Europe/Berlin:20241106T180000
DTEND;TZID=Europe/Berlin:20241106T200000
LOCATION:SPŠ MV\, Zlínská 991 Holešov
SUMMARY:ZLK-M: Holešov-Staré Město
END:VEVENT
BEGIN:VEVENT
UID:66333038-3663-4266-a366-656166613665
DTSTAMP:20260422T221348Z
DESCRIPTION:6/24 Holešov - Staré Město 1:3 (17\,-21\,-24\,-20)
DTSTART;TZID=Europe/Berlin:20241106T200000
DTEND;TZID=Europe/Berlin:20241106T220000
LOCATION:SPŠ MV\, Zlínská 991 Holešov
SUMMARY:ZLK-M: Holešov-Staré Město
END:VEVENT
BEGIN:VEVENT
UID:34663266-3563-4932-b637-373336306630
DTSTAMP:20260422T221348Z
DESCRIPTION:7/25 Val.Meziříčí - Staré Město 3:X
DTSTART;TZID=Europe/Berlin:20241102T110000
DTEND;TZID=Europe/Berlin:20241102T130000
LOCATION:ZŠ Šafaříkova\, Šafaříkova 726 Valašské Meziříčí
SUMMARY:ZLK-M: Val.Meziříčí-Staré Město
END:VEVENT
BEGIN:VEVENT
UID:31623764-3963-4334-b339-633163313133
DTSTAMP:20260422T221348Z
DESCRIPTION:8/29 Val.Meziříčí - Staré Město 3:X
DTSTART;TZID=Europe/Berlin:20241102T150000
DTEND;TZID=Europe/Berlin:20241102T170000
LOCATION:ZŠ Šafaříkova\, Šafaříkova 726 Valašské Meziříčí
SUMMARY:ZLK-M: Val.Meziříčí-Staré Město
END:VEVENT
BEGIN:VEVENT
UID:38373534-3335-4530-a539-376462303039
DTSTAMP:20260422T221348Z
DESCRIPTION:11/42 Veselí n.M. - Staré Město 0:3 (-14\,-18\,-20)
DTSTART;TZID=Europe/Berlin:20250215T100000
DTEND;TZID=Europe/Berlin:20250215T120000
LOCATION:Církevní ZŠ Veselí nad Moravou\, Školní 698 Veselí nad Moravou
SUMMARY:ZLK-M: Veselí n.M.-Staré Město
END:VEVENT
BEGIN:VEVENT
UID:31323664-3563-4165-b863-363735323938
DTSTAMP:20260422T221348Z
DESCRIPTION:12/46 Veselí n.M. - Staré Město 0:3 (-17\,-13\,-17)
DTSTART;TZID=Europe/Berlin:20250215T130000
DTEND;TZID=Europe/Berlin:20250215T150000
LOCATION:Církevní ZŠ Veselí nad Moravou\, Školní 698 Veselí nad Moravou
SUMMARY:ZLK-M: Veselí n.M.-Staré Město
END:VEVENT
BEGIN:VEVENT
UID:30346262-6131-4632-a136-323233666638
DTSTAMP:20260422T221348Z
DESCRIPTION:17/66 Bojkovice - Staré Město 3:0 (22\,19\,21)
DTSTART;TZID=Europe/Berlin:20250118T170000
DTEND;TZID=Europe/Berlin:20250118T190000
LOCATION:ZŠ TGM Bojkovice\, Štefánikova 460 Bojkovice
SUMMARY:ZLK-M: Bojkovice-Staré Město
END:VEVENT
BEGIN:VEVENT
UID:34306538-6237-4666-a562-336635326535
DTSTAMP:20260422T221348Z
DESCRIPTION:18/70 Bojkovice - Staré Město 2:3 (-17\,21\,19\,-24\,-10)
DTSTART;TZID=Europe/Berlin:20250118T190000
DTEND;TZID=Europe/Berlin:20250118T210000
LOCATION:ZŠ TGM Bojkovice\, Štefánikova 460 Bojkovice
SUMMARY:ZLK-M: Bojkovice-Staré Město
END:VEVENT
BEGIN:VEVENT
UID:33366337-3366-4137-b637-363232393939
DTSTAMP:20260422T221348Z
DESCRIPTION:23/92 Nivnice - Staré Město 3:1 (14\,-17\,18\,13)
DTSTART;TZID=Europe/Berlin:20250301T100000
DTEND;TZID=Europe/Berlin:20250301T120000
LOCATION:Sportovní hala Nivnice\, Podohradí 888 Nivnice
SUMMARY:ZLK-M: Nivnice-Staré Město
END:VEVENT
BEGIN:VEVENT
UID:61346333-3737-4736-b339-346533316239
DTSTAMP:20260422T221348Z
DESCRIPTION:24/96 Nivnice - Staré Město 3:0 (17\,18\,22)
DTSTART;TZID=Europe/Berlin:20250301T130000
DTEND;TZID=Europe/Berlin:20250301T150000
LOCATION:Sportovní hala Nivnice\, Podohradí 888 Nivnice
SUMMARY:ZLK-M: Nivnice-Staré Město
END:VEVENT
BEGIN:VEVENT
UID:36336135-6364-4330-b762-353537656464
DTSTAMP:20260422T221348Z
DESCRIPTION:27/107 Napajedla - Staré Město 3:2 (21\,-17\,-14\,21\,13)
DTSTART;TZID=Europe/Berlin:20250403T183000
DTEND;TZID=Europe/Berlin:20250403T203000
LOCATION:2.ZŠ Napajedla\, Komenského 298 Napajedla
SUMMARY:ZLK-M: Napajedla-Staré Město
END:VEVENT
BEGIN:VEVENT
UID:32646433-3765-4833-a136-326636343930
DTSTAMP:20260422T221348Z
DESCRIPTION:28/111 Napajedla - Staré Město 3:0 (23\,20\,15)
DTSTART;TZID=Europe/Berlin:20250403T203000
DTEND;TZID=Europe/Berlin:20250403T223000
LOCATION:2.ZŠ Napajedla\, Komenského 298 Napajedla
SUMMARY:ZLK-M: Napajedla-Staré Město
END:VEVENT
END:VCALENDAR
