BEGIN:VCALENDAR
VERSION:2.0
PRODID:-//TJ Slovan J. Hradec B85490//NONSGML kigkonsult.se iCalcreator 2.41.80//
CALSCALE:GREGORIAN
UID:63373834-6535-4034-b439-633562376435
BEGIN:VEVENT
UID:34333137-3462-4264-a234-663435616630
DTSTAMP:20260421T144754Z
DESCRIPTION:1/6 TJ Slovan J. Hradec B - Volejbal Rudolfov C 0:2 (-16\,-12)
DTSTART;TZID=Europe/Berlin:20240915T123000
DTEND;TZID=Europe/Berlin:20240915T143000
LOCATION:Sportovní hala J. Hradec\, U Stadionu 1137 Jindřichův Hradec - Jin
 dřichův Hradec II
SUMMARY:JC-U16Z-2-1A: TJ Slovan J. Hradec B-Volejbal Rudolfov C
END:VEVENT
BEGIN:VEVENT
UID:34646333-3633-4833-a136-333863333535
DTSTAMP:20260421T144754Z
DESCRIPTION:1/2 Volejbal Tábor B - TJ Slovan J. Hradec B 2:0 (4\,16)
DTSTART;TZID=Europe/Berlin:20240915T090000
DTEND;TZID=Europe/Berlin:20240915T110000
LOCATION:Sportovní Hala Mír\, U Stadionu Míru 1579 Tábor
SUMMARY:JC-U16Z-2-1A: Volejbal Tábor B-TJ Slovan J. Hradec B
END:VEVENT
BEGIN:VEVENT
UID:35383337-3536-4631-b861-643531656434
DTSTAMP:20260421T144754Z
DESCRIPTION:1/3 TJ Tatran Prachatice - B - TJ Slovan J. Hradec B 2:0 (22\,2
 1)
DTSTART;TZID=Europe/Berlin:20240915T101000
DTEND;TZID=Europe/Berlin:20240915T121000
LOCATION:, U Stadionu 764 Prachatice - Prachatice II
SUMMARY:JC-U16Z-2-1A: TJ Tatran Prachatice - B-TJ Slovan J. Hradec B
END:VEVENT
BEGIN:VEVENT
UID:61383764-6231-4566-a239-373166386563
DTSTAMP:20260421T144754Z
DESCRIPTION:1/1 TJ Slovan J. Hradec B - TJ ČZ Strakonice 1:2 (-11\,22\,-8)
DTSTART;TZID=Europe/Berlin:20241013T090000
DTEND;TZID=Europe/Berlin:20241013T110000
LOCATION:Sportovní hala J. Hradec\, U Stadionu 1137 Jindřichův Hradec - Jin
 dřichův Hradec II
SUMMARY:JC-U16Z-2-2B: TJ Slovan J. Hradec B-TJ ČZ Strakonice
END:VEVENT
BEGIN:VEVENT
UID:38313136-6131-4563-a630-333832383864
DTSTAMP:20260421T144754Z
DESCRIPTION:1/4 TJ Slovan J. Hradec B - SK TŘEBÍN B 0:2 (-15\,-7)
DTSTART;TZID=Europe/Berlin:20241013T123000
DTEND;TZID=Europe/Berlin:20241013T143000
LOCATION:Sportovní hala J. Hradec\, U Stadionu 1137 Jindřichův Hradec - Jin
 dřichův Hradec II
SUMMARY:JC-U16Z-2-2B: TJ Slovan J. Hradec B-SK TŘEBÍN B
END:VEVENT
BEGIN:VEVENT
UID:62323538-3133-4565-a634-633032366635
DTSTAMP:20260421T144754Z
DESCRIPTION:1/6 Škola volejbalu C - TJ Slovan J. Hradec B 2:1 (18\,-23\,7)
DTSTART;TZID=Europe/Berlin:20241013T145000
DTEND;TZID=Europe/Berlin:20241013T165000
LOCATION:Sportovní hala Hrdějovice\,  Hrdějovice597
SUMMARY:JC-U16Z-2-2B: Škola volejbalu C-TJ Slovan J. Hradec B
END:VEVENT
BEGIN:VEVENT
UID:62313064-6632-4331-b230-393164623932
DTSTAMP:20260421T144754Z
DESCRIPTION:1/3 TJ Slovan J. Hradec B - TJ ČZ Strakonice 1:2 (18\,-14\,-3)
DTSTART;TZID=Europe/Berlin:20241110T113000
DTEND;TZID=Europe/Berlin:20241110T133000
LOCATION:Sportovní hala J. Hradec\, U Stadionu 1137 Jindřichův Hradec - Jin
 dřichův Hradec II
SUMMARY:JC-U16Z-2-3B: TJ Slovan J. Hradec B-TJ ČZ Strakonice
END:VEVENT
BEGIN:VEVENT
UID:39386663-6433-4039-a438-646564386636
DTSTAMP:20260421T144754Z
DESCRIPTION:1/1 TJ Tatran Prachatice - B - TJ Slovan J. Hradec B 1:2 (14\,-
 26\,-8)
DTSTART;TZID=Europe/Berlin:20241110T090000
DTEND;TZID=Europe/Berlin:20241110T110000
LOCATION:, U Stadionu 764 Prachatice - Prachatice II
SUMMARY:JC-U16Z-2-3B: TJ Tatran Prachatice - B-TJ Slovan J. Hradec B
END:VEVENT
BEGIN:VEVENT
UID:37313130-6362-4633-b038-363431653464
DTSTAMP:20260421T144754Z
DESCRIPTION:1/5 SK TŘEBÍN B - TJ Slovan J. Hradec B 2:0 (11\,19)
DTSTART;TZID=Europe/Berlin:20241110T124500
DTEND;TZID=Europe/Berlin:20241110T144500
LOCATION:ZŠ Máj I\, M. Chlajna 1319 České Budějovice - České Budějovice 2
SUMMARY:JC-U16Z-2-3B: SK TŘEBÍN B-TJ Slovan J. Hradec B
END:VEVENT
BEGIN:VEVENT
UID:62653231-3535-4333-b264-303336333964
DTSTAMP:20260421T144754Z
DESCRIPTION:1/1 TJ Slovan J. Hradec B - TJ ČZ Strakonice 0:2 (-21\,-19)
DTSTART;TZID=Europe/Berlin:20241208T090000
DTEND;TZID=Europe/Berlin:20241208T110000
LOCATION:Sportovní hala J. Hradec\, U Stadionu 1137 Jindřichův Hradec - Jin
 dřichův Hradec II
SUMMARY:JC-U16Z-2-4B: TJ Slovan J. Hradec B-TJ ČZ Strakonice
END:VEVENT
BEGIN:VEVENT
UID:61656365-3837-4437-a331-313031363733
DTSTAMP:20260421T144754Z
DESCRIPTION:1/4 TJ Slovan J. Hradec B - TJ Tatran Prachatice - B 0:2 (-8\,-
 17)
DTSTART;TZID=Europe/Berlin:20241208T113000
DTEND;TZID=Europe/Berlin:20241208T133000
LOCATION:Sportovní hala J. Hradec\, U Stadionu 1137 Jindřichův Hradec - Jin
 dřichův Hradec II
SUMMARY:JC-U16Z-2-4B: TJ Slovan J. Hradec B-TJ Tatran Prachatice - B
END:VEVENT
BEGIN:VEVENT
UID:39353731-3235-4366-b232-623735393034
DTSTAMP:20260421T144754Z
DESCRIPTION:1/6 Volejbal Tábor B - TJ Slovan J. Hradec B 2:0 (12\,10)
DTSTART;TZID=Europe/Berlin:20241208T124500
DTEND;TZID=Europe/Berlin:20241208T144500
LOCATION:Sportovní Hala Mír\, U Stadionu Míru 1579 Tábor
SUMMARY:JC-U16Z-2-4B: Volejbal Tábor B-TJ Slovan J. Hradec B
END:VEVENT
BEGIN:VEVENT
UID:36653239-3539-4534-b839-323130613762
DTSTAMP:20260421T144754Z
DESCRIPTION:1/4 TJ Slovan J. Hradec B - TJ ČZ Strakonice 0:2 (-20\,-23)
DTSTART;TZID=Europe/Berlin:20250112T123000
DTEND;TZID=Europe/Berlin:20250112T143000
LOCATION:Sportovní hala J. Hradec\, U Stadionu 1137 Jindřichův Hradec - Jin
 dřichův Hradec II
SUMMARY:JC-U16Z-2-5B: TJ Slovan J. Hradec B-TJ ČZ Strakonice
END:VEVENT
BEGIN:VEVENT
UID:32323137-3934-4631-a536-666638613332
DTSTAMP:20260421T144754Z
DESCRIPTION:1/1 SK TŘEBÍN B - TJ Slovan J. Hradec B 1:2 (-21\,14\,-15)
DTSTART;TZID=Europe/Berlin:20250112T090000
DTEND;TZID=Europe/Berlin:20250112T110000
LOCATION:ZŠ Máj I\, M. Chlajna 1319 České Budějovice - České Budějovice 2
SUMMARY:JC-U16Z-2-5B: SK TŘEBÍN B-TJ Slovan J. Hradec B
END:VEVENT
BEGIN:VEVENT
UID:63663939-3662-4437-a334-323764613432
DTSTAMP:20260421T144754Z
DESCRIPTION:1/5 TJ Tatran Prachatice - B - TJ Slovan J. Hradec B 2:0 (23\,1
 3)
DTSTART;TZID=Europe/Berlin:20250112T134000
DTEND;TZID=Europe/Berlin:20250112T154000
LOCATION:, U Stadionu 764 Prachatice - Prachatice II
SUMMARY:JC-U16Z-2-5B: TJ Tatran Prachatice - B-TJ Slovan J. Hradec B
END:VEVENT
BEGIN:VEVENT
UID:35653634-3061-4364-b936-623337323835
DTSTAMP:20260421T144754Z
DESCRIPTION:1/1 TJ Slovan J. Hradec B - Volejbal Tábor B 0:2 (-13\,-17)
DTSTART;TZID=Europe/Berlin:20250302T090000
DTEND;TZID=Europe/Berlin:20250302T110000
LOCATION:Sportovní hala J. Hradec\, U Stadionu 1137 Jindřichův Hradec - Jin
 dřichův Hradec II
SUMMARY:JC-U16Z-2-6B: TJ Slovan J. Hradec B-Volejbal Tábor B
END:VEVENT
BEGIN:VEVENT
UID:30643332-6431-4364-b037-313464636138
DTSTAMP:20260421T144754Z
DESCRIPTION:1/4 TJ Slovan J. Hradec B - TJ ČZ Strakonice 0:2 (-11\,-8)
DTSTART;TZID=Europe/Berlin:20250302T123000
DTEND;TZID=Europe/Berlin:20250302T143000
LOCATION:Sportovní hala J. Hradec\, U Stadionu 1137 Jindřichův Hradec - Jin
 dřichův Hradec II
SUMMARY:JC-U16Z-2-6B: TJ Slovan J. Hradec B-TJ ČZ Strakonice
END:VEVENT
BEGIN:VEVENT
UID:36623738-3232-4762-b239-653536613165
DTSTAMP:20260421T144754Z
DESCRIPTION:1/6 SK TŘEBÍN B - TJ Slovan J. Hradec B 2:1 (-24\,16\,7)
DTSTART;TZID=Europe/Berlin:20250302T145000
DTEND;TZID=Europe/Berlin:20250302T165000
LOCATION:ZŠ Máj I\, M. Chlajna 1319 České Budějovice - České Budějovice 2
SUMMARY:JC-U16Z-2-6B: SK TŘEBÍN B-TJ Slovan J. Hradec B
END:VEVENT
BEGIN:VEVENT
UID:37346461-3665-4435-b864-656431613438
DTSTAMP:20260421T144754Z
DESCRIPTION:1/5 TJ Slovan J. Hradec B - TJ Tatran Prachatice - B 2:0 (18\,1
 7)
DTSTART;TZID=Europe/Berlin:20250323T112000
DTEND;TZID=Europe/Berlin:20250323T132000
LOCATION:Sportovní hala J. Hradec\, U Stadionu 1137 Jindřichův Hradec - Jin
 dřichův Hradec II
SUMMARY:JC-U16Z-2-7B: TJ Slovan J. Hradec B-TJ Tatran Prachatice - B
END:VEVENT
BEGIN:VEVENT
UID:63626564-6365-4466-b632-346230313765
DTSTAMP:20260421T144754Z
DESCRIPTION:1/1 Volejbal Tábor B - TJ Slovan J. Hradec B 2:0 (20\,3)
DTSTART;TZID=Europe/Berlin:20250323T090000
DTEND;TZID=Europe/Berlin:20250323T110000
LOCATION:Sportovní Hala Mír\, U Stadionu Míru 1579 Tábor
SUMMARY:JC-U16Z-2-7B: Volejbal Tábor B-TJ Slovan J. Hradec B
END:VEVENT
BEGIN:VEVENT
UID:61623931-3436-4431-b738-303961326463
DTSTAMP:20260421T144754Z
DESCRIPTION:1/3 TJ ČZ Strakonice - TJ Slovan J. Hradec B 2:0 (21\,15)
DTSTART;TZID=Europe/Berlin:20250323T101000
DTEND;TZID=Europe/Berlin:20250323T121000
LOCATION:Hala TJ ČZ Strakonice\, Máchova 108 Strakonice - Strakonice I
SUMMARY:JC-U16Z-2-7B: TJ ČZ Strakonice-TJ Slovan J. Hradec B
END:VEVENT
END:VCALENDAR
