BEGIN:VCALENDAR
VERSION:2.0
PRODID:-//TJ Lokomotiva Česká Lípa, z.s.85495//NONSGML kigkonsult.se iCalcreator 2.41.80//
CALSCALE:GREGORIAN
UID:65373430-3535-4130-b130-393434643966
BEGIN:VEVENT
UID:66666138-6133-4534-b337-623535353335
DTSTAMP:20260423T004327Z
DESCRIPTION:2/2 Letohrad U20 - Lokomotiva Č. Lípa 2:0 (25\,22)
DTSTART;TZID=Europe/Berlin:20241028T113000
DTEND;TZID=Europe/Berlin:20241028T133000
LOCATION:TJ Spartak Letohrad\, Jilemnického 341 Letohrad
SUMMARY:CP-U20M-K-C: Letohrad U20-Lokomotiva Č. Lípa
END:VEVENT
BEGIN:VEVENT
UID:66326432-3531-4530-a639-383362373965
DTSTAMP:20260423T004327Z
DESCRIPTION:3/3 TJ Zákupy\, z.s. - Lokomotiva Č. Lípa 2:1 (23\,-23\,9)
DTSTART;TZID=Europe/Berlin:20241028T130000
DTEND;TZID=Europe/Berlin:20241028T150000
LOCATION:Hala ZŠ Zákupy\, Školní 347 Zákupy
SUMMARY:CP-U20M-K-C: TJ Zákupy\, z.s.-Lokomotiva Č. Lípa
END:VEVENT
BEGIN:VEVENT
UID:37353962-6461-4362-b835-313136656238
DTSTAMP:20260423T004327Z
DESCRIPTION:5/5 VSK Český Krumlov - Lokomotiva Č. Lípa 1:2 (21\,-17\,-9)
DTSTART;TZID=Europe/Berlin:20241028T142000
DTEND;TZID=Europe/Berlin:20241028T162000
LOCATION:ZŠ Za Nádražím Český Krumlov\, Za Nádražím 222 Český Krumlov - Nád
 ražní Předměstí
SUMMARY:CP-U20M-K-PAVOUK: VSK Český Krumlov-Lokomotiva Č. Lípa
END:VEVENT
BEGIN:VEVENT
UID:37613239-6465-4339-a365-623731363934
DTSTAMP:20260423T004327Z
DESCRIPTION:11/11 TJ Jiskra Nový Bor - Lokomotiva Č. Lípa 1:2 (-23\,20\,-13
 )\nZápas o 9.-10. místo
DTSTART;TZID=Europe/Berlin:20241028T170000
DTEND;TZID=Europe/Berlin:20241028T190000
SUMMARY:CP-U20M-K-PAVOUK: TJ Jiskra Nový Bor-Lokomotiva Č. Lípa
END:VEVENT
BEGIN:VEVENT
UID:31663335-6539-4536-b363-616364303532
DTSTAMP:20260423T004327Z
DESCRIPTION:1/1 Lokomotiva Č. Lípa - TJ Sokol Č. Třebová 3:0 (26\,20\,17)
DTSTART;TZID=Europe/Berlin:20241215T100000
DTEND;TZID=Europe/Berlin:20241215T120000
LOCATION:ZŠ Lada\, Šluknovská 2904 Česká Lípa
SUMMARY:CP-U20M-1-C: Lokomotiva Č. Lípa-TJ Sokol Č. Třebová
END:VEVENT
BEGIN:VEVENT
UID:65393938-3661-4531-a566-383834386164
DTSTAMP:20260423T004327Z
DESCRIPTION:3/3 Lokomotiva Č. Lípa - Orion Praha 0:3 (-19\,-17\,-20)
DTSTART;TZID=Europe/Berlin:20241215T160000
DTEND;TZID=Europe/Berlin:20241215T180000
LOCATION:ZŠ Lada\, Šluknovská 2904 Česká Lípa
SUMMARY:CP-U20M-1-C: Lokomotiva Č. Lípa-Orion Praha
END:VEVENT
BEGIN:VEVENT
UID:31383535-3962-4333-a534-363730333133
DTSTAMP:20260423T004327Z
DESCRIPTION:1/1 Lokomotiva Č. Lípa - VKM Nová Paka U18 3:0 (19\,15\,22)
DTSTART;TZID=Europe/Berlin:20250216T100000
DTEND;TZID=Europe/Berlin:20250216T120000
LOCATION:ZŠ Lada\, Šluknovská 2904 Česká Lípa
SUMMARY:CP-U20M-2-D: Lokomotiva Č. Lípa-VKM Nová Paka U18
END:VEVENT
BEGIN:VEVENT
UID:61353837-6539-4438-b536-656332353965
DTSTAMP:20260423T004327Z
DESCRIPTION:2/2 Lokomotiva Č. Lípa - TJ Sokol Č. Třebová 3:1 (-23\,24\,20\,
 18)
DTSTART;TZID=Europe/Berlin:20250216T130000
DTEND;TZID=Europe/Berlin:20250216T150000
LOCATION:ZŠ Lada\, Šluknovská 2904 Česká Lípa
SUMMARY:CP-U20M-2-D: Lokomotiva Č. Lípa-TJ Sokol Č. Třebová
END:VEVENT
BEGIN:VEVENT
UID:33666164-3539-4737-b235-313436613661
DTSTAMP:20260423T004328Z
DESCRIPTION:2/2 Lokomotiva Č. Lípa - TJ Sokol Č. Třebová 1:3 (24\,-15\,-20\
 ,-23)
DTSTART;TZID=Europe/Berlin:20250316T130000
DTEND;TZID=Europe/Berlin:20250316T150000
LOCATION:TJ Slavia Hradec Králové\, Víta Nejedlého 1216 Hradec Králové
SUMMARY:CP-U20M-3-C: Lokomotiva Č. Lípa-TJ Sokol Č. Třebová
END:VEVENT
BEGIN:VEVENT
UID:34343164-3263-4333-a336-353763646563
DTSTAMP:20260423T004328Z
DESCRIPTION:3/3 Orion Praha - Lokomotiva Č. Lípa 3:0 (18\,21\,19)
DTSTART;TZID=Europe/Berlin:20250316T160000
DTEND;TZID=Europe/Berlin:20250316T180000
LOCATION:TJ Slavia Hradec Králové\, Víta Nejedlého 1216 Hradec Králové
SUMMARY:CP-U20M-3-C: Orion Praha-Lokomotiva Č. Lípa
END:VEVENT
BEGIN:VEVENT
UID:30353734-3362-4736-b161-653061636233
DTSTAMP:20260423T004328Z
DESCRIPTION:1/1 Lokomotiva Č. Lípa - VKM Nová Paka U18 3:1 (20\,19\,-23\,25
 )
DTSTART;TZID=Europe/Berlin:20250406T100000
DTEND;TZID=Europe/Berlin:20250406T120000
LOCATION:ZŠ Lada\, Šluknovská 2904 Česká Lípa
SUMMARY:CP-U20M-4-D: Lokomotiva Č. Lípa-VKM Nová Paka U18
END:VEVENT
BEGIN:VEVENT
UID:30303937-3664-4734-b738-306634346561
DTSTAMP:20260423T004328Z
DESCRIPTION:3/3 TJ Sokol Č. Třebová - Lokomotiva Č. Lípa 0:3 (-0\,-0\,-0)
DTSTART;TZID=Europe/Berlin:20250406T160000
DTEND;TZID=Europe/Berlin:20250406T180000
SUMMARY:CP-U20M-4-D: TJ Sokol Č. Třebová-Lokomotiva Č. Lípa
END:VEVENT
END:VCALENDAR
