BEGIN:VCALENDAR
VERSION:2.0
PRODID:-//VK České Budějovice C85499//NONSGML kigkonsult.se iCalcreator 2.41.80//
CALSCALE:GREGORIAN
UID:66363535-3663-4165-b566-303230333962
BEGIN:VEVENT
UID:64333566-3961-4236-a339-633161373236
DTSTAMP:20260423T005359Z
DESCRIPTION:1/2 VK České Budějovice C - VK České Budějovice B 3:1 (22\,22\,
 -16\,14)\nZákladní škola Oskara Nedbala 20\, České Budějovice
DTSTART;TZID=Europe/Berlin:20241012T103000
DTEND;TZID=Europe/Berlin:20241012T123000
LOCATION:ZŠ Oskara Nedbala České Budějovice\, O. Nedbala 882 České Budějovi
 ce - České Budějovice 2
SUMMARY:JC-U22M-1B: VK České Budějovice C-VK České Budějovice B
END:VEVENT
BEGIN:VEVENT
UID:61366336-3365-4165-b962-663136333432
DTSTAMP:20260423T005359Z
DESCRIPTION:1/3 TJ Sokol Písek - VK České Budějovice C 0:3 (-20\,-27\,-16)
 \nZákladní škola Oskara Nedbala 20\, České Budějovice
DTSTART;TZID=Europe/Berlin:20241012T120000
DTEND;TZID=Europe/Berlin:20241012T140000
LOCATION:Sportovní hala Sokol Písek\, Tyršova 395 Písek - Budějovické Předm
 ěstí
SUMMARY:JC-U22M-1B: TJ Sokol Písek-VK České Budějovice C
END:VEVENT
BEGIN:VEVENT
UID:61383063-3130-4961-b965-363532376566
DTSTAMP:20260423T005359Z
DESCRIPTION:1/1 VK České Budějovice C - VK České Budějovice B 0:3 (-22\,-20
 \,-24)\nZŠ Oskara Nedbala
DTSTART;TZID=Europe/Berlin:20241122T163000
DTEND;TZID=Europe/Berlin:20241122T183000
LOCATION:ZŠ Oskara Nedbala České Budějovice\, O. Nedbala 882 České Budějovi
 ce - České Budějovice 2
SUMMARY:JC-U22M-2A: VK České Budějovice C-VK České Budějovice B
END:VEVENT
BEGIN:VEVENT
UID:35323762-3334-4363-a433-613065663537
DTSTAMP:20260423T005359Z
DESCRIPTION:1/2 VSK Český Krumlov - VK České Budějovice C 0:3 (-15\,-14\,-1
 8)
DTSTART;TZID=Europe/Berlin:20241129T100000
DTEND;TZID=Europe/Berlin:20241129T120000
LOCATION:ZŠ Oskara Nedbala České Budějovice\, O. Nedbala 882 České Budějovi
 ce - České Budějovice 2
SUMMARY:JC-U22M-2A: VSK Český Krumlov-VK České Budějovice C
END:VEVENT
BEGIN:VEVENT
UID:65333064-6639-4339-b363-623865336661
DTSTAMP:20260423T005359Z
DESCRIPTION:1/1 VK České Budějovice C - VSK Český Krumlov 1:3 (-19\,22\,-17
 \,-25)
DTSTART;TZID=Europe/Berlin:20241208T090000
DTEND;TZID=Europe/Berlin:20241208T110000
LOCATION:ZŠ Oskara Nedbala České Budějovice\, O. Nedbala 882 České Budějovi
 ce - České Budějovice 2
SUMMARY:JC-U22M-3B: VK České Budějovice C-VSK Český Krumlov
END:VEVENT
BEGIN:VEVENT
UID:64613639-3864-4438-b861-623735316533
DTSTAMP:20260423T005359Z
DESCRIPTION:1/2 VK České Budějovice C - VK České Budějovice A 0:3 (-20\,-21
 \,-16)
DTSTART;TZID=Europe/Berlin:20241208T103000
DTEND;TZID=Europe/Berlin:20241208T123000
LOCATION:ZŠ Oskara Nedbala České Budějovice\, O. Nedbala 882 České Budějovi
 ce - České Budějovice 2
SUMMARY:JC-U22M-3B: VK České Budějovice C-VK České Budějovice A
END:VEVENT
BEGIN:VEVENT
UID:61303562-3162-4337-a462-613136613535
DTSTAMP:20260423T005359Z
DESCRIPTION:1/2 VK České Budějovice C - VK České Budějovice B 3:0 (21\,20\,
 17)
DTSTART;TZID=Europe/Berlin:20250125T103000
DTEND;TZID=Europe/Berlin:20250125T123000
LOCATION:ZŠ Oskara Nedbala České Budějovice\, O. Nedbala 882 České Budějovi
 ce - České Budějovice 2
SUMMARY:JC-U22M-4B: VK České Budějovice C-VK České Budějovice B
END:VEVENT
BEGIN:VEVENT
UID:63356435-3830-4565-b030-313836656435
DTSTAMP:20260423T005359Z
DESCRIPTION:1/3 TJ Tatran Prachatice - VK České Budějovice C 1:3 (-21\,22\,
 -19\,-23)
DTSTART;TZID=Europe/Berlin:20250125T120000
DTEND;TZID=Europe/Berlin:20250125T140000
LOCATION:, U Stadionu 764 Prachatice - Prachatice II
SUMMARY:JC-U22M-4B: TJ Tatran Prachatice-VK České Budějovice C
END:VEVENT
BEGIN:VEVENT
UID:62323837-3737-4234-b333-343966636264
DTSTAMP:20260423T005359Z
DESCRIPTION:1/1 VK České Budějovice C - VSK Český Krumlov 3:0 (15\,20\,20)
 \nZŠ Oskara Nedbala
DTSTART;TZID=Europe/Berlin:20250323T090000
DTEND;TZID=Europe/Berlin:20250323T110000
LOCATION:ZŠ Oskara Nedbala České Budějovice\, O. Nedbala 882 České Budějovi
 ce - České Budějovice 2
SUMMARY:JC-U22M-5A: VK České Budějovice C-VSK Český Krumlov
END:VEVENT
BEGIN:VEVENT
UID:65383964-3932-4663-b364-663863303632
DTSTAMP:20260423T005359Z
DESCRIPTION:1/3 TJ Tatran Prachatice - VK České Budějovice C 0:3 (-7\,-15\,
 -10)\nZŠ Oskara Nedbala
DTSTART;TZID=Europe/Berlin:20250323T120000
DTEND;TZID=Europe/Berlin:20250323T140000
LOCATION:, U Stadionu 764 Prachatice - Prachatice II
SUMMARY:JC-U22M-5A: TJ Tatran Prachatice-VK České Budějovice C
END:VEVENT
END:VCALENDAR
