BEGIN:VCALENDAR
VERSION:2.0
PRODID:-//VK České Budějovice A85500//NONSGML kigkonsult.se iCalcreator 2.41.80//
CALSCALE:GREGORIAN
UID:62623536-3837-4134-a463-613462643264
BEGIN:VEVENT
UID:37616531-3663-4336-b066-623365633531
DTSTAMP:20260421T153303Z
DESCRIPTION:1/1 České Budějovice A - TJ Slovan J. Hradec 2:0 (13\,22)\nSpor
 tovní hala Týn nad Vltavou
DTSTART;TZID=Europe/Berlin:20240922T090000
DTEND;TZID=Europe/Berlin:20240922T110000
LOCATION:ZŠ Oskara Nedbala České Budějovice\, O. Nedbala 882 České Budějovi
 ce - České Budějovice 2
SUMMARY:JC-U16M-1: České Budějovice A-TJ Slovan J. Hradec
END:VEVENT
BEGIN:VEVENT
UID:36636331-3662-4839-b733-356365343462
DTSTAMP:20260421T153303Z
DESCRIPTION:2/6 České Budějovice A - VSK Český Krumlov 2:0 (8\,16)\nSportov
 ní hala Týn nad Vltavou
DTSTART;TZID=Europe/Berlin:20240922T110000
DTEND;TZID=Europe/Berlin:20240922T130000
LOCATION:ZŠ Oskara Nedbala České Budějovice\, O. Nedbala 882 České Budějovi
 ce - České Budějovice 2
SUMMARY:JC-U16M-1: České Budějovice A-VSK Český Krumlov
END:VEVENT
BEGIN:VEVENT
UID:30313164-3666-4133-a335-616231303038
DTSTAMP:20260421T153303Z
DESCRIPTION:1/3 TJ Sokol Písek - České Budějovice A X:2\nSportovní hala Týn
  nad Vltavou
DTSTART;TZID=Europe/Berlin:20241001T190000
DTEND;TZID=Europe/Berlin:20241001T210000
LOCATION:Sportovní hala Sokol Písek\, Tyršova 395 Písek - Budějovické Předm
 ěstí
SUMMARY:JC-U16M-1: TJ Sokol Písek-České Budějovice A
END:VEVENT
BEGIN:VEVENT
UID:61383735-3432-4865-b138-363338316135
DTSTAMP:20260421T153303Z
DESCRIPTION:2/8 VK České Budějovice B - České Budějovice A 0:2 (-8\,-10)\nS
 portovní hala Týn nad Vltavou
DTSTART;TZID=Europe/Berlin:20240922T120000
DTEND;TZID=Europe/Berlin:20240922T140000
LOCATION:ZŠ Oskara Nedbala České Budějovice\, O. Nedbala 882 České Budějovi
 ce - České Budějovice 2
SUMMARY:JC-U16M-1: VK České Budějovice B-České Budějovice A
END:VEVENT
BEGIN:VEVENT
UID:31623734-6633-4961-a138-346462326636
DTSTAMP:20260421T153303Z
DESCRIPTION:1/1 České Budějovice A - TJ Slovan J. Hradec 2:0 (22\,21)
DTSTART;TZID=Europe/Berlin:20241013T090000
DTEND;TZID=Europe/Berlin:20241013T110000
LOCATION:ZŠ Oskara Nedbala České Budějovice\, O. Nedbala 882 České Budějovi
 ce - České Budějovice 2
SUMMARY:JC-U16M-2: České Budějovice A-TJ Slovan J. Hradec
END:VEVENT
BEGIN:VEVENT
UID:37333833-3866-4830-a134-343635336263
DTSTAMP:20260421T153303Z
DESCRIPTION:2/6 České Budějovice A - VSK Český Krumlov 2:0 (11\,15)
DTSTART;TZID=Europe/Berlin:20241013T100000
DTEND;TZID=Europe/Berlin:20241013T120000
LOCATION:ZŠ Oskara Nedbala České Budějovice\, O. Nedbala 882 České Budějovi
 ce - České Budějovice 2
SUMMARY:JC-U16M-2: České Budějovice A-VSK Český Krumlov
END:VEVENT
BEGIN:VEVENT
UID:61646333-6339-4465-b164-336563383730
DTSTAMP:20260421T153303Z
DESCRIPTION:2/8 VK České Budějovice B - České Budějovice A 0:2 (-8\,-4)
DTSTART;TZID=Europe/Berlin:20241013T110000
DTEND;TZID=Europe/Berlin:20241013T130000
LOCATION:ZŠ Oskara Nedbala České Budějovice\, O. Nedbala 882 České Budějovi
 ce - České Budějovice 2
SUMMARY:JC-U16M-2: VK České Budějovice B-České Budějovice A
END:VEVENT
BEGIN:VEVENT
UID:34346163-3361-4163-a565-333933316336
DTSTAMP:20260421T153303Z
DESCRIPTION:1/5 České Budějovice A - VSK Český Krumlov 2:0 (8\,9)
DTSTART;TZID=Europe/Berlin:20241124T110000
DTEND;TZID=Europe/Berlin:20241124T130000
LOCATION:ZŠ Oskara Nedbala České Budějovice\, O. Nedbala 882 České Budějovi
 ce - České Budějovice 2
SUMMARY:JC-U16M-3: České Budějovice A-VSK Český Krumlov
END:VEVENT
BEGIN:VEVENT
UID:33306663-3939-4938-b062-353638353533
DTSTAMP:20260421T153303Z
DESCRIPTION:1/1 TJ Slovan J. Hradec - České Budějovice A 0:2 (-8\,-11)
DTSTART;TZID=Europe/Berlin:20241124T090000
DTEND;TZID=Europe/Berlin:20241124T110000
LOCATION:Sportovní hala J. Hradec\, U Stadionu 1137 Jindřichův Hradec - Jin
 dřichův Hradec II
SUMMARY:JC-U16M-3: TJ Slovan J. Hradec-České Budějovice A
END:VEVENT
BEGIN:VEVENT
UID:65333563-6562-4161-a236-646330643036
DTSTAMP:20260421T153303Z
DESCRIPTION:1/4 VK České Budějovice B - České Budějovice A 0:2 (-10\,-11)
DTSTART;TZID=Europe/Berlin:20241124T100000
DTEND;TZID=Europe/Berlin:20241124T120000
LOCATION:ZŠ Oskara Nedbala České Budějovice\, O. Nedbala 882 České Budějovi
 ce - České Budějovice 2
SUMMARY:JC-U16M-3: VK České Budějovice B-České Budějovice A
END:VEVENT
BEGIN:VEVENT
UID:63653666-3762-4537-b436-386466643364
DTSTAMP:20260421T153303Z
DESCRIPTION:1/2 České Budějovice A - VSK Český Krumlov 2:0 (10\,3)\nZŠ Oska
 ra Nedbala
DTSTART;TZID=Europe/Berlin:20250111T090000
DTEND;TZID=Europe/Berlin:20250111T110000
LOCATION:ZŠ Oskara Nedbala České Budějovice\, O. Nedbala 882 České Budějovi
 ce - České Budějovice 2
SUMMARY:JC-U16M-4: České Budějovice A-VSK Český Krumlov
END:VEVENT
BEGIN:VEVENT
UID:65303530-6666-4336-b263-626165353239
DTSTAMP:20260421T153303Z
DESCRIPTION:1/3 TJ Slovan J. Hradec - České Budějovice A 0:2 (-6\,-11)\nZŠ 
 Oskara Nedbala
DTSTART;TZID=Europe/Berlin:20250111T100000
DTEND;TZID=Europe/Berlin:20250111T120000
LOCATION:Sportovní hala J. Hradec\, U Stadionu 1137 Jindřichův Hradec - Jin
 dřichův Hradec II
SUMMARY:JC-U16M-4: TJ Slovan J. Hradec-České Budějovice A
END:VEVENT
BEGIN:VEVENT
UID:33663661-3639-4564-b166-326436323033
DTSTAMP:20260421T153303Z
DESCRIPTION:1/5 VK České Budějovice B - České Budějovice A 0:2 (-23\,-9)\nZ
 Š Oskara Nedbala
DTSTART;TZID=Europe/Berlin:20250111T110000
DTEND;TZID=Europe/Berlin:20250111T130000
LOCATION:ZŠ Oskara Nedbala České Budějovice\, O. Nedbala 882 České Budějovi
 ce - České Budějovice 2
SUMMARY:JC-U16M-4: VK České Budějovice B-České Budějovice A
END:VEVENT
BEGIN:VEVENT
UID:66373837-3837-4738-b161-373936646531
DTSTAMP:20260421T153303Z
DESCRIPTION:1/2 České Budějovice A - VSK Český Krumlov 2:0 (8\,7)\nZŠ Oskar
 a Nedbala
DTSTART;TZID=Europe/Berlin:20250322T090000
DTEND;TZID=Europe/Berlin:20250322T110000
LOCATION:ZŠ Oskara Nedbala České Budějovice\, O. Nedbala 882 České Budějovi
 ce - České Budějovice 2
SUMMARY:JC-U16M-5: České Budějovice A-VSK Český Krumlov
END:VEVENT
BEGIN:VEVENT
UID:31653465-6464-4062-a630-303432333134
DTSTAMP:20260421T153303Z
DESCRIPTION:1/3 TJ Slovan J. Hradec - České Budějovice A 0:2 (-18\,-9)\nZŠ 
 Oskara Nedbala
DTSTART;TZID=Europe/Berlin:20250322T100000
DTEND;TZID=Europe/Berlin:20250322T120000
LOCATION:Sportovní hala J. Hradec\, U Stadionu 1137 Jindřichův Hradec - Jin
 dřichův Hradec II
SUMMARY:JC-U16M-5: TJ Slovan J. Hradec-České Budějovice A
END:VEVENT
BEGIN:VEVENT
UID:30313534-3536-4765-a464-333166663031
DTSTAMP:20260421T153303Z
DESCRIPTION:1/5 VK České Budějovice B - České Budějovice A 0:2 (-14\,-14)\n
 ZŠ Oskara Nedbala
DTSTART;TZID=Europe/Berlin:20250322T110000
DTEND;TZID=Europe/Berlin:20250322T130000
LOCATION:ZŠ Oskara Nedbala České Budějovice\, O. Nedbala 882 České Budějovi
 ce - České Budějovice 2
SUMMARY:JC-U16M-5: VK České Budějovice B-České Budějovice A
END:VEVENT
BEGIN:VEVENT
UID:64653035-3162-4866-b963-376434323865
DTSTAMP:20260421T153303Z
DESCRIPTION:2/3 České Budějovice A - Zlín 2:0 (20\,18)
DTSTART;TZID=Europe/Berlin:20250503T111500
DTEND;TZID=Europe/Berlin:20250503T131500
LOCATION:ZŠ Oskara Nedbala České Budějovice\, O. Nedbala 882 České Budějovi
 ce - České Budějovice 2
SUMMARY:MCR-U16M-C: České Budějovice A-Zlín
END:VEVENT
BEGIN:VEVENT
UID:61386666-6666-4435-a166-636362316562
DTSTAMP:20260421T153303Z
DESCRIPTION:4/7 České Budějovice A - SKV Ústí n.L. 2:0 (14\,16)
DTSTART;TZID=Europe/Berlin:20250503T134500
DTEND;TZID=Europe/Berlin:20250503T154500
LOCATION:ZŠ Oskara Nedbala České Budějovice\, O. Nedbala 882 České Budějovi
 ce - České Budějovice 2
SUMMARY:MCR-U16M-C: České Budějovice A-SKV Ústí n.L.
END:VEVENT
BEGIN:VEVENT
UID:36613935-3337-4130-b131-373139393330
DTSTAMP:20260421T153303Z
DESCRIPTION:9/17 České Budějovice A - Příbram A 1:2 (-14\,18\,-13)
DTSTART;TZID=Europe/Berlin:20250504T101500
DTEND;TZID=Europe/Berlin:20250504T121500
LOCATION:ZŠ Oskara Nedbala České Budějovice\, O. Nedbala 882 České Budějovi
 ce - České Budějovice 2
SUMMARY:MCR-U16M-C: České Budějovice A-Příbram A
END:VEVENT
BEGIN:VEVENT
UID:62376661-6331-4666-b039-353134646437
DTSTAMP:20260421T153303Z
DESCRIPTION:11/21 České Budějovice A - Rychnov nad Kněžnou 2:0 (18\,14)
DTSTART;TZID=Europe/Berlin:20250504T124500
DTEND;TZID=Europe/Berlin:20250504T144500
LOCATION:ZŠ Oskara Nedbala České Budějovice\, O. Nedbala 882 České Budějovi
 ce - České Budějovice 2
SUMMARY:MCR-U16M-C: České Budějovice A-Rychnov nad Kněžnou
END:VEVENT
BEGIN:VEVENT
UID:63353664-3764-4533-b830-623130623935
DTSTAMP:20260421T153303Z
DESCRIPTION:1/1 Velké Meziříčí - České Budějovice A 0:2 (-21\,-20)
DTSTART;TZID=Europe/Berlin:20250503T100000
DTEND;TZID=Europe/Berlin:20250503T120000
LOCATION:ZŠ Oskara Nedbala České Budějovice\, O. Nedbala 882 České Budějovi
 ce - České Budějovice 2
SUMMARY:MCR-U16M-C: Velké Meziříčí-České Budějovice A
END:VEVENT
BEGIN:VEVENT
UID:37396130-6564-4831-a133-386462363730
DTSTAMP:20260421T153303Z
DESCRIPTION:6/11 Plzeň - České Budějovice A 0:2 (-17\,-5)
DTSTART;TZID=Europe/Berlin:20250503T161500
DTEND;TZID=Europe/Berlin:20250503T181500
LOCATION:ZŠ Oskara Nedbala České Budějovice\, O. Nedbala 882 České Budějovi
 ce - České Budějovice 2
SUMMARY:MCR-U16M-C: Plzeň-České Budějovice A
END:VEVENT
BEGIN:VEVENT
UID:34653962-6333-4634-b036-653138613564
DTSTAMP:20260421T153303Z
DESCRIPTION:3/6 České Budějovice A - Lvi Praha A 2:1 (-22\,12\,13)
DTSTART;TZID=Europe/Berlin:20250530T182500
DTEND;TZID=Europe/Berlin:20250530T202500
LOCATION:TJ Slavia Hradec Králové\, Víta Nejedlého 1216 Hradec Králové
SUMMARY:MCR-U16M-FD: České Budějovice A-Lvi Praha A
END:VEVENT
BEGIN:VEVENT
UID:64363232-6538-4164-b161-663731306439
DTSTAMP:20260421T153303Z
DESCRIPTION:1/2 Sokol Mn. Hradiště - České Budějovice A 2:1 (22\,-18\,11)
DTSTART;TZID=Europe/Berlin:20250530T130500
DTEND;TZID=Europe/Berlin:20250530T150500
LOCATION:TJ Slavia Hradec Králové\, Víta Nejedlého 1216 Hradec Králové
SUMMARY:MCR-U16M-FD: Sokol Mn. Hradiště-České Budějovice A
END:VEVENT
BEGIN:VEVENT
UID:64643366-6539-4239-b365-646662633262
DTSTAMP:20260421T153303Z
DESCRIPTION:2/3 Blue Ostrava 'B' - České Budějovice A 0:2 (-9\,-15)
DTSTART;TZID=Europe/Berlin:20250530T154500
DTEND;TZID=Europe/Berlin:20250530T174500
LOCATION:TJ Slavia Hradec Králové\, Víta Nejedlého 1216 Hradec Králové
SUMMARY:MCR-U16M-FD: Blue Ostrava 'B'-České Budějovice A
END:VEVENT
BEGIN:VEVENT
UID:34373861-3733-4139-a536-336436646334
DTSTAMP:20260421T153303Z
DESCRIPTION:2/4 České Budějovice A - VS Ostrava 'A' 0:2 (-18\,-20)\nD2 - B1
DTSTART;TZID=Europe/Berlin:20250531T143000
DTEND;TZID=Europe/Berlin:20250531T163000
LOCATION:TJ Slavia Hradec Králové\, Víta Nejedlého 1216 Hradec Králové
SUMMARY:MCR-U16M-FF: České Budějovice A-VS Ostrava 'A'
END:VEVENT
BEGIN:VEVENT
UID:32656363-3230-4364-b135-396434636337
DTSTAMP:20260421T153303Z
DESCRIPTION:1/2 Prosek A - České Budějovice A 2:0 (18\,22)\nB2 - D2
DTSTART;TZID=Europe/Berlin:20250531T113000
DTEND;TZID=Europe/Berlin:20250531T133000
LOCATION:TJ Slavia Hradec Králové\, Víta Nejedlého 1216 Hradec Králové
SUMMARY:MCR-U16M-FF: Prosek A-České Budějovice A
END:VEVENT
BEGIN:VEVENT
UID:37306536-3736-4637-b939-356337383532
DTSTAMP:20260421T153303Z
DESCRIPTION:3/9 Brno - České Budějovice A 0:2 (-21\,-21)\nB3 - D2
DTSTART;TZID=Europe/Berlin:20250531T173000
DTEND;TZID=Europe/Berlin:20250531T193000
LOCATION:TJ Slavia Hradec Králové\, Víta Nejedlého 1216 Hradec Králové
SUMMARY:MCR-U16M-FF: Brno-České Budějovice A
END:VEVENT
BEGIN:VEVENT
UID:31643664-6137-4436-b363-626464323532
DTSTAMP:20260421T153303Z
DESCRIPTION:1/1 Svitavy A - České Budějovice A 1:2 (-22\,24\,-10)\nE3 - F4
DTSTART;TZID=Europe/Berlin:20250601T083000
DTEND;TZID=Europe/Berlin:20250601T103000
LOCATION:Sportovní hala Na Střelnici\, Pražská 2162 Svitavy - Předměstí
SUMMARY:MCR-U16M-FI: Svitavy A-České Budějovice A
END:VEVENT
BEGIN:VEVENT
UID:35363963-3466-4333-b961-353165633134
DTSTAMP:20260421T153303Z
DESCRIPTION:2/10 Lvi Praha A - České Budějovice A 2:1 (23\,-11\,20)\no 5. m
 ísto
DTSTART;TZID=Europe/Berlin:20250601T122000
DTEND;TZID=Europe/Berlin:20250601T142000
LOCATION:ZŠ Balabenka\, náměstí Na Balabence 800 Praha - Libeň
SUMMARY:MCR-U16M-FI: Lvi Praha A-České Budějovice A
END:VEVENT
END:VCALENDAR
