BEGIN:VCALENDAR
VERSION:2.0
PRODID:-//VK České Budějovice B85501//NONSGML kigkonsult.se iCalcreator 2.41.80//
CALSCALE:GREGORIAN
UID:38373736-6134-4461-b836-363133613866
BEGIN:VEVENT
UID:37383835-6534-4035-a433-613134646438
DTSTAMP:20260421T215113Z
DESCRIPTION:2/8 VK České Budějovice B - České Budějovice A 0:2 (-8\,-10)\nS
 portovní hala Týn nad Vltavou
DTSTART;TZID=Europe/Berlin:20240922T120000
DTEND;TZID=Europe/Berlin:20240922T140000
LOCATION:ZŠ Oskara Nedbala České Budějovice\, O. Nedbala 882 České Budějovi
 ce - České Budějovice 2
SUMMARY:JC-U16M-1: VK České Budějovice B-České Budějovice A
END:VEVENT
BEGIN:VEVENT
UID:64386466-6638-4336-a461-653533666631
DTSTAMP:20260421T215113Z
DESCRIPTION:2/10 VK České Budějovice B - TJ Slovan J. Hradec 0:2 (-19\,-3)
 \nSportovní hala Týn nad Vltavou
DTSTART;TZID=Europe/Berlin:20240922T130000
DTEND;TZID=Europe/Berlin:20240922T150000
LOCATION:ZŠ Oskara Nedbala České Budějovice\, O. Nedbala 882 České Budějovi
 ce - České Budějovice 2
SUMMARY:JC-U16M-1: VK České Budějovice B-TJ Slovan J. Hradec
END:VEVENT
BEGIN:VEVENT
UID:31343366-3933-4739-b931-383038363336
DTSTAMP:20260421T215113Z
DESCRIPTION:1/2 VSK Český Krumlov - VK České Budějovice B 2:0 (15\,23)\nSpo
 rtovní hala Týn nad Vltavou
DTSTART;TZID=Europe/Berlin:20240922T090000
DTEND;TZID=Europe/Berlin:20240922T110000
LOCATION:ZŠ Za Nádražím Český Krumlov\, Za Nádražím 222 Český Krumlov - Nád
 ražní Předměstí
SUMMARY:JC-U16M-1: VSK Český Krumlov-VK České Budějovice B
END:VEVENT
BEGIN:VEVENT
UID:64343464-6435-4134-a637-363530303937
DTSTAMP:20260421T215113Z
DESCRIPTION:1/5 TJ Sokol Písek - VK České Budějovice B X:2\nSportovní hala 
 Týn nad Vltavou
DTSTART;TZID=Europe/Berlin:20241001T190000
DTEND;TZID=Europe/Berlin:20241001T210000
LOCATION:Sportovní hala Sokol Písek\, Tyršova 395 Písek - Budějovické Předm
 ěstí
SUMMARY:JC-U16M-1: TJ Sokol Písek-VK České Budějovice B
END:VEVENT
BEGIN:VEVENT
UID:33666531-3166-4233-a437-326165643463
DTSTAMP:20260421T215113Z
DESCRIPTION:2/8 VK České Budějovice B - České Budějovice A 0:2 (-8\,-4)
DTSTART;TZID=Europe/Berlin:20241013T110000
DTEND;TZID=Europe/Berlin:20241013T130000
LOCATION:ZŠ Oskara Nedbala České Budějovice\, O. Nedbala 882 České Budějovi
 ce - České Budějovice 2
SUMMARY:JC-U16M-2: VK České Budějovice B-České Budějovice A
END:VEVENT
BEGIN:VEVENT
UID:30386364-6261-4464-b862-323735363639
DTSTAMP:20260421T215113Z
DESCRIPTION:2/10 VK České Budějovice B - TJ Slovan J. Hradec 0:2 (-27\,-15)
DTSTART;TZID=Europe/Berlin:20241013T110000
DTEND;TZID=Europe/Berlin:20241013T130000
LOCATION:ZŠ Oskara Nedbala České Budějovice\, O. Nedbala 882 České Budějovi
 ce - České Budějovice 2
SUMMARY:JC-U16M-2: VK České Budějovice B-TJ Slovan J. Hradec
END:VEVENT
BEGIN:VEVENT
UID:62393835-3836-4432-b139-636430383265
DTSTAMP:20260421T215113Z
DESCRIPTION:1/2 VSK Český Krumlov - VK České Budějovice B 2:1 (-23\,18\,6)
 \nZŠ Oskara Nedbala
DTSTART;TZID=Europe/Berlin:20241013T090000
DTEND;TZID=Europe/Berlin:20241013T110000
LOCATION:ZŠ Za Nádražím Český Krumlov\, Za Nádražím 222 Český Krumlov - Nád
 ražní Předměstí
SUMMARY:JC-U16M-2: VSK Český Krumlov-VK České Budějovice B
END:VEVENT
BEGIN:VEVENT
UID:39333935-3437-4538-a363-383136306333
DTSTAMP:20260421T215113Z
DESCRIPTION:1/4 VK České Budějovice B - České Budějovice A 0:2 (-10\,-11)
DTSTART;TZID=Europe/Berlin:20241124T100000
DTEND;TZID=Europe/Berlin:20241124T120000
LOCATION:ZŠ Oskara Nedbala České Budějovice\, O. Nedbala 882 České Budějovi
 ce - České Budějovice 2
SUMMARY:JC-U16M-3: VK České Budějovice B-České Budějovice A
END:VEVENT
BEGIN:VEVENT
UID:38613834-3261-4336-b266-303563323961
DTSTAMP:20260421T215113Z
DESCRIPTION:1/2 VSK Český Krumlov - VK České Budějovice B 2:0 (23\,19)
DTSTART;TZID=Europe/Berlin:20241124T090000
DTEND;TZID=Europe/Berlin:20241124T110000
LOCATION:ZŠ Za Nádražím Český Krumlov\, Za Nádražím 222 Český Krumlov - Nád
 ražní Předměstí
SUMMARY:JC-U16M-3: VSK Český Krumlov-VK České Budějovice B
END:VEVENT
BEGIN:VEVENT
UID:66663265-3534-4062-a237-313636643434
DTSTAMP:20260421T215113Z
DESCRIPTION:1/6 TJ Slovan J. Hradec - VK České Budějovice B 2:0 (19\,15)
DTSTART;TZID=Europe/Berlin:20241124T110000
DTEND;TZID=Europe/Berlin:20241124T130000
LOCATION:Sportovní hala J. Hradec\, U Stadionu 1137 Jindřichův Hradec - Jin
 dřichův Hradec II
SUMMARY:JC-U16M-3: TJ Slovan J. Hradec-VK České Budějovice B
END:VEVENT
BEGIN:VEVENT
UID:32326430-3830-4635-b132-613062346637
DTSTAMP:20260421T215113Z
DESCRIPTION:1/5 VK České Budějovice B - České Budějovice A 0:2 (-23\,-9)\nZ
 Š Oskara Nedbala
DTSTART;TZID=Europe/Berlin:20250111T110000
DTEND;TZID=Europe/Berlin:20250111T130000
LOCATION:ZŠ Oskara Nedbala České Budějovice\, O. Nedbala 882 České Budějovi
 ce - České Budějovice 2
SUMMARY:JC-U16M-4: VK České Budějovice B-České Budějovice A
END:VEVENT
BEGIN:VEVENT
UID:36336264-3537-4537-b065-373539326432
DTSTAMP:20260421T215113Z
DESCRIPTION:1/1 TJ Slovan J. Hradec - VK České Budějovice B 1:2 (-9\,18\,-1
 2)\nZŠ Oskara Nedbala
DTSTART;TZID=Europe/Berlin:20250111T090000
DTEND;TZID=Europe/Berlin:20250111T110000
LOCATION:Sportovní hala J. Hradec\, U Stadionu 1137 Jindřichův Hradec - Jin
 dřichův Hradec II
SUMMARY:JC-U16M-4: TJ Slovan J. Hradec-VK České Budějovice B
END:VEVENT
BEGIN:VEVENT
UID:62623837-3438-4164-a365-343831623562
DTSTAMP:20260421T215113Z
DESCRIPTION:1/4 VSK Český Krumlov - VK České Budějovice B 2:1 (25\,-14\,9)
 \nZŠ Oskara Nedbala
DTSTART;TZID=Europe/Berlin:20250111T100000
DTEND;TZID=Europe/Berlin:20250111T120000
LOCATION:ZŠ Za Nádražím Český Krumlov\, Za Nádražím 222 Český Krumlov - Nád
 ražní Předměstí
SUMMARY:JC-U16M-4: VSK Český Krumlov-VK České Budějovice B
END:VEVENT
BEGIN:VEVENT
UID:35666131-3762-4835-a536-306332353263
DTSTAMP:20260421T215113Z
DESCRIPTION:1/5 VK České Budějovice B - České Budějovice A 0:2 (-14\,-14)\n
 ZŠ Oskara Nedbala
DTSTART;TZID=Europe/Berlin:20250322T110000
DTEND;TZID=Europe/Berlin:20250322T130000
LOCATION:ZŠ Oskara Nedbala České Budějovice\, O. Nedbala 882 České Budějovi
 ce - České Budějovice 2
SUMMARY:JC-U16M-5: VK České Budějovice B-České Budějovice A
END:VEVENT
BEGIN:VEVENT
UID:39666530-6164-4161-b938-623364393439
DTSTAMP:20260421T215113Z
DESCRIPTION:1/1 TJ Slovan J. Hradec - VK České Budějovice B 0:2 (-19\,-12)
 \nZŠ Oskara Nedbala
DTSTART;TZID=Europe/Berlin:20250322T090000
DTEND;TZID=Europe/Berlin:20250322T110000
LOCATION:Sportovní hala J. Hradec\, U Stadionu 1137 Jindřichův Hradec - Jin
 dřichův Hradec II
SUMMARY:JC-U16M-5: TJ Slovan J. Hradec-VK České Budějovice B
END:VEVENT
BEGIN:VEVENT
UID:64656634-3538-4661-a138-613631313838
DTSTAMP:20260421T215113Z
DESCRIPTION:1/4 VSK Český Krumlov - VK České Budějovice B 1:2 (-17\,18\,-11
 )\nZŠ Oskara Nedbala
DTSTART;TZID=Europe/Berlin:20250322T100000
DTEND;TZID=Europe/Berlin:20250322T120000
LOCATION:ZŠ Za Nádražím Český Krumlov\, Za Nádražím 222 Český Krumlov - Nád
 ražní Předměstí
SUMMARY:JC-U16M-5: VSK Český Krumlov-VK České Budějovice B
END:VEVENT
END:VCALENDAR
