BEGIN:VCALENDAR
VERSION:2.0
PRODID:-//Beach Volley Vratislavice n. N. z.s.85508//NONSGML kigkonsult.se iCalcreator 2.41.80//
CALSCALE:GREGORIAN
UID:33633736-3162-4838-a565-393861386134
BEGIN:VEVENT
UID:39363535-6632-4338-a538-633462626138
DTSTAMP:20260421T192719Z
DESCRIPTION:1/1 SK Ještědská Liberec z.s. 'B' - Beach Volley Vratislavice n
 . N. z.s. 0:2 (-5\,-21)
DTSTART;TZID=Europe/Berlin:20240915T090000
DTEND;TZID=Europe/Berlin:20240915T110000
LOCATION:ZŠ Ještědská\, Ještědská 354 Liberec - Liberec VIII-Dolní Hanychov
SUMMARY:LIB-U16Z-K-D: SK Ještědská Liberec z.s. 'B'-Beach Volley Vratislavi
 ce n. N. z.s.
END:VEVENT
BEGIN:VEVENT
UID:38633633-6561-4263-b462-326361363831
DTSTAMP:20260421T192719Z
DESCRIPTION:3/3 TJ Bižuterie Jablonec n/N A - Beach Volley Vratislavice n. 
 N. z.s. 2:0 (12\,21)
DTSTART;TZID=Europe/Berlin:20240915T110000
DTEND;TZID=Europe/Berlin:20240915T130000
LOCATION:Městská sportovní hala\, U Přehrady 4747 Jablonec nad Nisou
SUMMARY:LIB-U16Z-K-D: TJ Bižuterie Jablonec n/N A-Beach Volley Vratislavice
  n. N. z.s.
END:VEVENT
BEGIN:VEVENT
UID:38343431-6565-4263-b830-616364653661
DTSTAMP:20260421T192719Z
DESCRIPTION:6/6 Beach Volley Vratislavice B - Beach Volley Vratislavice n. 
 N. z.s. 0:2 (-14\,-23)
DTSTART;TZID=Europe/Berlin:20240915T140000
DTEND;TZID=Europe/Berlin:20240915T160000
LOCATION:, Nad Školou 278 Liberec - Liberec XXX-Vratislavice nad Nisou
SUMMARY:LIB-U16Z-K-D: Beach Volley Vratislavice B-Beach Volley Vratislavice
  n. N. z.s.
END:VEVENT
BEGIN:VEVENT
UID:65383832-3430-4361-b934-313333613563
DTSTAMP:20260421T192719Z
DESCRIPTION:1/2 Beach Volley Vratislavice n. N. z.s. - DUKLA LIBEREC B 2:0 
 (14\,13)
DTSTART;TZID=Europe/Berlin:20241006T090000
DTEND;TZID=Europe/Berlin:20241006T110000
LOCATION:, Nad Školou 278 Liberec - Liberec XXX-Vratislavice nad Nisou
SUMMARY:LIB-U16Z-K-H: Beach Volley Vratislavice n. N. z.s.-DUKLA LIBEREC B
END:VEVENT
BEGIN:VEVENT
UID:33646464-3931-4261-a439-613161616363
DTSTAMP:20260421T192719Z
DESCRIPTION:4/11 Beach Volley Vratislavice n. N. z.s. - Sportovní klub ToRi
 K Doksy\, z.s. 2:0 (10\,5)
DTSTART;TZID=Europe/Berlin:20241006T120000
DTEND;TZID=Europe/Berlin:20241006T140000
LOCATION:, Nad Školou 278 Liberec - Liberec XXX-Vratislavice nad Nisou
SUMMARY:LIB-U16Z-K-H: Beach Volley Vratislavice n. N. z.s.-Sportovní klub T
 oRiK Doksy\, z.s.
END:VEVENT
BEGIN:VEVENT
UID:66356631-3038-4239-b732-366362346431
DTSTAMP:20260421T192719Z
DESCRIPTION:5/14 TJ Slovan Varnsdorf z.s. - Beach Volley Vratislavice n. N.
  z.s. 2:0 (11\,14)
DTSTART;TZID=Europe/Berlin:20241006T130000
DTEND;TZID=Europe/Berlin:20241006T150000
LOCATION:Sportovní hala Varnsdorf\, Západní 2984 Varnsdorf
SUMMARY:LIB-U16Z-K-H: TJ Slovan Varnsdorf z.s.-Beach Volley Vratislavice n.
  N. z.s.
END:VEVENT
BEGIN:VEVENT
UID:32623138-6636-4666-a265-646333383330
DTSTAMP:20260421T192719Z
DESCRIPTION:6/6 Beach Volley Vratislavice n. N. z.s. - Schrödingerův instit
 ut Varnsdorf 0:2 (-11\,-8)
DTSTART;TZID=Europe/Berlin:20241208T140000
DTEND;TZID=Europe/Berlin:20241208T160000
LOCATION:, Nad Školou 278 Liberec - Liberec XXX-Vratislavice nad Nisou
SUMMARY:LIB-U16Z-1-2L: Beach Volley Vratislavice n. N. z.s.-Schrödingerův i
 nstitut Varnsdorf
END:VEVENT
BEGIN:VEVENT
UID:34613335-3033-4165-a463-383333373064
DTSTAMP:20260421T192719Z
DESCRIPTION:2/2 Vrtule Frýdlant\, z.s. - Beach Volley Vratislavice n. N. z.
 s. 0:2 (-21\,-11)
DTSTART;TZID=Europe/Berlin:20241208T100000
DTEND;TZID=Europe/Berlin:20241208T120000
LOCATION:Střední škola hospodářská a lesnická \, Bělíkova 1387 Frýdlant
SUMMARY:LIB-U16Z-1-2L: Vrtule Frýdlant\, z.s.-Beach Volley Vratislavice n. 
 N. z.s.
END:VEVENT
BEGIN:VEVENT
UID:36303537-3632-4135-a162-303733316234
DTSTAMP:20260421T192719Z
DESCRIPTION:4/4 TJ Bižuterie Jablonec n/N B - Beach Volley Vratislavice n. 
 N. z.s. 0:2 (-11\,-20)
DTSTART;TZID=Europe/Berlin:20241208T120000
DTEND;TZID=Europe/Berlin:20241208T140000
LOCATION:Městská sportovní hala\, U Přehrady 4747 Jablonec nad Nisou
SUMMARY:LIB-U16Z-1-2L: TJ Bižuterie Jablonec n/N B-Beach Volley Vratislavic
 e n. N. z.s.
END:VEVENT
BEGIN:VEVENT
UID:34366332-3962-4265-b063-653661333037
DTSTAMP:20260421T192719Z
DESCRIPTION:1/1 Beach Volley Vratislavice n. N. z.s. - TJ Sokol Mnichovo Hr
 adiště 2:0 (19\,17)
DTSTART;TZID=Europe/Berlin:20250105T090000
DTEND;TZID=Europe/Berlin:20250105T110000
LOCATION:, Nad Školou 278 Liberec - Liberec XXX-Vratislavice nad Nisou
SUMMARY:LIB-U16Z-2-2L: Beach Volley Vratislavice n. N. z.s.-TJ Sokol Mnicho
 vo Hradiště
END:VEVENT
BEGIN:VEVENT
UID:34386665-3530-4338-a336-383265613562
DTSTAMP:20260421T192719Z
DESCRIPTION:7/7 Beach Volley Vratislavice n. N. z.s. - TJ Bižuterie Jablone
 c n/N B 2:0 (24\,19)
DTSTART;TZID=Europe/Berlin:20250105T120000
DTEND;TZID=Europe/Berlin:20250105T140000
LOCATION:, Nad Školou 278 Liberec - Liberec XXX-Vratislavice nad Nisou
SUMMARY:LIB-U16Z-2-2L: Beach Volley Vratislavice n. N. z.s.-TJ Bižuterie Ja
 blonec n/N B
END:VEVENT
BEGIN:VEVENT
UID:30353135-3861-4164-b862-613866353630
DTSTAMP:20260421T192719Z
DESCRIPTION:9/9 TJ Slovan Varnsdorf z.s. - Beach Volley Vratislavice n. N. 
 z.s. 2:1 (16\,-19\,10)
DTSTART;TZID=Europe/Berlin:20250105T130000
DTEND;TZID=Europe/Berlin:20250105T150000
LOCATION:Sportovní hala Varnsdorf\, Západní 2984 Varnsdorf
SUMMARY:LIB-U16Z-2-2L: TJ Slovan Varnsdorf z.s.-Beach Volley Vratislavice n
 . N. z.s.
END:VEVENT
BEGIN:VEVENT
UID:39623436-3931-4132-a630-376261346666
DTSTAMP:20260421T192719Z
DESCRIPTION:1/1 Beach Volley Vratislavice n. N. z.s. - DUKLA LIBEREC B 2:0 
 (0\,0)
DTSTART;TZID=Europe/Berlin:20250119T090000
DTEND;TZID=Europe/Berlin:20250119T110000
LOCATION:, Nad Školou 278 Liberec - Liberec XXX-Vratislavice nad Nisou
SUMMARY:LIB-U16Z-3-2L: Beach Volley Vratislavice n. N. z.s.-DUKLA LIBEREC B
END:VEVENT
BEGIN:VEVENT
UID:35376261-3163-4833-b739-616566313362
DTSTAMP:20260421T192719Z
DESCRIPTION:4/7 Beach Volley Vratislavice n. N. z.s. - TJ Sokol Mnichovo Hr
 adiště 0:2 (-20\,-19)
DTSTART;TZID=Europe/Berlin:20250119T120000
DTEND;TZID=Europe/Berlin:20250119T140000
LOCATION:, Nad Školou 278 Liberec - Liberec XXX-Vratislavice nad Nisou
SUMMARY:LIB-U16Z-3-2L: Beach Volley Vratislavice n. N. z.s.-TJ Sokol Mnicho
 vo Hradiště
END:VEVENT
BEGIN:VEVENT
UID:35353864-3463-4130-a232-336433353436
DTSTAMP:20260421T192719Z
DESCRIPTION:5/9 Schrödingerův institut Varnsdorf - Beach Volley Vratislavic
 e n. N. z.s. 2:0 (23\,22)
DTSTART;TZID=Europe/Berlin:20250119T130000
DTEND;TZID=Europe/Berlin:20250119T150000
LOCATION:, Edisonova 2821 Varnsdorf
SUMMARY:LIB-U16Z-3-2L: Schrödingerův institut Varnsdorf-Beach Volley Vratis
 lavice n. N. z.s.
END:VEVENT
BEGIN:VEVENT
UID:62623832-3331-4336-b239-613966343962
DTSTAMP:20260421T192719Z
DESCRIPTION:6/16 Beach Volley Vratislavice n. N. z.s. - TJ Bižuterie Jablon
 ec n/N B 2:1 (22\,-16\,15)
DTSTART;TZID=Europe/Berlin:20250202T140000
DTEND;TZID=Europe/Berlin:20250202T160000
LOCATION:, Nad Školou 278 Liberec - Liberec XXX-Vratislavice nad Nisou
SUMMARY:LIB-U16Z-4-2L: Beach Volley Vratislavice n. N. z.s.-TJ Bižuterie Ja
 blonec n/N B
END:VEVENT
BEGIN:VEVENT
UID:62623832-3636-4730-a164-303038323236
DTSTAMP:20260421T192719Z
DESCRIPTION:2/4 TJ Slovan Varnsdorf z.s. - Beach Volley Vratislavice n. N. 
 z.s. 2:0 (17\,20)
DTSTART;TZID=Europe/Berlin:20250202T100000
DTEND;TZID=Europe/Berlin:20250202T120000
LOCATION:Sportovní hala Varnsdorf\, Západní 2984 Varnsdorf
SUMMARY:LIB-U16Z-4-2L: TJ Slovan Varnsdorf z.s.-Beach Volley Vratislavice n
 . N. z.s.
END:VEVENT
BEGIN:VEVENT
UID:62646265-3830-4864-a661-653337323766
DTSTAMP:20260421T192719Z
DESCRIPTION:4/10 TJ Sokol Mnichovo Hradiště - Beach Volley Vratislavice n. 
 N. z.s. 1:2 (21\,-20\,-14)
DTSTART;TZID=Europe/Berlin:20250202T120000
DTEND;TZID=Europe/Berlin:20250202T140000
LOCATION:Sportovní hala BIOS\, Sokolovská 254 Mnichovo Hradiště
SUMMARY:LIB-U16Z-4-2L: TJ Sokol Mnichovo Hradiště-Beach Volley Vratislavice
  n. N. z.s.
END:VEVENT
BEGIN:VEVENT
UID:34306635-6265-4662-b931-313836366439
DTSTAMP:20260421T192719Z
DESCRIPTION:1/1 Beach Volley Vratislavice n. N. z.s. - TJ SLAVIA Liberec 0:
 2 (-19\,-15)
DTSTART;TZID=Europe/Berlin:20250223T090000
DTEND;TZID=Europe/Berlin:20250223T110000
LOCATION:, Nad Školou 278 Liberec - Liberec XXX-Vratislavice nad Nisou
SUMMARY:LIB-U16Z-5-2L: Beach Volley Vratislavice n. N. z.s.-TJ SLAVIA Liber
 ec
END:VEVENT
BEGIN:VEVENT
UID:37393164-6333-4930-b631-656334383239
DTSTAMP:20260421T192719Z
DESCRIPTION:4/4 Beach Volley Vratislavice n. N. z.s. - TJ Bižuterie Jablone
 c n/N B 0:2 (-13\,-18)
DTSTART;TZID=Europe/Berlin:20250223T120000
DTEND;TZID=Europe/Berlin:20250223T140000
LOCATION:, Nad Školou 278 Liberec - Liberec XXX-Vratislavice nad Nisou
SUMMARY:LIB-U16Z-5-2L: Beach Volley Vratislavice n. N. z.s.-TJ Bižuterie Ja
 blonec n/N B
END:VEVENT
BEGIN:VEVENT
UID:62643464-6538-4232-a233-643965376432
DTSTAMP:20260421T192719Z
DESCRIPTION:5/5 Schrödingerův institut Varnsdorf - Beach Volley Vratislavic
 e n. N. z.s. 2:0 (19\,20)
DTSTART;TZID=Europe/Berlin:20250223T130000
DTEND;TZID=Europe/Berlin:20250223T150000
LOCATION:, Edisonova 2821 Varnsdorf
SUMMARY:LIB-U16Z-5-2L: Schrödingerův institut Varnsdorf-Beach Volley Vratis
 lavice n. N. z.s.
END:VEVENT
BEGIN:VEVENT
UID:63366131-3539-4566-b934-656566343061
DTSTAMP:20260421T192719Z
DESCRIPTION:1/1 Beach Volley Vratislavice n. N. z.s. - TJ Sokol Mnichovo Hr
 adiště 2:1 (17\,-21\,12)
DTSTART;TZID=Europe/Berlin:20250316T090000
DTEND;TZID=Europe/Berlin:20250316T110000
LOCATION:, Nad Školou 278 Liberec - Liberec XXX-Vratislavice nad Nisou
SUMMARY:LIB-U16Z-F-2L: Beach Volley Vratislavice n. N. z.s.-TJ Sokol Mnicho
 vo Hradiště
END:VEVENT
BEGIN:VEVENT
UID:61613038-6364-4361-b732-316564383365
DTSTAMP:20260421T192719Z
DESCRIPTION:4/7 Beach Volley Vratislavice n. N. z.s. - TJ Bižuterie Jablone
 c n/N B 1:2 (-21\,23\,-12)
DTSTART;TZID=Europe/Berlin:20250316T120000
DTEND;TZID=Europe/Berlin:20250316T140000
LOCATION:, Nad Školou 278 Liberec - Liberec XXX-Vratislavice nad Nisou
SUMMARY:LIB-U16Z-F-2L: Beach Volley Vratislavice n. N. z.s.-TJ Bižuterie Ja
 blonec n/N B
END:VEVENT
BEGIN:VEVENT
UID:37343162-3837-4635-b563-363333363463
DTSTAMP:20260421T192719Z
DESCRIPTION:5/9 Schrödingerův institut Varnsdorf - Beach Volley Vratislavic
 e n. N. z.s. 2:0 (10\,17)
DTSTART;TZID=Europe/Berlin:20250316T130000
DTEND;TZID=Europe/Berlin:20250316T150000
LOCATION:, Edisonova 2821 Varnsdorf
SUMMARY:LIB-U16Z-F-2L: Schrödingerův institut Varnsdorf-Beach Volley Vratis
 lavice n. N. z.s.
END:VEVENT
END:VCALENDAR
