BEGIN:VCALENDAR
VERSION:2.0
PRODID:-//TJ Lokomotiva Česká Lípa, z.s.85520//NONSGML kigkonsult.se iCalcreator 2.41.80//
CALSCALE:GREGORIAN
UID:62633061-6535-4163-b838-306438366337
BEGIN:VEVENT
UID:62623833-3566-4462-b634-333730366332
DTSTAMP:20260422T111948Z
DESCRIPTION:1/4 TJ Lokomotiva Česká Lípa\, z.s. - Sportovní klub Hodkovice 
 nad Mohelkou z.s. 1:2 (-20\,21\,-14)\nNový Bor
DTSTART;TZID=Europe/Berlin:20240908T130000
DTEND;TZID=Europe/Berlin:20240908T150000
LOCATION:ZŠ Lada\, Šluknovská 2904 Česká Lípa
SUMMARY:LIB-U22Z-K-A: TJ Lokomotiva Česká Lípa\, z.s.-Sportovní klub Hodkov
 ice nad Mohelkou z.s.
END:VEVENT
BEGIN:VEVENT
UID:65623062-3162-4533-a264-386331643538
DTSTAMP:20260422T111948Z
DESCRIPTION:1/5 TJ Lokomotiva Česká Lípa\, z.s. - TJ Bižuterie Jablonec n/N
  A 0:2 (-8\,-19)\nNový Bor
DTSTART;TZID=Europe/Berlin:20240908T140000
DTEND;TZID=Europe/Berlin:20240908T160000
LOCATION:ZŠ Lada\, Šluknovská 2904 Česká Lípa
SUMMARY:LIB-U22Z-K-A: TJ Lokomotiva Česká Lípa\, z.s.-TJ Bižuterie Jablonec
  n/N A
END:VEVENT
BEGIN:VEVENT
UID:62643730-6266-4161-b037-613563663666
DTSTAMP:20260422T111948Z
DESCRIPTION:1/2 TJ Bižuterie Jablonec n/N B - TJ Lokomotiva Česká Lípa\, z.
 s. 2:0 (18\,16)\nNový Bor
DTSTART;TZID=Europe/Berlin:20240908T120000
DTEND;TZID=Europe/Berlin:20240908T140000
LOCATION:Městská sportovní hala\, U Přehrady 4747 Jablonec nad Nisou
SUMMARY:LIB-U22Z-K-A: TJ Bižuterie Jablonec n/N B-TJ Lokomotiva Česká Lípa\
 , z.s.
END:VEVENT
BEGIN:VEVENT
UID:63363936-6133-4634-a466-666337663764
DTSTAMP:20260422T111948Z
DESCRIPTION:1/1 TJ Lokomotiva Česká Lípa\, z.s. - Vrtule Frýdlant\, z.s. 0:
 2 (-7\,-13)\nTechnická univerzita Liberec
DTSTART;TZID=Europe/Berlin:20240929T090000
DTEND;TZID=Europe/Berlin:20240929T110000
LOCATION:ZŠ Lada\, Šluknovská 2904 Česká Lípa
SUMMARY:LIB-U22Z-K-F: TJ Lokomotiva Česká Lípa\, z.s.-Vrtule Frýdlant\, z.s
 .
END:VEVENT
BEGIN:VEVENT
UID:30643230-3563-4738-b433-616331633734
DTSTAMP:20260422T111948Z
DESCRIPTION:2/6 TJ Lokomotiva Česká Lípa\, z.s. - Sportovní klub ToRiK Doks
 y\, z.s. 2:0 (7\,11)\nTechnická univerzita Liberec
DTSTART;TZID=Europe/Berlin:20240929T120000
DTEND;TZID=Europe/Berlin:20240929T140000
LOCATION:ZŠ Lada\, Šluknovská 2904 Česká Lípa
SUMMARY:LIB-U22Z-K-F: TJ Lokomotiva Česká Lípa\, z.s.-Sportovní klub ToRiK 
 Doksy\, z.s.
END:VEVENT
BEGIN:VEVENT
UID:65656430-3836-4130-a565-623032303632
DTSTAMP:20260422T111948Z
DESCRIPTION:1/4 Beach Volley Vratislavice n. N. z.s. - TJ Lokomotiva Česká 
 Lípa\, z.s. 2:0 (14\,16)\nTechnická univerzita Liberec
DTSTART;TZID=Europe/Berlin:20240929T100000
DTEND;TZID=Europe/Berlin:20240929T120000
LOCATION:, Nad Školou 278 Liberec - Liberec XXX-Vratislavice nad Nisou
SUMMARY:LIB-U22Z-K-F: Beach Volley Vratislavice n. N. z.s.-TJ Lokomotiva Če
 ská Lípa\, z.s.
END:VEVENT
BEGIN:VEVENT
UID:38663439-3136-4436-b763-636662656631
DTSTAMP:20260422T111948Z
DESCRIPTION:1/2 TJ Lokomotiva Česká Lípa\, z.s. - TJ Bižuterie Jablonec n/N
  B 1:2 (23\,-17\,-11)\nČeská Lípa
DTSTART;TZID=Europe/Berlin:20241013T100000
DTEND;TZID=Europe/Berlin:20241013T120000
LOCATION:ZŠ Lada\, Šluknovská 2904 Česká Lípa
SUMMARY:LIB-U22Z-1-3: TJ Lokomotiva Česká Lípa\, z.s.-TJ Bižuterie Jablonec
  n/N B
END:VEVENT
BEGIN:VEVENT
UID:64303439-3939-4930-b563-323836643338
DTSTAMP:20260422T111948Z
DESCRIPTION:1/3 TJ Lokomotiva Česká Lípa\, z.s. - Tělovýchovná jednota Jisk
 ra Nový Bor\, z.s. 'B' 1:2 (-22\,21\,-10)\nČeská Lípa
DTSTART;TZID=Europe/Berlin:20241013T120000
DTEND;TZID=Europe/Berlin:20241013T140000
LOCATION:ZŠ Lada\, Šluknovská 2904 Česká Lípa
SUMMARY:LIB-U22Z-1-3: TJ Lokomotiva Česká Lípa\, z.s.-Tělovýchovná jednota 
 Jiskra Nový Bor\, z.s. 'B'
END:VEVENT
BEGIN:VEVENT
UID:66356637-6634-4838-a230-316231613866
DTSTAMP:20260422T111948Z
DESCRIPTION:1/5 TJ Lokomotiva Česká Lípa\, z.s. - Hodkovice 2:1 (-24\,13\,8
 )\nČeská Lípa
DTSTART;TZID=Europe/Berlin:20241013T140000
DTEND;TZID=Europe/Berlin:20241013T160000
LOCATION:ZŠ Lada\, Šluknovská 2904 Česká Lípa
SUMMARY:LIB-U22Z-1-3: TJ Lokomotiva Česká Lípa\, z.s.-Hodkovice
END:VEVENT
BEGIN:VEVENT
UID:33386366-6331-4439-b038-636430323936
DTSTAMP:20260422T111948Z
DESCRIPTION:1/2 TJ Lokomotiva Česká Lípa\, z.s. - TJ Slovan Varnsdorf z.s. 
 2:0 (15\,23)\nMnichovo Hradiště
DTSTART;TZID=Europe/Berlin:20241110T100000
DTEND;TZID=Europe/Berlin:20241110T120000
LOCATION:ZŠ Lada\, Šluknovská 2904 Česká Lípa
SUMMARY:LIB-U22Z-2-3: TJ Lokomotiva Česká Lípa\, z.s.-TJ Slovan Varnsdorf z
 .s.
END:VEVENT
BEGIN:VEVENT
UID:32623933-3234-4862-b831-323130643965
DTSTAMP:20260422T111948Z
DESCRIPTION:1/3 TJ Lokomotiva Česká Lípa\, z.s. - Schrödingerův institut Va
 rnsdorf 0:2 (-6\,-19)\nMnichovo Hradiště
DTSTART;TZID=Europe/Berlin:20241110T120000
DTEND;TZID=Europe/Berlin:20241110T140000
LOCATION:ZŠ Lada\, Šluknovská 2904 Česká Lípa
SUMMARY:LIB-U22Z-2-3: TJ Lokomotiva Česká Lípa\, z.s.-Schrödingerův institu
 t Varnsdorf
END:VEVENT
BEGIN:VEVENT
UID:33343731-3730-4262-b364-646435373533
DTSTAMP:20260422T111948Z
DESCRIPTION:1/5 TJ Bižuterie Jablonec n/N B - TJ Lokomotiva Česká Lípa\, z.
 s. 2:0 (2\,13)\nMnichovo Hradiště
DTSTART;TZID=Europe/Berlin:20241110T140000
DTEND;TZID=Europe/Berlin:20241110T160000
LOCATION:Městská sportovní hala\, U Přehrady 4747 Jablonec nad Nisou
SUMMARY:LIB-U22Z-2-3: TJ Bižuterie Jablonec n/N B-TJ Lokomotiva Česká Lípa\
 , z.s.
END:VEVENT
BEGIN:VEVENT
UID:32376335-6236-4130-b430-353334363663
DTSTAMP:20260422T111948Z
DESCRIPTION:2/6 TJ Lokomotiva Česká Lípa\, z.s. - TJ Bižuterie Jablonec n/N
  B 1:2 (24\,-17\,-10)\nHodkovice nad Mohelkou
DTSTART;TZID=Europe/Berlin:20241201T140000
DTEND;TZID=Europe/Berlin:20241201T160000
LOCATION:ZŠ Lada\, Šluknovská 2904 Česká Lípa
SUMMARY:LIB-U22Z-3-3: TJ Lokomotiva Česká Lípa\, z.s.-TJ Bižuterie Jablonec
  n/N B
END:VEVENT
BEGIN:VEVENT
UID:32373633-6336-4266-b237-613433626466
DTSTAMP:20260422T111948Z
DESCRIPTION:1/3 Tělovýchovná jednota Jiskra Nový Bor\, z.s. 'B' - TJ Lokomo
 tiva Česká Lípa\, z.s. 2:0 (12\,19)\nHodkovice nad Mohelkou
DTSTART;TZID=Europe/Berlin:20241201T110000
DTEND;TZID=Europe/Berlin:20241201T130000
LOCATION:Sportovní hala Františka Arnošta Nový Bor\, U hřiště 1391 Nový Bor
SUMMARY:LIB-U22Z-3-3: Tělovýchovná jednota Jiskra Nový Bor\, z.s. 'B'-TJ Lo
 komotiva Česká Lípa\, z.s.
END:VEVENT
BEGIN:VEVENT
UID:37353461-6665-4262-b433-326236646634
DTSTAMP:20260422T111948Z
DESCRIPTION:1/4 Hodkovice - TJ Lokomotiva Česká Lípa\, z.s. 1:2 (-17\,24\,-
 11)\nHodkovice nad Mohelkou
DTSTART;TZID=Europe/Berlin:20241201T120000
DTEND;TZID=Europe/Berlin:20241201T140000
LOCATION:Sportovní hala Hodkovice nad Mohelkou\, Sportovní 588 Hodkovice na
 d Mohelkou
SUMMARY:LIB-U22Z-3-3: Hodkovice-TJ Lokomotiva Česká Lípa\, z.s.
END:VEVENT
BEGIN:VEVENT
UID:35306631-3561-4065-b937-333061373864
DTSTAMP:20260422T111948Z
DESCRIPTION:1/5 TJ Lokomotiva Česká Lípa\, z.s. - TJ Bižuterie Jablonec n/N
  B 2:0 (0\,0)\nVarnsdorf
DTSTART;TZID=Europe/Berlin:20250112T130000
DTEND;TZID=Europe/Berlin:20250112T150000
LOCATION:ZŠ Lada\, Šluknovská 2904 Česká Lípa
SUMMARY:LIB-U22Z-4-3: TJ Lokomotiva Česká Lípa\, z.s.-TJ Bižuterie Jablonec
  n/N B
END:VEVENT
BEGIN:VEVENT
UID:66393539-3336-4433-a236-623362343839
DTSTAMP:20260422T111948Z
DESCRIPTION:1/1 TJ Slovan Varnsdorf z.s. - TJ Lokomotiva Česká Lípa\, z.s. 
 2:0 (16\,24)\nVarnsdorf
DTSTART;TZID=Europe/Berlin:20250112T090000
DTEND;TZID=Europe/Berlin:20250112T110000
LOCATION:Sportovní hala Varnsdorf\, Západní 2984 Varnsdorf
SUMMARY:LIB-U22Z-4-3: TJ Slovan Varnsdorf z.s.-TJ Lokomotiva Česká Lípa\, z
 .s.
END:VEVENT
BEGIN:VEVENT
UID:62376537-3363-4565-b136-646338653463
DTSTAMP:20260422T111948Z
DESCRIPTION:1/3 USK Slavia Liberec z.s. - TJ Lokomotiva Česká Lípa\, z.s. 2
 :0 (14\,11)\nVarnsdorf
DTSTART;TZID=Europe/Berlin:20250112T100000
DTEND;TZID=Europe/Berlin:20250112T120000
LOCATION:ZŠ Dobiášova\, Dobiášova 851 Liberec - Liberec VI-Rochlice
SUMMARY:LIB-U22Z-4-3: USK Slavia Liberec z.s.-TJ Lokomotiva Česká Lípa\, z.
 s.
END:VEVENT
BEGIN:VEVENT
UID:34623430-6364-4865-b661-346238373562
DTSTAMP:20260422T111948Z
DESCRIPTION:1/1 TJ Lokomotiva Česká Lípa\, z.s. - Tělovýchovná jednota Jisk
 ra Nový Bor\, z.s. 'B' 0:2 (-14\,-16)\nČeská Lípa
DTSTART;TZID=Europe/Berlin:20250209T100000
DTEND;TZID=Europe/Berlin:20250209T120000
LOCATION:ZŠ Lada\, Šluknovská 2904 Česká Lípa
SUMMARY:LIB-U22Z-5-3: TJ Lokomotiva Česká Lípa\, z.s.-Tělovýchovná jednota 
 Jiskra Nový Bor\, z.s. 'B'
END:VEVENT
BEGIN:VEVENT
UID:30303532-3966-4638-a235-343266373664
DTSTAMP:20260422T111948Z
DESCRIPTION:1/3 TJ Lokomotiva Česká Lípa\, z.s. - TJ Turnov 'C' 2:1 (-24\,2
 0\,4)\nČeská Lípa
DTSTART;TZID=Europe/Berlin:20250209T120000
DTEND;TZID=Europe/Berlin:20250209T140000
LOCATION:ZŠ Lada\, Šluknovská 2904 Česká Lípa
SUMMARY:LIB-U22Z-5-3: TJ Lokomotiva Česká Lípa\, z.s.-TJ Turnov 'C'
END:VEVENT
BEGIN:VEVENT
UID:38356165-6235-4239-b365-306138613336
DTSTAMP:20260422T111948Z
DESCRIPTION:1/5 TJ Lokomotiva Česká Lípa\, z.s. - TJ Slovan Varnsdorf z.s. 
 2:1 (25\,-23\,10)\nČeská Lípa
DTSTART;TZID=Europe/Berlin:20250209T140000
DTEND;TZID=Europe/Berlin:20250209T160000
LOCATION:ZŠ Lada\, Šluknovská 2904 Česká Lípa
SUMMARY:LIB-U22Z-5-3: TJ Lokomotiva Česká Lípa\, z.s.-TJ Slovan Varnsdorf z
 .s.
END:VEVENT
BEGIN:VEVENT
UID:61643039-3466-4739-b536-653761613237
DTSTAMP:20260422T111948Z
DESCRIPTION:1/1 TJ Lokomotiva Česká Lípa\, z.s. - Tělovýchovná jednota Jisk
 ra Nový Bor\, z.s. 'B' 0:2 (-18\,-22)\nJablonec nad Nisou
DTSTART;TZID=Europe/Berlin:20250330T090000
DTEND;TZID=Europe/Berlin:20250330T110000
LOCATION:ZŠ Lada\, Šluknovská 2904 Česká Lípa
SUMMARY:LIB-U22Z-6-3: TJ Lokomotiva Česká Lípa\, z.s.-Tělovýchovná jednota 
 Jiskra Nový Bor\, z.s. 'B'
END:VEVENT
BEGIN:VEVENT
UID:36383764-3664-4735-a661-663765633562
DTSTAMP:20260422T111948Z
DESCRIPTION:1/4 TJ Bižuterie Jablonec n/N B - TJ Lokomotiva Česká Lípa\, z.
 s. 2:0 (11\,11)\nJablonec nad Nisou
DTSTART;TZID=Europe/Berlin:20250330T120000
DTEND;TZID=Europe/Berlin:20250330T140000
LOCATION:Městská sportovní hala\, U Přehrady 4747 Jablonec nad Nisou
SUMMARY:LIB-U22Z-6-3: TJ Bižuterie Jablonec n/N B-TJ Lokomotiva Česká Lípa\
 , z.s.
END:VEVENT
BEGIN:VEVENT
UID:39313132-3064-4161-a339-336333646137
DTSTAMP:20260422T111948Z
DESCRIPTION:2/6 TJ Slovan Varnsdorf z.s. - TJ Lokomotiva Česká Lípa\, z.s. 
 2:1 (20\,-20\,5)\nJablonec nad Nisou
DTSTART;TZID=Europe/Berlin:20250330T140000
DTEND;TZID=Europe/Berlin:20250330T160000
LOCATION:Sportovní hala Varnsdorf\, Západní 2984 Varnsdorf
SUMMARY:LIB-U22Z-6-3: TJ Slovan Varnsdorf z.s.-TJ Lokomotiva Česká Lípa\, z
 .s.
END:VEVENT
END:VCALENDAR
