BEGIN:VCALENDAR
VERSION:2.0
PRODID:-//Beach Volley Vratislavice n. N. z.s.85533//NONSGML kigkonsult.se iCalcreator 2.41.80//
CALSCALE:GREGORIAN
UID:35336262-3565-4563-a166-313239653331
BEGIN:VEVENT
UID:37303961-6366-4234-b033-346463363237
DTSTAMP:20260421T192722Z
DESCRIPTION:4/4 Beach Volley Vratislavice B - SK Ještědská Liberec z.s. 'B'
  2:1 (20\,-11\,9)
DTSTART;TZID=Europe/Berlin:20240915T120000
DTEND;TZID=Europe/Berlin:20240915T140000
LOCATION:, Nad Školou 278 Liberec - Liberec XXX-Vratislavice nad Nisou
SUMMARY:LIB-U16Z-K-D: Beach Volley Vratislavice B-SK Ještědská Liberec z.s.
  'B'
END:VEVENT
BEGIN:VEVENT
UID:33633034-3263-4631-b130-633938303864
DTSTAMP:20260421T192722Z
DESCRIPTION:6/6 Beach Volley Vratislavice B - Beach Volley Vratislavice n. 
 N. z.s. 0:2 (-14\,-23)
DTSTART;TZID=Europe/Berlin:20240915T140000
DTEND;TZID=Europe/Berlin:20240915T160000
LOCATION:, Nad Školou 278 Liberec - Liberec XXX-Vratislavice nad Nisou
SUMMARY:LIB-U16Z-K-D: Beach Volley Vratislavice B-Beach Volley Vratislavice
  n. N. z.s.
END:VEVENT
BEGIN:VEVENT
UID:66396663-3038-4033-a338-323433316337
DTSTAMP:20260421T192722Z
DESCRIPTION:2/2 TJ Bižuterie Jablonec n/N A - Beach Volley Vratislavice B 2
 :0 (4\,12)
DTSTART;TZID=Europe/Berlin:20240915T100000
DTEND;TZID=Europe/Berlin:20240915T120000
LOCATION:Městská sportovní hala\, U Přehrady 4747 Jablonec nad Nisou
SUMMARY:LIB-U16Z-K-D: TJ Bižuterie Jablonec n/N A-Beach Volley Vratislavice
  B
END:VEVENT
BEGIN:VEVENT
UID:61373438-6665-4030-a134-353366373664
DTSTAMP:20260421T192722Z
DESCRIPTION:6/6 Beach Volley Vratislavice B - TJ Bižuterie Jablonec n/N B 0
 :2 (-15\,-15)
DTSTART;TZID=Europe/Berlin:20241006T140000
DTEND;TZID=Europe/Berlin:20241006T160000
LOCATION:, Nad Školou 278 Liberec - Liberec XXX-Vratislavice nad Nisou
SUMMARY:LIB-U16Z-K-F: Beach Volley Vratislavice B-TJ Bižuterie Jablonec n/N
  B
END:VEVENT
BEGIN:VEVENT
UID:63383663-6536-4936-b931-623239323231
DTSTAMP:20260421T192722Z
DESCRIPTION:8/8 Beach Volley Vratislavice B - SK Osečná\, z.s. 2:0 (14\,24)
DTSTART;TZID=Europe/Berlin:20241006T160000
DTEND;TZID=Europe/Berlin:20241006T180000
LOCATION:, Nad Školou 278 Liberec - Liberec XXX-Vratislavice nad Nisou
SUMMARY:LIB-U16Z-K-F: Beach Volley Vratislavice B-SK Osečná\, z.s.
END:VEVENT
BEGIN:VEVENT
UID:63306637-6434-4430-a566-643935666361
DTSTAMP:20260421T192722Z
DESCRIPTION:2/2 TJ Jiskra Nový Bor - Beach Volley Vratislavice B 2:0 (4\,12
 )
DTSTART;TZID=Europe/Berlin:20241006T100000
DTEND;TZID=Europe/Berlin:20241006T120000
LOCATION:Sportovní hala Františka Arnošta Nový Bor\, U hřiště 1391 Nový Bor
SUMMARY:LIB-U16Z-K-F: TJ Jiskra Nový Bor-Beach Volley Vratislavice B
END:VEVENT
BEGIN:VEVENT
UID:39613062-3132-4439-a530-633664623631
DTSTAMP:20260421T192722Z
DESCRIPTION:4/4 Vrtule Frýdlant\, z.s. - Beach Volley Vratislavice B 2:0 (1
 2\,10)
DTSTART;TZID=Europe/Berlin:20241006T120000
DTEND;TZID=Europe/Berlin:20241006T140000
LOCATION:Střední škola hospodářská a lesnická \, Bělíkova 1387 Frýdlant
SUMMARY:LIB-U16Z-K-F: Vrtule Frýdlant\, z.s.-Beach Volley Vratislavice B
END:VEVENT
BEGIN:VEVENT
UID:61333363-3239-4765-b239-636335333566
DTSTAMP:20260421T192722Z
DESCRIPTION:2/2 Beach Volley Vratislavice B - DUKLA LIBEREC B 1:2 (-22\,21\
 ,-7)
DTSTART;TZID=Europe/Berlin:20241208T100000
DTEND;TZID=Europe/Berlin:20241208T120000
LOCATION:, Nad Školou 278 Liberec - Liberec XXX-Vratislavice nad Nisou
SUMMARY:LIB-U16Z-1-3L: Beach Volley Vratislavice B-DUKLA LIBEREC B
END:VEVENT
BEGIN:VEVENT
UID:32373531-6332-4263-b161-636632303033
DTSTAMP:20260421T192722Z
DESCRIPTION:3/3 Beach Volley Vratislavice B - TJ SLAVIA Liberec 0:2 (-20\,-
 10)
DTSTART;TZID=Europe/Berlin:20241208T110000
DTEND;TZID=Europe/Berlin:20241208T130000
LOCATION:, Nad Školou 278 Liberec - Liberec XXX-Vratislavice nad Nisou
SUMMARY:LIB-U16Z-1-3L: Beach Volley Vratislavice B-TJ SLAVIA Liberec
END:VEVENT
BEGIN:VEVENT
UID:62326564-3238-4631-b634-633233396362
DTSTAMP:20260421T192722Z
DESCRIPTION:5/5 Beach Volley Vratislavice B - TJ Sokol Mnichovo Hradiště 1:
 2 (-10\,20\,-5)
DTSTART;TZID=Europe/Berlin:20241208T130000
DTEND;TZID=Europe/Berlin:20241208T150000
LOCATION:, Nad Školou 278 Liberec - Liberec XXX-Vratislavice nad Nisou
SUMMARY:LIB-U16Z-1-3L: Beach Volley Vratislavice B-TJ Sokol Mnichovo Hradiš
 tě
END:VEVENT
BEGIN:VEVENT
UID:34626664-6234-4365-b733-346530336431
DTSTAMP:20260421T192722Z
DESCRIPTION:2/2 Beach Volley Vratislavice B - SK Osečná\, z.s. 2:0 (13\,29)
DTSTART;TZID=Europe/Berlin:20250105T100000
DTEND;TZID=Europe/Berlin:20250105T120000
LOCATION:, Nad Školou 278 Liberec - Liberec XXX-Vratislavice nad Nisou
SUMMARY:LIB-U16Z-2-4L: Beach Volley Vratislavice B-SK Osečná\, z.s.
END:VEVENT
BEGIN:VEVENT
UID:63343331-3133-4236-b032-643765616434
DTSTAMP:20260421T192722Z
DESCRIPTION:3/3 Beach Volley Vratislavice B - Sportovní klub ToRiK Doksy\, 
 z.s. 2:0 (0\,0)
DTSTART;TZID=Europe/Berlin:20250105T110000
DTEND;TZID=Europe/Berlin:20250105T130000
LOCATION:, Nad Školou 278 Liberec - Liberec XXX-Vratislavice nad Nisou
SUMMARY:LIB-U16Z-2-4L: Beach Volley Vratislavice B-Sportovní klub ToRiK Dok
 sy\, z.s.
END:VEVENT
BEGIN:VEVENT
UID:37366635-3439-4865-b261-643066303365
DTSTAMP:20260421T192722Z
DESCRIPTION:5/5 Beach Volley Vratislavice B - SK Ještědská Liberec z.s. 'B'
  1:2 (24\,-17\,-10)
DTSTART;TZID=Europe/Berlin:20250105T130000
DTEND;TZID=Europe/Berlin:20250105T150000
LOCATION:, Nad Školou 278 Liberec - Liberec XXX-Vratislavice nad Nisou
SUMMARY:LIB-U16Z-2-4L: Beach Volley Vratislavice B-SK Ještědská Liberec z.s
 . 'B'
END:VEVENT
BEGIN:VEVENT
UID:36363366-3262-4165-b933-643066323831
DTSTAMP:20260421T192722Z
DESCRIPTION:1/2 Vrtule Frýdlant\, z.s. - Beach Volley Vratislavice B 2:0 (2
 0\,10)
DTSTART;TZID=Europe/Berlin:20250119T090000
DTEND;TZID=Europe/Berlin:20250119T110000
LOCATION:Střední škola hospodářská a lesnická \, Bělíkova 1387 Frýdlant
SUMMARY:LIB-U16Z-3-3L: Vrtule Frýdlant\, z.s.-Beach Volley Vratislavice B
END:VEVENT
BEGIN:VEVENT
UID:38663630-3732-4236-a230-663238656265
DTSTAMP:20260421T192722Z
DESCRIPTION:3/6 TJ Bižuterie Jablonec n/N B - Beach Volley Vratislavice B 2
 :0 (8\,9)
DTSTART;TZID=Europe/Berlin:20250119T110000
DTEND;TZID=Europe/Berlin:20250119T130000
LOCATION:Městská sportovní hala\, U Přehrady 4747 Jablonec nad Nisou
SUMMARY:LIB-U16Z-3-3L: TJ Bižuterie Jablonec n/N B-Beach Volley Vratislavic
 e B
END:VEVENT
BEGIN:VEVENT
UID:37333735-3933-4133-b566-376630616234
DTSTAMP:20260421T192722Z
DESCRIPTION:6/12 TJ Lokomotiva Česká Lípa\, z.s. - Beach Volley Vratislavic
 e B 2:0 (22\,13)
DTSTART;TZID=Europe/Berlin:20250119T140000
DTEND;TZID=Europe/Berlin:20250119T160000
LOCATION:ZŠ Lada\, Šluknovská 2904 Česká Lípa
SUMMARY:LIB-U16Z-3-3L: TJ Lokomotiva Česká Lípa\, z.s.-Beach Volley Vratisl
 avice B
END:VEVENT
BEGIN:VEVENT
UID:31333862-6637-4732-b235-663361653131
DTSTAMP:20260421T192722Z
DESCRIPTION:2/6 Beach Volley Vratislavice B - Sportovní klub ToRiK Doksy\, 
 z.s.
DTSTART;TZID=Europe/Berlin:20250202T100000
DTEND;TZID=Europe/Berlin:20250202T120000
LOCATION:, Nad Školou 278 Liberec - Liberec XXX-Vratislavice nad Nisou
SUMMARY:LIB-U16Z-4-4L: Beach Volley Vratislavice B-Sportovní klub ToRiK Dok
 sy\, z.s.
END:VEVENT
BEGIN:VEVENT
UID:38346538-6438-4264-a336-386631633031
DTSTAMP:20260421T192722Z
DESCRIPTION:3/9 Beach Volley Vratislavice B - SK Osečná\, z.s. 2:0 (20\,15)
DTSTART;TZID=Europe/Berlin:20250202T110000
DTEND;TZID=Europe/Berlin:20250202T130000
LOCATION:, Nad Školou 278 Liberec - Liberec XXX-Vratislavice nad Nisou
SUMMARY:LIB-U16Z-4-4L: Beach Volley Vratislavice B-SK Osečná\, z.s.
END:VEVENT
BEGIN:VEVENT
UID:30323233-3937-4563-b839-393837333939
DTSTAMP:20260421T192722Z
DESCRIPTION:5/15 Beach Volley Vratislavice B - SK Ještědská Liberec z.s. 'B
 ' 2:0 (15\,10)
DTSTART;TZID=Europe/Berlin:20250202T130000
DTEND;TZID=Europe/Berlin:20250202T150000
LOCATION:, Nad Školou 278 Liberec - Liberec XXX-Vratislavice nad Nisou
SUMMARY:LIB-U16Z-4-4L: Beach Volley Vratislavice B-SK Ještědská Liberec z.s
 . 'B'
END:VEVENT
BEGIN:VEVENT
UID:36383664-6166-4439-b138-626333633330
DTSTAMP:20260421T192722Z
DESCRIPTION:1/1 Vrtule Frýdlant\, z.s. - Beach Volley Vratislavice B 2:0 (1
 7\,23)
DTSTART;TZID=Europe/Berlin:20250223T090000
DTEND;TZID=Europe/Berlin:20250223T110000
LOCATION:Střední škola hospodářská a lesnická \, Bělíkova 1387 Frýdlant
SUMMARY:LIB-U16Z-5-3L: Vrtule Frýdlant\, z.s.-Beach Volley Vratislavice B
END:VEVENT
BEGIN:VEVENT
UID:32343536-3137-4233-b062-643662303630
DTSTAMP:20260421T192722Z
DESCRIPTION:3/3 TJ Sokol Mnichovo Hradiště - Beach Volley Vratislavice B 2:
 0 (26\,20)
DTSTART;TZID=Europe/Berlin:20250223T110000
DTEND;TZID=Europe/Berlin:20250223T130000
LOCATION:Sportovní hala BIOS\, Sokolovská 254 Mnichovo Hradiště
SUMMARY:LIB-U16Z-5-3L: TJ Sokol Mnichovo Hradiště-Beach Volley Vratislavice
  B
END:VEVENT
BEGIN:VEVENT
UID:36386566-3233-4366-a365-613537386465
DTSTAMP:20260421T192722Z
DESCRIPTION:6/6 DUKLA LIBEREC B - Beach Volley Vratislavice B 2:1 (17\,-15\
 ,9)
DTSTART;TZID=Europe/Berlin:20250223T140000
DTEND;TZID=Europe/Berlin:20250223T160000
LOCATION:Dukla Liberec\, Jeronýmova 558 Liberec - Liberec VII-Horní Růžodol
SUMMARY:LIB-U16Z-5-3L: DUKLA LIBEREC B-Beach Volley Vratislavice B
END:VEVENT
BEGIN:VEVENT
UID:33393031-3465-4234-b861-383739396464
DTSTAMP:20260421T192722Z
DESCRIPTION:2/2 Beach Volley Vratislavice B - SK Osečná\, z.s. 2:0 (13\,12)
DTSTART;TZID=Europe/Berlin:20250316T100000
DTEND;TZID=Europe/Berlin:20250316T120000
LOCATION:, Nad Školou 278 Liberec - Liberec XXX-Vratislavice nad Nisou
SUMMARY:LIB-U16Z-F-4L: Beach Volley Vratislavice B-SK Osečná\, z.s.
END:VEVENT
BEGIN:VEVENT
UID:32343337-3635-4736-b335-366434636563
DTSTAMP:20260421T192723Z
DESCRIPTION:3/3 Beach Volley Vratislavice B - SK Ještědská Liberec z.s. 'B'
  1:2 (20\,-17\,-9)
DTSTART;TZID=Europe/Berlin:20250316T110000
DTEND;TZID=Europe/Berlin:20250316T130000
LOCATION:, Nad Školou 278 Liberec - Liberec XXX-Vratislavice nad Nisou
SUMMARY:LIB-U16Z-F-4L: Beach Volley Vratislavice B-SK Ještědská Liberec z.s
 . 'B'
END:VEVENT
BEGIN:VEVENT
UID:39353563-3365-4061-b665-626632393261
DTSTAMP:20260421T192723Z
DESCRIPTION:5/5 Beach Volley Vratislavice B - Sportovní klub ToRiK Doksy\, 
 z.s. 2:0 (19\,24)
DTSTART;TZID=Europe/Berlin:20250316T130000
DTEND;TZID=Europe/Berlin:20250316T150000
LOCATION:, Nad Školou 278 Liberec - Liberec XXX-Vratislavice nad Nisou
SUMMARY:LIB-U16Z-F-4L: Beach Volley Vratislavice B-Sportovní klub ToRiK Dok
 sy\, z.s.
END:VEVENT
END:VCALENDAR
