BEGIN:VCALENDAR
VERSION:2.0
PRODID:-//Sportovní klub Hodkovice nad Mohelkou z.s.85537//NONSGML kigkonsult.se iCalcreator 2.41.80//
CALSCALE:GREGORIAN
UID:32343637-3437-4130-b531-616361613833
BEGIN:VEVENT
UID:64323238-3430-4231-b531-386532626562
DTSTAMP:20260422T203345Z
DESCRIPTION:1/1 Sportovní klub Hodkovice nad Mohelkou z.s. - TJ Bižuterie J
 ablonec n/N A 0:2 (-10\,-10)\nNový Bor
DTSTART;TZID=Europe/Berlin:20240908T120000
DTEND;TZID=Europe/Berlin:20240908T140000
LOCATION:Sportovní hala Hodkovice nad Mohelkou\, Sportovní 588 Hodkovice na
 d Mohelkou
SUMMARY:LIB-U22Z-K-A: Sportovní klub Hodkovice nad Mohelkou z.s.-TJ Bižuter
 ie Jablonec n/N A
END:VEVENT
BEGIN:VEVENT
UID:34653464-3235-4163-b938-633536643738
DTSTAMP:20260422T203345Z
DESCRIPTION:2/6 Sportovní klub Hodkovice nad Mohelkou z.s. - TJ Bižuterie J
 ablonec n/N B 0:2 (-12\,-12)\nNový Bor
DTSTART;TZID=Europe/Berlin:20240908T150000
DTEND;TZID=Europe/Berlin:20240908T170000
LOCATION:Sportovní hala Hodkovice nad Mohelkou\, Sportovní 588 Hodkovice na
 d Mohelkou
SUMMARY:LIB-U22Z-K-A: Sportovní klub Hodkovice nad Mohelkou z.s.-TJ Bižuter
 ie Jablonec n/N B
END:VEVENT
BEGIN:VEVENT
UID:61663764-3564-4363-b532-326366303361
DTSTAMP:20260422T203345Z
DESCRIPTION:1/4 TJ Lokomotiva Česká Lípa\, z.s. - Sportovní klub Hodkovice 
 nad Mohelkou z.s. 1:2 (-20\,21\,-14)\nNový Bor
DTSTART;TZID=Europe/Berlin:20240908T130000
DTEND;TZID=Europe/Berlin:20240908T150000
LOCATION:ZŠ Lada\, Šluknovská 2904 Česká Lípa
SUMMARY:LIB-U22Z-K-A: TJ Lokomotiva Česká Lípa\, z.s.-Sportovní klub Hodkov
 ice nad Mohelkou z.s.
END:VEVENT
END:VCALENDAR
