BEGIN:VCALENDAR
VERSION:2.0
PRODID:-//VK Valašské Meziříčí85538//NONSGML kigkonsult.se iCalcreator 2.41.80//
CALSCALE:GREGORIAN
UID:39343734-3239-4465-b962-353662303565
BEGIN:VEVENT
UID:65303033-3637-4639-b437-666363313333
DTSTAMP:20260421T183725Z
DESCRIPTION:3/5 Val.Meziříčí - Napajedla 0:2 (-19\,-11)
DTSTART;TZID=Europe/Berlin:20240928T110000
DTEND;TZID=Europe/Berlin:20240928T130000
LOCATION:ZŠ Šafaříkova\, Šafaříkova 726 Valašské Meziříčí
SUMMARY:ZLK-P-U16Z-A: Val.Meziříčí-Napajedla
END:VEVENT
BEGIN:VEVENT
UID:37396538-3137-4435-b561-643162326261
DTSTAMP:20260421T183725Z
DESCRIPTION:5/10 Val.Meziříčí - Austin Vsetín 0:2 (-23\,-15)
DTSTART;TZID=Europe/Berlin:20240928T130000
DTEND;TZID=Europe/Berlin:20240928T150000
LOCATION:ZŠ Šafaříkova\, Šafaříkova 726 Valašské Meziříčí
SUMMARY:ZLK-P-U16Z-A: Val.Meziříčí-Austin Vsetín
END:VEVENT
BEGIN:VEVENT
UID:35316261-3738-4239-b162-393166336461
DTSTAMP:20260421T183725Z
DESCRIPTION:1/1 Rožnov p.R. - Val.Meziříčí 2:0 (21\,21)
DTSTART;TZID=Europe/Berlin:20240928T090000
DTEND;TZID=Europe/Berlin:20240928T110000
LOCATION:ZŠ POD SKALKOU\, Bezručova 293 Rožnov pod Radhoštěm
SUMMARY:ZLK-P-U16Z-A: Rožnov p.R.-Val.Meziříčí
END:VEVENT
BEGIN:VEVENT
UID:32346536-3761-4761-b137-613137353066
DTSTAMP:20260421T183725Z
DESCRIPTION:4/8 Hošťálková - Val.Meziříčí 2:0 (21\,14)
DTSTART;TZID=Europe/Berlin:20240928T120000
DTEND;TZID=Europe/Berlin:20240928T140000
LOCATION:ZŠ Hošťálková \,  Hošťálková380
SUMMARY:ZLK-P-U16Z-A: Hošťálková-Val.Meziříčí
END:VEVENT
BEGIN:VEVENT
UID:35663937-3432-4239-b738-356336333239
DTSTAMP:20260421T183725Z
DESCRIPTION:3/3 Val.Meziříčí - Uherský Brod 2:1 (-20\,21\,12)
DTSTART;TZID=Europe/Berlin:20241012T110000
DTEND;TZID=Europe/Berlin:20241012T130000
LOCATION:ZŠ Šafaříkova\, Šafaříkova 726 Valašské Meziříčí
SUMMARY:ZLK-U16Z-1C: Val.Meziříčí-Uherský Brod
END:VEVENT
BEGIN:VEVENT
UID:31653434-3665-4135-a438-636430383564
DTSTAMP:20260421T183725Z
DESCRIPTION:5/5 Val.Meziříčí - Zlín B 2:0 (8\,16)
DTSTART;TZID=Europe/Berlin:20241012T130000
DTEND;TZID=Europe/Berlin:20241012T150000
LOCATION:ZŠ Šafaříkova\, Šafaříkova 726 Valašské Meziříčí
SUMMARY:ZLK-U16Z-1C: Val.Meziříčí-Zlín B
END:VEVENT
BEGIN:VEVENT
UID:66643661-3932-4562-b763-363333353938
DTSTAMP:20260421T183725Z
DESCRIPTION:1/1 Nivnice - Val.Meziříčí 0:2 (-13\,-21)
DTSTART;TZID=Europe/Berlin:20241012T090000
DTEND;TZID=Europe/Berlin:20241012T110000
LOCATION:Sportovní hala Nivnice\, Podohradí 888 Nivnice
SUMMARY:ZLK-U16Z-1C: Nivnice-Val.Meziříčí
END:VEVENT
BEGIN:VEVENT
UID:34646462-3738-4533-b364-346633303266
DTSTAMP:20260421T183725Z
DESCRIPTION:2/4 Val.Meziříčí - Nivnice 2:0 (12\,7)
DTSTART;TZID=Europe/Berlin:20241019T100000
DTEND;TZID=Europe/Berlin:20241019T120000
LOCATION:ZŠ Šafaříkova\, Šafaříkova 726 Valašské Meziříčí
SUMMARY:ZLK-VT-U16Z-1B: Val.Meziříčí-Nivnice
END:VEVENT
BEGIN:VEVENT
UID:31626162-3065-4662-a161-333061336135
DTSTAMP:20260421T183725Z
DESCRIPTION:5/9 Val.Meziříčí - Kopřivnice 0:2 (-16\,-12)
DTSTART;TZID=Europe/Berlin:20241019T130000
DTEND;TZID=Europe/Berlin:20241019T150000
LOCATION:ZŠ Šafaříkova\, Šafaříkova 726 Valašské Meziříčí
SUMMARY:ZLK-VT-U16Z-1B: Val.Meziříčí-Kopřivnice
END:VEVENT
BEGIN:VEVENT
UID:61383765-3561-4661-a666-383535303738
DTSTAMP:20260421T183725Z
DESCRIPTION:1/2 Zlín B - Val.Meziříčí 0:2 (-14\,-9)
DTSTART;TZID=Europe/Berlin:20241019T090000
DTEND;TZID=Europe/Berlin:20241019T110000
LOCATION:ZŠ Okružní Zlín\, Okružní 4685 Zlín
SUMMARY:ZLK-VT-U16Z-1B: Zlín B-Val.Meziříčí
END:VEVENT
BEGIN:VEVENT
UID:37333066-3037-4365-a432-656139623034
DTSTAMP:20260421T183725Z
DESCRIPTION:3/5 Střítež - Val.Meziříčí 0:2 (-17\,-21)
DTSTART;TZID=Europe/Berlin:20241019T110000
DTEND;TZID=Europe/Berlin:20241019T130000
LOCATION:Sokolovna\,  Střítež nad Bečvou1
SUMMARY:ZLK-VT-U16Z-1B: Střítež-Val.Meziříčí
END:VEVENT
BEGIN:VEVENT
UID:32363238-6461-4833-b937-333130313230
DTSTAMP:20260421T183725Z
DESCRIPTION:3/5 Val.Meziříčí - Kroměříž 1:2 (-25\,22\,-8)
DTSTART;TZID=Europe/Berlin:20241109T103000
DTEND;TZID=Europe/Berlin:20241109T123000
LOCATION:ZŠ Šafaříkova\, Šafaříkova 726 Valašské Meziříčí
SUMMARY:ZLK-U16Z-2B: Val.Meziříčí-Kroměříž
END:VEVENT
BEGIN:VEVENT
UID:37613961-6433-4238-b338-666333633436
DTSTAMP:20260421T183725Z
DESCRIPTION:5/10 Val.Meziříčí - Uh.Hradiště A 1:2 (24\,-15\,-15)
DTSTART;TZID=Europe/Berlin:20241109T123000
DTEND;TZID=Europe/Berlin:20241109T143000
LOCATION:ZŠ Šafaříkova\, Šafaříkova 726 Valašské Meziříčí
SUMMARY:ZLK-U16Z-2B: Val.Meziříčí-Uh.Hradiště A
END:VEVENT
BEGIN:VEVENT
UID:37623064-6461-4634-b031-646663613432
DTSTAMP:20260421T183725Z
DESCRIPTION:1/1 Uherský Brod - Val.Meziříčí 0:2 (-15\,-20)
DTSTART;TZID=Europe/Berlin:20241109T083000
DTEND;TZID=Europe/Berlin:20241109T103000
LOCATION:TJ SPARTAK UHERSKÝ BROD z.s.\, U Stadionu 2295 Uherský Brod
SUMMARY:ZLK-U16Z-2B: Uherský Brod-Val.Meziříčí
END:VEVENT
BEGIN:VEVENT
UID:66663433-3233-4531-b334-363662393965
DTSTAMP:20260421T183725Z
DESCRIPTION:4/8 Rožnov p.R. - Val.Meziříčí 0:2 (-18\,-21)
DTSTART;TZID=Europe/Berlin:20241109T113000
DTEND;TZID=Europe/Berlin:20241109T133000
LOCATION:ZŠ POD SKALKOU\, Bezručova 293 Rožnov pod Radhoštěm
SUMMARY:ZLK-U16Z-2B: Rožnov p.R.-Val.Meziříčí
END:VEVENT
BEGIN:VEVENT
UID:66323535-3132-4561-b366-326635363339
DTSTAMP:20260421T183725Z
DESCRIPTION:2/3 Val.Meziříčí - Austin Vsetín 0:2 (-22\,-20)
DTSTART;TZID=Europe/Berlin:20241123T100000
DTEND;TZID=Europe/Berlin:20241123T120000
LOCATION:ZŠ Šafaříkova\, Šafaříkova 726 Valašské Meziříčí
SUMMARY:ZLK-VT-U16Z-2A: Val.Meziříčí-Austin Vsetín
END:VEVENT
BEGIN:VEVENT
UID:38366431-3637-4633-b436-353638616635
DTSTAMP:20260421T183725Z
DESCRIPTION:4/8 Val.Meziříčí - Kopřivnice 0:2 (-14\,-19)
DTSTART;TZID=Europe/Berlin:20241123T120000
DTEND;TZID=Europe/Berlin:20241123T140000
LOCATION:ZŠ Šafaříkova\, Šafaříkova 726 Valašské Meziříčí
SUMMARY:ZLK-VT-U16Z-2A: Val.Meziříčí-Kopřivnice
END:VEVENT
BEGIN:VEVENT
UID:36343266-3734-4366-b034-373330623831
DTSTAMP:20260421T183725Z
DESCRIPTION:3/6 Staré Město - Val.Meziříčí 2:1 (19\,-20\,6)
DTSTART;TZID=Europe/Berlin:20241123T110000
DTEND;TZID=Europe/Berlin:20241123T130000
LOCATION:tělocvična ZŠ Staré Město\, Komenského 1720 Staré Město
SUMMARY:ZLK-VT-U16Z-2A: Staré Město-Val.Meziříčí
END:VEVENT
BEGIN:VEVENT
UID:37393930-3439-4164-a230-343839306164
DTSTAMP:20260421T183725Z
DESCRIPTION:5/9 Brumov Bylnice - Val.Meziříčí 1:2 (15\,-21\,-9)
DTSTART;TZID=Europe/Berlin:20241123T130000
DTEND;TZID=Europe/Berlin:20241123T150000
LOCATION:Sportovní hala Slavičín\, Školní 29 Slavičín
SUMMARY:ZLK-VT-U16Z-2A: Brumov Bylnice-Val.Meziříčí
END:VEVENT
BEGIN:VEVENT
UID:64383135-6433-4831-b534-356661353433
DTSTAMP:20260421T183725Z
DESCRIPTION:1/2 Val.Meziříčí - Hošťálková 0:2 (-23\,-11)
DTSTART;TZID=Europe/Berlin:20241207T090000
DTEND;TZID=Europe/Berlin:20241207T110000
LOCATION:ZŠ Šafaříkova\, Šafaříkova 726 Valašské Meziříčí
SUMMARY:ZLK-U16Z-3B: Val.Meziříčí-Hošťálková
END:VEVENT
BEGIN:VEVENT
UID:64653362-3438-4635-b964-623930343364
DTSTAMP:20260421T183725Z
DESCRIPTION:4/7 Val.Meziříčí - Brumov Bylnice 1:2 (22\,-22\,-9)
DTSTART;TZID=Europe/Berlin:20241207T120000
DTEND;TZID=Europe/Berlin:20241207T140000
LOCATION:ZŠ Šafaříkova\, Šafaříkova 726 Valašské Meziříčí
SUMMARY:ZLK-U16Z-3B: Val.Meziříčí-Brumov Bylnice
END:VEVENT
BEGIN:VEVENT
UID:39383837-3436-4530-b434-666666616436
DTSTAMP:20260421T183725Z
DESCRIPTION:2/3 Vlčnov - Val.Meziříčí 1:2 (23\,-20\,-8)
DTSTART;TZID=Europe/Berlin:20241207T100000
DTEND;TZID=Europe/Berlin:20241207T120000
LOCATION:Klub sportu a kultury\,  Vlčnov186
SUMMARY:ZLK-U16Z-3B: Vlčnov-Val.Meziříčí
END:VEVENT
BEGIN:VEVENT
UID:30633839-3963-4862-a666-323031626566
DTSTAMP:20260421T183725Z
DESCRIPTION:3/6 Bojkovice - Val.Meziříčí 2:0 (14\,23)
DTSTART;TZID=Europe/Berlin:20241207T110000
DTEND;TZID=Europe/Berlin:20241207T130000
LOCATION:ZŠ TGM Bojkovice\, Štefánikova 460 Bojkovice
SUMMARY:ZLK-U16Z-3B: Bojkovice-Val.Meziříčí
END:VEVENT
BEGIN:VEVENT
UID:31303234-3265-4239-b065-346433313932
DTSTAMP:20260421T183725Z
DESCRIPTION:1/1 Val.Meziříčí - Nivnice 2:1 (-25\,19\,12)
DTSTART;TZID=Europe/Berlin:20250125T090000
DTEND;TZID=Europe/Berlin:20250125T110000
LOCATION:ZŠ Šafaříkova\, Šafaříkova 726 Valašské Meziříčí
SUMMARY:ZLK-VT-U16Z-3B: Val.Meziříčí-Nivnice
END:VEVENT
BEGIN:VEVENT
UID:38313230-6232-4632-a435-646436363639
DTSTAMP:20260421T183725Z
DESCRIPTION:3/6 Val.Meziříčí - Zlín B 0:2 (-10\,-21)
DTSTART;TZID=Europe/Berlin:20250125T110000
DTEND;TZID=Europe/Berlin:20250125T130000
LOCATION:ZŠ Šafaříkova\, Šafaříkova 726 Valašské Meziříčí
SUMMARY:ZLK-VT-U16Z-3B: Val.Meziříčí-Zlín B
END:VEVENT
BEGIN:VEVENT
UID:32363534-6337-4639-a335-613938316132
DTSTAMP:20260421T183725Z
DESCRIPTION:2/4 Brumov Bylnice - Val.Meziříčí 2:0 (13\,16)
DTSTART;TZID=Europe/Berlin:20250125T100000
DTEND;TZID=Europe/Berlin:20250125T120000
LOCATION:Sportovní hala Slavičín\, Školní 29 Slavičín
SUMMARY:ZLK-VT-U16Z-3B: Brumov Bylnice-Val.Meziříčí
END:VEVENT
BEGIN:VEVENT
UID:61326131-6562-4639-a534-346237316262
DTSTAMP:20260421T183725Z
DESCRIPTION:4/7 Střítež - Val.Meziříčí 0:2 (-0\,-0)
DTSTART;TZID=Europe/Berlin:20250125T120000
DTEND;TZID=Europe/Berlin:20250125T140000
LOCATION:Sokolovna\,  Střítež nad Bečvou1
SUMMARY:ZLK-VT-U16Z-3B: Střítež-Val.Meziříčí
END:VEVENT
BEGIN:VEVENT
UID:32376538-3039-4565-b233-306135643164
DTSTAMP:20260421T183725Z
DESCRIPTION:1/1 Val.Meziříčí - Uh.Hradiště B 2:1 (-24\,15\,4)
DTSTART;TZID=Europe/Berlin:20250111T090000
DTEND;TZID=Europe/Berlin:20250111T110000
LOCATION:ZŠ Šafaříkova\, Šafaříkova 726 Valašské Meziříčí
SUMMARY:ZLK-U16Z-4C: Val.Meziříčí-Uh.Hradiště B
END:VEVENT
BEGIN:VEVENT
UID:61383034-3832-4539-a164-383333366333
DTSTAMP:20260421T183725Z
DESCRIPTION:2/3 Val.Meziříčí - Napajedla 1:2 (-14\,13\,-10)
DTSTART;TZID=Europe/Berlin:20250111T100000
DTEND;TZID=Europe/Berlin:20250111T120000
LOCATION:ZŠ Šafaříkova\, Šafaříkova 726 Valašské Meziříčí
SUMMARY:ZLK-U16Z-4C: Val.Meziříčí-Napajedla
END:VEVENT
BEGIN:VEVENT
UID:64306361-6532-4432-a630-343933346664
DTSTAMP:20260421T183725Z
DESCRIPTION:3/5 Val.Meziříčí - Vlčnov 2:0 (12\,20)
DTSTART;TZID=Europe/Berlin:20250111T110000
DTEND;TZID=Europe/Berlin:20250111T130000
LOCATION:ZŠ Šafaříkova\, Šafaříkova 726 Valašské Meziříčí
SUMMARY:ZLK-U16Z-4C: Val.Meziříčí-Vlčnov
END:VEVENT
BEGIN:VEVENT
UID:36343933-3763-4631-a433-373463636266
DTSTAMP:20260421T183725Z
DESCRIPTION:2/3 Val.Meziříčí - Uherský Brod 2:1 (18\,-12\,4)
DTSTART;TZID=Europe/Berlin:20250208T100000
DTEND;TZID=Europe/Berlin:20250208T120000
LOCATION:ZŠ Šafaříkova\, Šafaříkova 726 Valašské Meziříčí
SUMMARY:ZLK-U16Z-5B: Val.Meziříčí-Uherský Brod
END:VEVENT
BEGIN:VEVENT
UID:64616235-3833-4335-a464-643963353731
DTSTAMP:20260421T183725Z
DESCRIPTION:4/8 Val.Meziříčí - Napajedla 0:2 (-22\,-23)
DTSTART;TZID=Europe/Berlin:20250208T120000
DTEND;TZID=Europe/Berlin:20250208T140000
LOCATION:ZŠ Šafaříkova\, Šafaříkova 726 Valašské Meziříčí
SUMMARY:ZLK-U16Z-5B: Val.Meziříčí-Napajedla
END:VEVENT
BEGIN:VEVENT
UID:63633132-3564-4439-a633-353333363234
DTSTAMP:20260421T183725Z
DESCRIPTION:3/6 Austin Vsetín - Val.Meziříčí 2:0 (18\,9)
DTSTART;TZID=Europe/Berlin:20250208T110000
DTEND;TZID=Europe/Berlin:20250208T130000
LOCATION:Sportovní hala Na Lapači\, Na Lapači 247 Vsetín - Rokytnice
SUMMARY:ZLK-U16Z-5B: Austin Vsetín-Val.Meziříčí
END:VEVENT
BEGIN:VEVENT
UID:39626263-6561-4666-a439-326534343631
DTSTAMP:20260421T183725Z
DESCRIPTION:5/9 Hošťálková - Val.Meziříčí 2:0 (14\,19)
DTSTART;TZID=Europe/Berlin:20250208T130000
DTEND;TZID=Europe/Berlin:20250208T150000
LOCATION:ZŠ Hošťálková \,  Hošťálková380
SUMMARY:ZLK-U16Z-5B: Hošťálková-Val.Meziříčí
END:VEVENT
BEGIN:VEVENT
UID:66646437-3239-4533-a233-636635386131
DTSTAMP:20260421T183725Z
DESCRIPTION:1/2 Val.Meziříčí - Vlčnov 2:0 (17\,11)
DTSTART;TZID=Europe/Berlin:20250215T090000
DTEND;TZID=Europe/Berlin:20250215T110000
LOCATION:ZŠ Šafaříkova\, Šafaříkova 726 Valašské Meziříčí
SUMMARY:ZLK-VT-U16Z-4B: Val.Meziříčí-Vlčnov
END:VEVENT
BEGIN:VEVENT
UID:64373530-3136-4964-b833-366366393730
DTSTAMP:20260421T183725Z
DESCRIPTION:4/7 Val.Meziříčí - Kroměříž 1:2 (-20\,22\,-12)
DTSTART;TZID=Europe/Berlin:20250215T120000
DTEND;TZID=Europe/Berlin:20250215T140000
LOCATION:ZŠ Šafaříkova\, Šafaříkova 726 Valašské Meziříčí
SUMMARY:ZLK-VT-U16Z-4B: Val.Meziříčí-Kroměříž
END:VEVENT
BEGIN:VEVENT
UID:31346364-3861-4666-b833-633938623939
DTSTAMP:20260421T183725Z
DESCRIPTION:2/3 Střítež - Val.Meziříčí 2:0 (18\,21)
DTSTART;TZID=Europe/Berlin:20250215T100000
DTEND;TZID=Europe/Berlin:20250215T120000
LOCATION:Sokolovna\,  Střítež nad Bečvou1
SUMMARY:ZLK-VT-U16Z-4B: Střítež-Val.Meziříčí
END:VEVENT
BEGIN:VEVENT
UID:39333238-3761-4837-b164-323261363736
DTSTAMP:20260421T183725Z
DESCRIPTION:3/6 Nivnice - Val.Meziříčí 1:2 (-25\,25\,-7)
DTSTART;TZID=Europe/Berlin:20250215T110000
DTEND;TZID=Europe/Berlin:20250215T130000
LOCATION:Sportovní hala Nivnice\, Podohradí 888 Nivnice
SUMMARY:ZLK-VT-U16Z-4B: Nivnice-Val.Meziříčí
END:VEVENT
BEGIN:VEVENT
UID:62336637-3566-4335-b365-396661363637
DTSTAMP:20260421T183725Z
DESCRIPTION:2/3 Val.Meziříčí - Zlín B 2:0 (8\,16)
DTSTART;TZID=Europe/Berlin:20250405T100000
DTEND;TZID=Europe/Berlin:20250405T120000
LOCATION:ZŠ Šafaříkova\, Šafaříkova 726 Valašské Meziříčí
SUMMARY:ZLK-P-U16Z-3: Val.Meziříčí-Zlín B
END:VEVENT
BEGIN:VEVENT
UID:61613734-6465-4632-b631-383961613134
DTSTAMP:20260421T183725Z
DESCRIPTION:4/8 Val.Meziříčí - Uh.Hradiště B 2:0 (13\,10)
DTSTART;TZID=Europe/Berlin:20250405T120000
DTEND;TZID=Europe/Berlin:20250405T140000
LOCATION:ZŠ Šafaříkova\, Šafaříkova 726 Valašské Meziříčí
SUMMARY:ZLK-P-U16Z-3: Val.Meziříčí-Uh.Hradiště B
END:VEVENT
BEGIN:VEVENT
UID:32363735-6231-4866-b230-323631616537
DTSTAMP:20260421T183725Z
DESCRIPTION:3/6 Uherský Brod - Val.Meziříčí 2:1 (-20\,16\,8)
DTSTART;TZID=Europe/Berlin:20250405T110000
DTEND;TZID=Europe/Berlin:20250405T130000
LOCATION:TJ SPARTAK UHERSKÝ BROD z.s.\, U Stadionu 2295 Uherský Brod
SUMMARY:ZLK-P-U16Z-3: Uherský Brod-Val.Meziříčí
END:VEVENT
BEGIN:VEVENT
UID:39316535-3539-4631-a261-653531316265
DTSTAMP:20260421T183725Z
DESCRIPTION:5/9 Nivnice - Val.Meziříčí 0:2 (-18\,-11)
DTSTART;TZID=Europe/Berlin:20250405T130000
DTEND;TZID=Europe/Berlin:20250405T150000
LOCATION:Sportovní hala Nivnice\, Podohradí 888 Nivnice
SUMMARY:ZLK-P-U16Z-3: Nivnice-Val.Meziříčí
END:VEVENT
BEGIN:VEVENT
UID:32316638-3130-4137-b830-373437366430
DTSTAMP:20260421T183725Z
DESCRIPTION:1/2 Val.Meziříčí - Zlín B 0:2 (-21\,-16)
DTSTART;TZID=Europe/Berlin:20250315T090000
DTEND;TZID=Europe/Berlin:20250315T110000
LOCATION:ZŠ Šafaříkova\, Šafaříkova 726 Valašské Meziříčí
SUMMARY:ZLK-U16Z-6C: Val.Meziříčí-Zlín B
END:VEVENT
BEGIN:VEVENT
UID:30353166-6638-4933-a565-653830343464
DTSTAMP:20260421T183725Z
DESCRIPTION:2/4 Val.Meziříčí - Uh.Hradiště B 2:0 (11\,20)
DTSTART;TZID=Europe/Berlin:20250315T100000
DTEND;TZID=Europe/Berlin:20250315T120000
LOCATION:ZŠ Šafaříkova\, Šafaříkova 726 Valašské Meziříčí
SUMMARY:ZLK-U16Z-6C: Val.Meziříčí-Uh.Hradiště B
END:VEVENT
BEGIN:VEVENT
UID:66646564-3030-4862-a438-636337323833
DTSTAMP:20260421T183725Z
DESCRIPTION:3/5 Napajedla - Val.Meziříčí 1:2 (10\,-20\,-9)
DTSTART;TZID=Europe/Berlin:20250315T110000
DTEND;TZID=Europe/Berlin:20250315T130000
LOCATION:2.ZŠ Napajedla\, Komenského 298 Napajedla
SUMMARY:ZLK-U16Z-6C: Napajedla-Val.Meziříčí
END:VEVENT
END:VCALENDAR
