BEGIN:VCALENDAR
VERSION:2.0
PRODID:-//VK Valašské Meziříčí85541//NONSGML kigkonsult.se iCalcreator 2.41.80//
CALSCALE:GREGORIAN
UID:62663138-6231-4433-a438-346164633161
BEGIN:VEVENT
UID:36636165-3162-4034-b564-653839313437
DTSTAMP:20260422T205211Z
DESCRIPTION:3/9 Val.Meziříčí - Holešov 3:0 (20\,20\,21)
DTSTART;TZID=Europe/Berlin:20241019T110000
DTEND;TZID=Europe/Berlin:20241019T130000
LOCATION:ZŠ Šafaříkova\, Šafaříkova 726 Valašské Meziříčí
SUMMARY:ZLK-M: Val.Meziříčí-Holešov
END:VEVENT
BEGIN:VEVENT
UID:31356137-6565-4930-b336-383937663432
DTSTAMP:20260422T205211Z
DESCRIPTION:4/13 Val.Meziříčí - Holešov 3:1 (22\,-22\,20\,22)
DTSTART;TZID=Europe/Berlin:20241019T150000
DTEND;TZID=Europe/Berlin:20241019T170000
LOCATION:ZŠ Šafaříkova\, Šafaříkova 726 Valašské Meziříčí
SUMMARY:ZLK-M: Val.Meziříčí-Holešov
END:VEVENT
BEGIN:VEVENT
UID:33663631-6161-4262-b733-336561613134
DTSTAMP:20260422T205211Z
DESCRIPTION:7/25 Val.Meziříčí - Staré Město 3:X
DTSTART;TZID=Europe/Berlin:20241102T110000
DTEND;TZID=Europe/Berlin:20241102T130000
LOCATION:ZŠ Šafaříkova\, Šafaříkova 726 Valašské Meziříčí
SUMMARY:ZLK-M: Val.Meziříčí-Staré Město
END:VEVENT
BEGIN:VEVENT
UID:37353862-3334-4136-a135-666337313339
DTSTAMP:20260422T205211Z
DESCRIPTION:8/29 Val.Meziříčí - Staré Město 3:X
DTSTART;TZID=Europe/Berlin:20241102T150000
DTEND;TZID=Europe/Berlin:20241102T170000
LOCATION:ZŠ Šafaříkova\, Šafaříkova 726 Valašské Meziříčí
SUMMARY:ZLK-M: Val.Meziříčí-Staré Město
END:VEVENT
BEGIN:VEVENT
UID:61366538-6665-4762-a164-653765353764
DTSTAMP:20260422T205211Z
DESCRIPTION:11/41 Val.Meziříčí - Nivnice 3:2 (19\,22\,-15\,-20\,7)
DTSTART;TZID=Europe/Berlin:20241130T100000
DTEND;TZID=Europe/Berlin:20241130T120000
LOCATION:ZŠ Šafaříkova\, Šafaříkova 726 Valašské Meziříčí
SUMMARY:ZLK-M: Val.Meziříčí-Nivnice
END:VEVENT
BEGIN:VEVENT
UID:37656263-3237-4230-a634-646436653962
DTSTAMP:20260422T205211Z
DESCRIPTION:12/45 Val.Meziříčí - Nivnice 3:0 (23\,10\,20)
DTSTART;TZID=Europe/Berlin:20241130T130000
DTEND;TZID=Europe/Berlin:20241130T150000
LOCATION:ZŠ Šafaříkova\, Šafaříkova 726 Valašské Meziříčí
SUMMARY:ZLK-M: Val.Meziříčí-Nivnice
END:VEVENT
BEGIN:VEVENT
UID:33383665-3838-4561-a635-646530313930
DTSTAMP:20260422T205211Z
DESCRIPTION:15/57 Val.Meziříčí - Veselí n.M. 3:0 (12\,10\,12)
DTSTART;TZID=Europe/Berlin:20250104T100000
DTEND;TZID=Europe/Berlin:20250104T120000
LOCATION:ZŠ Šafaříkova\, Šafaříkova 726 Valašské Meziříčí
SUMMARY:ZLK-M: Val.Meziříčí-Veselí n.M.
END:VEVENT
BEGIN:VEVENT
UID:63663939-3761-4165-a630-643565666262
DTSTAMP:20260422T205211Z
DESCRIPTION:16/61 Val.Meziříčí - Veselí n.M. 3:0 (17\,22\,11)
DTSTART;TZID=Europe/Berlin:20250104T130000
DTEND;TZID=Europe/Berlin:20250104T150000
LOCATION:ZŠ Šafaříkova\, Šafaříkova 726 Valašské Meziříčí
SUMMARY:ZLK-M: Val.Meziříčí-Veselí n.M.
END:VEVENT
BEGIN:VEVENT
UID:33313436-3431-4764-a461-383433323437
DTSTAMP:20260422T205211Z
DESCRIPTION:19/73 Val.Meziříčí - Napajedla 3:1 (-22\,20\,21\,18)
DTSTART;TZID=Europe/Berlin:20250201T110000
DTEND;TZID=Europe/Berlin:20250201T130000
LOCATION:ZŠ Šafaříkova\, Šafaříkova 726 Valašské Meziříčí
SUMMARY:ZLK-M: Val.Meziříčí-Napajedla
END:VEVENT
BEGIN:VEVENT
UID:38643737-3232-4165-b033-343234613331
DTSTAMP:20260422T205211Z
DESCRIPTION:20/77 Val.Meziříčí - Napajedla 0:3 (-22\,-21\,-22)
DTSTART;TZID=Europe/Berlin:20250201T150000
DTEND;TZID=Europe/Berlin:20250201T170000
LOCATION:ZŠ Šafaříkova\, Šafaříkova 726 Valašské Meziříčí
SUMMARY:ZLK-M: Val.Meziříčí-Napajedla
END:VEVENT
BEGIN:VEVENT
UID:32336432-3735-4163-a264-623865663366
DTSTAMP:20260422T205211Z
DESCRIPTION:23/89 Val.Meziříčí - MEZ Vsetín 3:0 (14\,21\,19)
DTSTART;TZID=Europe/Berlin:20250301T100000
DTEND;TZID=Europe/Berlin:20250301T120000
LOCATION:ZŠ Šafaříkova\, Šafaříkova 726 Valašské Meziříčí
SUMMARY:ZLK-M: Val.Meziříčí-MEZ Vsetín
END:VEVENT
BEGIN:VEVENT
UID:66313365-3364-4762-a332-393639336539
DTSTAMP:20260422T205211Z
DESCRIPTION:24/93 Val.Meziříčí - MEZ Vsetín 3:1 (10\,-21\,20\,22)
DTSTART;TZID=Europe/Berlin:20250301T130000
DTEND;TZID=Europe/Berlin:20250301T150000
LOCATION:ZŠ Šafaříkova\, Šafaříkova 726 Valašské Meziříčí
SUMMARY:ZLK-M: Val.Meziříčí-MEZ Vsetín
END:VEVENT
BEGIN:VEVENT
UID:63323638-6162-4533-b766-313538363530
DTSTAMP:20260422T205211Z
DESCRIPTION:27/105 Val.Meziříčí - Bojkovice 3:0 (10\,25\,13)
DTSTART;TZID=Europe/Berlin:20250329T110000
DTEND;TZID=Europe/Berlin:20250329T130000
LOCATION:ZŠ Šafaříkova\, Šafaříkova 726 Valašské Meziříčí
SUMMARY:ZLK-M: Val.Meziříčí-Bojkovice
END:VEVENT
BEGIN:VEVENT
UID:32396631-3361-4435-b163-376365373839
DTSTAMP:20260422T205211Z
DESCRIPTION:28/109 Val.Meziříčí - Bojkovice 3:1 (24\,23\,-22\,15)
DTSTART;TZID=Europe/Berlin:20250329T150000
DTEND;TZID=Europe/Berlin:20250329T170000
LOCATION:ZŠ Šafaříkova\, Šafaříkova 726 Valašské Meziříčí
SUMMARY:ZLK-M: Val.Meziříčí-Bojkovice
END:VEVENT
BEGIN:VEVENT
UID:64383636-3639-4662-a362-626539623339
DTSTAMP:20260422T205211Z
DESCRIPTION:1/1 Veselí n.M. - Val.Meziříčí 0:3 (-16\,-17\,-5)
DTSTART;TZID=Europe/Berlin:20240928T100000
DTEND;TZID=Europe/Berlin:20240928T120000
LOCATION:Církevní ZŠ Veselí nad Moravou\, Školní 698 Veselí nad Moravou
SUMMARY:ZLK-M: Veselí n.M.-Val.Meziříčí
END:VEVENT
BEGIN:VEVENT
UID:34336336-3565-4339-b561-396635623738
DTSTAMP:20260422T205211Z
DESCRIPTION:2/5 Veselí n.M. - Val.Meziříčí 0:3 (-18\,-22\,-13)
DTSTART;TZID=Europe/Berlin:20240928T130000
DTEND;TZID=Europe/Berlin:20240928T150000
LOCATION:Církevní ZŠ Veselí nad Moravou\, Školní 698 Veselí nad Moravou
SUMMARY:ZLK-M: Veselí n.M.-Val.Meziříčí
END:VEVENT
BEGIN:VEVENT
UID:31326337-3737-4130-b062-363563366337
DTSTAMP:20260422T205211Z
DESCRIPTION:5/17 Napajedla - Val.Meziříčí 1:3 (-21\,17\,-17\,-18)
DTSTART;TZID=Europe/Berlin:20250125T100000
DTEND;TZID=Europe/Berlin:20250125T120000
LOCATION:2.ZŠ Napajedla\, Komenského 298 Napajedla
SUMMARY:ZLK-M: Napajedla-Val.Meziříčí
END:VEVENT
BEGIN:VEVENT
UID:31353034-3331-4835-a433-616237383666
DTSTAMP:20260422T205211Z
DESCRIPTION:6/21 Napajedla - Val.Meziříčí 2:3 (-10\,-20\,23\,14\,-14)
DTSTART;TZID=Europe/Berlin:20250125T130000
DTEND;TZID=Europe/Berlin:20250125T150000
LOCATION:2.ZŠ Napajedla\, Komenského 298 Napajedla
SUMMARY:ZLK-M: Napajedla-Val.Meziříčí
END:VEVENT
BEGIN:VEVENT
UID:37373138-6165-4932-b866-653362383864
DTSTAMP:20260422T205211Z
DESCRIPTION:9/33 MEZ Vsetín - Val.Meziříčí 0:3 (-20\,-22\,-12)
DTSTART;TZID=Europe/Berlin:20241116T090000
DTEND;TZID=Europe/Berlin:20241116T110000
LOCATION:Sportovní hala Na Lapači\, Na Lapači 247 Vsetín - Rokytnice
SUMMARY:ZLK-M: MEZ Vsetín-Val.Meziříčí
END:VEVENT
BEGIN:VEVENT
UID:35303964-3838-4539-b335-623466613830
DTSTAMP:20260422T205211Z
DESCRIPTION:10/37 MEZ Vsetín - Val.Meziříčí 0:3 (-22\,-9\,-24)
DTSTART;TZID=Europe/Berlin:20241116T120000
DTEND;TZID=Europe/Berlin:20241116T140000
LOCATION:Sportovní hala Na Lapači\, Na Lapači 247 Vsetín - Rokytnice
SUMMARY:ZLK-M: MEZ Vsetín-Val.Meziříčí
END:VEVENT
BEGIN:VEVENT
UID:64303962-3533-4766-b964-613164396662
DTSTAMP:20260422T205211Z
DESCRIPTION:13/49 Bojkovice - Val.Meziříčí 1:3 (-22\,26\,-21\,-19)
DTSTART;TZID=Europe/Berlin:20241214T170000
DTEND;TZID=Europe/Berlin:20241214T190000
LOCATION:ZŠ TGM Bojkovice\, Štefánikova 460 Bojkovice
SUMMARY:ZLK-M: Bojkovice-Val.Meziříčí
END:VEVENT
BEGIN:VEVENT
UID:33313939-3936-4362-b365-356666616565
DTSTAMP:20260422T205211Z
DESCRIPTION:14/53 Bojkovice - Val.Meziříčí 0:3 (-21\,-20\,-19)
DTSTART;TZID=Europe/Berlin:20241214T190000
DTEND;TZID=Europe/Berlin:20241214T210000
LOCATION:ZŠ TGM Bojkovice\, Štefánikova 460 Bojkovice
SUMMARY:ZLK-M: Bojkovice-Val.Meziříčí
END:VEVENT
BEGIN:VEVENT
UID:32613764-3635-4965-b665-326137366361
DTSTAMP:20260422T205211Z
DESCRIPTION:17/65 Holešov - Val.Meziříčí 3:2 (21\,23\,-20\,-22\,14)
DTSTART;TZID=Europe/Berlin:20250208T160000
DTEND;TZID=Europe/Berlin:20250208T180000
LOCATION:SPŠ MV\, Zlínská 991 Holešov
SUMMARY:ZLK-M: Holešov-Val.Meziříčí
END:VEVENT
BEGIN:VEVENT
UID:38626531-6166-4437-a239-376438336334
DTSTAMP:20260422T205211Z
DESCRIPTION:18/69 Holešov - Val.Meziříčí 3:1 (21\,19\,-23\,17)
DTSTART;TZID=Europe/Berlin:20250208T190000
DTEND;TZID=Europe/Berlin:20250208T210000
LOCATION:SPŠ MV\, Zlínská 991 Holešov
SUMMARY:ZLK-M: Holešov-Val.Meziříčí
END:VEVENT
BEGIN:VEVENT
UID:39363663-3061-4565-a231-653935376263
DTSTAMP:20260422T205211Z
DESCRIPTION:21/81 Staré Město - Val.Meziříčí 1:3 (-18\,-23\,19\,-21)
DTSTART;TZID=Europe/Berlin:20250222T140000
DTEND;TZID=Europe/Berlin:20250222T160000
LOCATION:Městská sportovní hala Širůch\, Nad Hřištěm 1921 Staré Město
SUMMARY:ZLK-M: Staré Město-Val.Meziříčí
END:VEVENT
BEGIN:VEVENT
UID:64393362-6436-4462-b063-396136393130
DTSTAMP:20260422T205211Z
DESCRIPTION:22/85 Staré Město - Val.Meziříčí 1:3 (22\,-16\,-17\,-19)
DTSTART;TZID=Europe/Berlin:20250222T160000
DTEND;TZID=Europe/Berlin:20250222T180000
LOCATION:Městská sportovní hala Širůch\, Nad Hřištěm 1921 Staré Město
SUMMARY:ZLK-M: Staré Město-Val.Meziříčí
END:VEVENT
BEGIN:VEVENT
UID:66386239-3533-4832-a663-623865653435
DTSTAMP:20260422T205211Z
DESCRIPTION:25/97 Nivnice - Val.Meziříčí 0:3 (-21\,-19\,-10)
DTSTART;TZID=Europe/Berlin:20250308T090000
DTEND;TZID=Europe/Berlin:20250308T110000
LOCATION:Sportovní hala Nivnice\, Podohradí 888 Nivnice
SUMMARY:ZLK-M: Nivnice-Val.Meziříčí
END:VEVENT
BEGIN:VEVENT
UID:64623462-3664-4563-b030-626437633833
DTSTAMP:20260422T205211Z
DESCRIPTION:26/101 Nivnice - Val.Meziříčí 3:2 (24\,-24\,-18\,23\,15)
DTSTART;TZID=Europe/Berlin:20250308T120000
DTEND;TZID=Europe/Berlin:20250308T140000
LOCATION:Sportovní hala Nivnice\, Podohradí 888 Nivnice
SUMMARY:ZLK-M: Nivnice-Val.Meziříčí
END:VEVENT
BEGIN:VEVENT
UID:30626265-3037-4232-b437-656533346263
DTSTAMP:20260422T205211Z
DESCRIPTION:1/1 Val.Meziříčí - Nový Jičín 2:3 (22\,-21\,21\,-22\,-10)\nHřiš
 tě 1
DTSTART;TZID=Europe/Berlin:20250426T090000
DTEND;TZID=Europe/Berlin:20250426T110000
LOCATION:Hala ABC\, Purkyňova 116 Nový Jičín
SUMMARY:2-M-KC: Val.Meziříčí-Nový Jičín
END:VEVENT
BEGIN:VEVENT
UID:62396465-3435-4236-b734-323932343536
DTSTAMP:20260422T205211Z
DESCRIPTION:2/6 Val.Meziříčí - SKUP Olomouc\, z.s. 3:0 (14\,19\,22)\nHřiště
  1
DTSTART;TZID=Europe/Berlin:20250427T090000
DTEND;TZID=Europe/Berlin:20250427T110000
LOCATION:Hala ABC\, Purkyňova 116 Nový Jičín
SUMMARY:2-M-KC: Val.Meziříčí-SKUP Olomouc\, z.s.
END:VEVENT
BEGIN:VEVENT
UID:34303530-6231-4436-a637-376437383936
DTSTAMP:20260422T205211Z
DESCRIPTION:1/3 Loko-Ingstav Brno - Val.Meziříčí 3:1 (19\,-18\,22\,21)\nHři
 ště 2
DTSTART;TZID=Europe/Berlin:20250426T120000
DTEND;TZID=Europe/Berlin:20250426T140000
LOCATION:Hala ABC\, Purkyňova 116 Nový Jičín
SUMMARY:2-M-KC: Loko-Ingstav Brno-Val.Meziříčí
END:VEVENT
BEGIN:VEVENT
UID:38313362-6662-4362-a136-393538386464
DTSTAMP:20260422T205211Z
DESCRIPTION:2/8 Kylešovice - Val.Meziříčí 1:3 (19\,-23\,-23\,-19)\nHřiště 1
DTSTART;TZID=Europe/Berlin:20250427T120000
DTEND;TZID=Europe/Berlin:20250427T140000
LOCATION:Hala ABC\, Purkyňova 116 Nový Jičín
SUMMARY:2-M-KC: Kylešovice-Val.Meziříčí
END:VEVENT
END:VCALENDAR
