BEGIN:VCALENDAR
VERSION:2.0
PRODID:-//Sportovní kluby Slavičín85543//NONSGML kigkonsult.se iCalcreator 2.41.80//
CALSCALE:GREGORIAN
UID:33306532-6137-4036-b234-646436643337
BEGIN:VEVENT
UID:65386637-3061-4533-b831-363739313137
DTSTAMP:20260422T014836Z
DESCRIPTION:1/3 Slavičín - Austin Vsetín 1:3 (22\,-23\,-19\,-26)
DTSTART;TZID=Europe/Berlin:20241006T100000
DTEND;TZID=Europe/Berlin:20241006T120000
LOCATION:Sportovní hala Slavičín\, Školní 29 Slavičín
SUMMARY:ZLK-U18Z: Slavičín-Austin Vsetín
END:VEVENT
BEGIN:VEVENT
UID:62646162-3734-4139-b837-386330323666
DTSTAMP:20260422T014836Z
DESCRIPTION:2/7 Slavičín - Austin Vsetín 3:0 (24\,15\,21)
DTSTART;TZID=Europe/Berlin:20241006T130000
DTEND;TZID=Europe/Berlin:20241006T150000
LOCATION:Sportovní hala Slavičín\, Školní 29 Slavičín
SUMMARY:ZLK-U18Z: Slavičín-Austin Vsetín
END:VEVENT
BEGIN:VEVENT
UID:61663863-3135-4234-b464-356431313661
DTSTAMP:20260422T014836Z
DESCRIPTION:5/18 Slavičín - Bojkovice 3:0 (15\,17\,19)
DTSTART;TZID=Europe/Berlin:20241020T100000
DTEND;TZID=Europe/Berlin:20241020T120000
LOCATION:Sportovní hala Slavičín\, Školní 29 Slavičín
SUMMARY:ZLK-U18Z: Slavičín-Bojkovice
END:VEVENT
BEGIN:VEVENT
UID:32313331-3830-4331-b030-386532353336
DTSTAMP:20260422T014836Z
DESCRIPTION:6/22 Slavičín - Bojkovice 3:1 (7\,22\,-25\,23)
DTSTART;TZID=Europe/Berlin:20241020T130000
DTEND;TZID=Europe/Berlin:20241020T150000
LOCATION:Sportovní hala Slavičín\, Školní 29 Slavičín
SUMMARY:ZLK-U18Z: Slavičín-Bojkovice
END:VEVENT
BEGIN:VEVENT
UID:64613037-6637-4265-a337-313962656636
DTSTAMP:20260422T014836Z
DESCRIPTION:11/44 Slavičín - Uh.Hradiště 3:0 (23\,14\,20)
DTSTART;TZID=Europe/Berlin:20241124T100000
DTEND;TZID=Europe/Berlin:20241124T120000
LOCATION:Sportovní hala Slavičín\, Školní 29 Slavičín
SUMMARY:ZLK-U18Z: Slavičín-Uh.Hradiště
END:VEVENT
BEGIN:VEVENT
UID:36353863-3061-4263-b333-353039633166
DTSTAMP:20260422T014836Z
DESCRIPTION:12/48 Slavičín - Uh.Hradiště 3:1 (-20\,16\,24\,20)
DTSTART;TZID=Europe/Berlin:20241124T130000
DTEND;TZID=Europe/Berlin:20241124T150000
LOCATION:Sportovní hala Slavičín\, Školní 29 Slavičín
SUMMARY:ZLK-U18Z: Slavičín-Uh.Hradiště
END:VEVENT
BEGIN:VEVENT
UID:30663638-3737-4632-a236-356438323838
DTSTAMP:20260422T014836Z
DESCRIPTION:17/67 Slavičín - VESELÍ 3:0 (19\,12\,22)
DTSTART;TZID=Europe/Berlin:20250118T090000
DTEND;TZID=Europe/Berlin:20250118T110000
LOCATION:Sportovní hala Slavičín\, Školní 29 Slavičín
SUMMARY:ZLK-U18Z: Slavičín-VESELÍ
END:VEVENT
BEGIN:VEVENT
UID:65316530-6564-4461-a132-653366366262
DTSTAMP:20260422T014836Z
DESCRIPTION:18/71 Slavičín - VESELÍ 3:1 (17\,23\,-23\,21)
DTSTART;TZID=Europe/Berlin:20250118T120000
DTEND;TZID=Europe/Berlin:20250118T140000
LOCATION:Sportovní hala Slavičín\, Školní 29 Slavičín
SUMMARY:ZLK-U18Z: Slavičín-VESELÍ
END:VEVENT
BEGIN:VEVENT
UID:33313635-6639-4239-b339-356134626536
DTSTAMP:20260422T014836Z
DESCRIPTION:21/84 Slavičín - Napajedla 3:0 (16\,23\,18)
DTSTART;TZID=Europe/Berlin:20250209T090000
DTEND;TZID=Europe/Berlin:20250209T110000
LOCATION:Sportovní hala Slavičín\, Školní 29 Slavičín
SUMMARY:ZLK-U18Z: Slavičín-Napajedla
END:VEVENT
BEGIN:VEVENT
UID:34316237-6131-4135-a133-393137346232
DTSTAMP:20260422T014836Z
DESCRIPTION:22/88 Slavičín - Napajedla 2:3 (-23\,-21\,20\,21\,-13)
DTSTART;TZID=Europe/Berlin:20250209T120000
DTEND;TZID=Europe/Berlin:20250209T140000
LOCATION:Sportovní hala Slavičín\, Školní 29 Slavičín
SUMMARY:ZLK-U18Z: Slavičín-Napajedla
END:VEVENT
BEGIN:VEVENT
UID:36373831-6534-4065-b936-383634373631
DTSTAMP:20260422T014836Z
DESCRIPTION:27/106 Slavičín - Hošťálková 3:1 (-23\,12\,18\,18)
DTSTART;TZID=Europe/Berlin:20250309T090000
DTEND;TZID=Europe/Berlin:20250309T110000
LOCATION:Sportovní hala Slavičín\, Školní 29 Slavičín
SUMMARY:ZLK-U18Z: Slavičín-Hošťálková
END:VEVENT
BEGIN:VEVENT
UID:63333739-3963-4832-b730-643735303736
DTSTAMP:20260422T014836Z
DESCRIPTION:28/110 Slavičín - Hošťálková 3:0 (18\,18\,14)
DTSTART;TZID=Europe/Berlin:20250309T120000
DTEND;TZID=Europe/Berlin:20250309T140000
LOCATION:Sportovní hala Slavičín\, Školní 29 Slavičín
SUMMARY:ZLK-U18Z: Slavičín-Hošťálková
END:VEVENT
BEGIN:VEVENT
UID:32373836-3766-4639-b735-616233636164
DTSTAMP:20260422T014836Z
DESCRIPTION:3/11 VESELÍ - Slavičín 0:3 (-13\,-16\,-16)
DTSTART;TZID=Europe/Berlin:20241013T100000
DTEND;TZID=Europe/Berlin:20241013T120000
LOCATION:Městská sportovní hala\, Kollárova 1660 Veselí nad Moravou
SUMMARY:ZLK-U18Z: VESELÍ-Slavičín
END:VEVENT
BEGIN:VEVENT
UID:38633465-6462-4232-b563-623933613165
DTSTAMP:20260422T014836Z
DESCRIPTION:4/15 VESELÍ - Slavičín 0:3 (-12\,-17\,-22)
DTSTART;TZID=Europe/Berlin:20241013T130000
DTEND;TZID=Europe/Berlin:20241013T150000
LOCATION:Městská sportovní hala\, Kollárova 1660 Veselí nad Moravou
SUMMARY:ZLK-U18Z: VESELÍ-Slavičín
END:VEVENT
BEGIN:VEVENT
UID:63623231-3264-4166-b662-396137353635
DTSTAMP:20260422T014836Z
DESCRIPTION:7/28 Napajedla - Slavičín 0:3 (-16\,-26\,-19)
DTSTART;TZID=Europe/Berlin:20241103T100000
DTEND;TZID=Europe/Berlin:20241103T120000
LOCATION:2.ZŠ Napajedla\, Komenského 298 Napajedla
SUMMARY:ZLK-U18Z: Napajedla-Slavičín
END:VEVENT
BEGIN:VEVENT
UID:36393165-3836-4237-a165-303061646162
DTSTAMP:20260422T014836Z
DESCRIPTION:8/32 Napajedla - Slavičín 0:3 (-21\,-23\,-23)
DTSTART;TZID=Europe/Berlin:20241103T130000
DTEND;TZID=Europe/Berlin:20241103T150000
LOCATION:2.ZŠ Napajedla\, Komenského 298 Napajedla
SUMMARY:ZLK-U18Z: Napajedla-Slavičín
END:VEVENT
BEGIN:VEVENT
UID:64333534-3432-4662-a561-626566393134
DTSTAMP:20260422T014836Z
DESCRIPTION:13/50 Hošťálková - Slavičín 0:3 (-18\,-16\,-28)
DTSTART;TZID=Europe/Berlin:20241201T100000
DTEND;TZID=Europe/Berlin:20241201T120000
LOCATION:ZŠ Hošťálková \,  Hošťálková380
SUMMARY:ZLK-U18Z: Hošťálková-Slavičín
END:VEVENT
BEGIN:VEVENT
UID:34366661-3134-4137-b938-626262373331
DTSTAMP:20260422T014836Z
DESCRIPTION:14/54 Hošťálková - Slavičín 0:3 (-11\,-14\,-18)
DTSTART;TZID=Europe/Berlin:20241201T130000
DTEND;TZID=Europe/Berlin:20241201T150000
LOCATION:ZŠ Hošťálková \,  Hošťálková380
SUMMARY:ZLK-U18Z: Hošťálková-Slavičín
END:VEVENT
BEGIN:VEVENT
UID:65303861-6433-4934-a238-613431336363
DTSTAMP:20260422T014836Z
DESCRIPTION:15/59 Austin Vsetín - Slavičín 1:3 (22\,-21\,-17\,-17)
DTSTART;TZID=Europe/Berlin:20250316T090000
DTEND;TZID=Europe/Berlin:20250316T110000
LOCATION:Sportovní hala Na Lapači\, Na Lapači 247 Vsetín - Rokytnice
SUMMARY:ZLK-U18Z: Austin Vsetín-Slavičín
END:VEVENT
BEGIN:VEVENT
UID:65396336-3639-4535-b233-626434383863
DTSTAMP:20260422T014836Z
DESCRIPTION:16/63 Austin Vsetín - Slavičín 3:2 (24\,-15\,-21\,25\,13)
DTSTART;TZID=Europe/Berlin:20250316T120000
DTEND;TZID=Europe/Berlin:20250316T140000
LOCATION:Sportovní hala Na Lapači\, Na Lapači 247 Vsetín - Rokytnice
SUMMARY:ZLK-U18Z: Austin Vsetín-Slavičín
END:VEVENT
BEGIN:VEVENT
UID:63303263-3434-4130-b632-326433663939
DTSTAMP:20260422T014836Z
DESCRIPTION:19/74 Bojkovice - Slavičín 0:3 (-16\,-23\,-24)
DTSTART;TZID=Europe/Berlin:20250126T100000
DTEND;TZID=Europe/Berlin:20250126T120000
LOCATION:ZŠ TGM Bojkovice\, Štefánikova 460 Bojkovice
SUMMARY:ZLK-U18Z: Bojkovice-Slavičín
END:VEVENT
BEGIN:VEVENT
UID:30623237-3332-4361-b063-336534343661
DTSTAMP:20260422T014836Z
DESCRIPTION:20/78 Bojkovice - Slavičín 1:3 (20\,-8\,-16\,-19)
DTSTART;TZID=Europe/Berlin:20250126T130000
DTEND;TZID=Europe/Berlin:20250126T150000
LOCATION:ZŠ TGM Bojkovice\, Štefánikova 460 Bojkovice
SUMMARY:ZLK-U18Z: Bojkovice-Slavičín
END:VEVENT
BEGIN:VEVENT
UID:39326264-3430-4036-b763-613765666562
DTSTAMP:20260422T014836Z
DESCRIPTION:25/100 Uh.Hradiště - Slavičín 0:3 (-17\,-16\,-19)
DTSTART;TZID=Europe/Berlin:20250215T100000
DTEND;TZID=Europe/Berlin:20250215T120000
LOCATION:Městská sportovní hala\, Stonky 860 Uherské Hradiště
SUMMARY:ZLK-U18Z: Uh.Hradiště-Slavičín
END:VEVENT
BEGIN:VEVENT
UID:38393737-3934-4431-b937-306639633834
DTSTAMP:20260422T014836Z
DESCRIPTION:26/104 Uh.Hradiště - Slavičín 1:3 (24\,-6\,-15\,-16)
DTSTART;TZID=Europe/Berlin:20250215T130000
DTEND;TZID=Europe/Berlin:20250215T150000
LOCATION:Městská sportovní hala\, Stonky 860 Uherské Hradiště
SUMMARY:ZLK-U18Z: Uh.Hradiště-Slavičín
END:VEVENT
BEGIN:VEVENT
UID:38383363-6565-4563-a263-396234356330
DTSTAMP:20260422T014836Z
DESCRIPTION:1/3 Slavičín - Kojetín 0:3 (-14\,-12\,-21)
DTSTART;TZID=Europe/Berlin:20250426T140000
DTEND;TZID=Europe/Berlin:20250426T160000
LOCATION:Hala ZŠ Dr. Hrubého\, Dr. Hrubého 319 Šternberk
SUMMARY:2-U18Z-KC: Slavičín-Kojetín
END:VEVENT
BEGIN:VEVENT
UID:66333566-3830-4739-b261-656462373061
DTSTAMP:20260422T014836Z
DESCRIPTION:1/5 Slavičín - Kroměříž 1:3 (-19\,19\,-20\,-16)
DTSTART;TZID=Europe/Berlin:20250426T180000
DTEND;TZID=Europe/Berlin:20250426T200000
LOCATION:Hala ZŠ Dr. Hrubého\, Dr. Hrubého 319 Šternberk
SUMMARY:2-U18Z-KC: Slavičín-Kroměříž
END:VEVENT
BEGIN:VEVENT
UID:35626331-6631-4437-a531-633335616331
DTSTAMP:20260422T014836Z
DESCRIPTION:2/7 UP Olomouc - Slavičín 3:0 (16\,6\,25)
DTSTART;TZID=Europe/Berlin:20250427T120000
DTEND;TZID=Europe/Berlin:20250427T140000
LOCATION:Hala ZŠ Dr. Hrubého\, Dr. Hrubého 319 Šternberk
SUMMARY:2-U18Z-KC: UP Olomouc-Slavičín
END:VEVENT
BEGIN:VEVENT
UID:62346337-3233-4239-a139-333831613438
DTSTAMP:20260422T014836Z
DESCRIPTION:2/9 Ostrava C - Slavičín 3:0 (11\,15\,21)
DTSTART;TZID=Europe/Berlin:20250427T160000
DTEND;TZID=Europe/Berlin:20250427T180000
LOCATION:Hala ZŠ Dr. Hrubého\, Dr. Hrubého 319 Šternberk
SUMMARY:2-U18Z-KC: Ostrava C-Slavičín
END:VEVENT
END:VCALENDAR
