BEGIN:VCALENDAR
VERSION:2.0
PRODID:-//TJ Tatran Prachatice A85566//NONSGML kigkonsult.se iCalcreator 2.41.80//
CALSCALE:GREGORIAN
UID:37653138-6165-4466-b034-316434313264
BEGIN:VEVENT
UID:65343634-6338-4038-b239-396532373463
DTSTAMP:20260421T192720Z
DESCRIPTION:1/3 TJ Prachatice - A - VK Madeta A 0:2 (-18\,-13)
DTSTART;TZID=Europe/Berlin:20240915T112000
DTEND;TZID=Europe/Berlin:20240915T132000
LOCATION:, U Stadionu 764 Prachatice - Prachatice II
SUMMARY:JC-U16Z-1-1A: TJ Prachatice - A-VK Madeta A
END:VEVENT
BEGIN:VEVENT
UID:65636563-6637-4562-b234-356363636561
DTSTAMP:20260421T192720Z
DESCRIPTION:1/1 Volejbal Rudolfov A - TJ Prachatice - A 1:2 (18\,-16\,-15)
DTSTART;TZID=Europe/Berlin:20240915T090000
DTEND;TZID=Europe/Berlin:20240915T110000
LOCATION:Sportovní hala Rudolfov\, Adamovská 511 Rudolfov
SUMMARY:JC-U16Z-1-1A: Volejbal Rudolfov A-TJ Prachatice - A
END:VEVENT
BEGIN:VEVENT
UID:31613936-3564-4935-b131-353739316266
DTSTAMP:20260421T192720Z
DESCRIPTION:1/5 Volejbal Tábor A - TJ Prachatice - A 1:2 (22\,-15\,-12)
DTSTART;TZID=Europe/Berlin:20240915T134000
DTEND;TZID=Europe/Berlin:20240915T154000
LOCATION:Sportovní Hala Mír\, U Stadionu Míru 1579 Tábor
SUMMARY:JC-U16Z-1-1A: Volejbal Tábor A-TJ Prachatice - A
END:VEVENT
BEGIN:VEVENT
UID:38613965-6463-4237-b131-636337633061
DTSTAMP:20260421T192720Z
DESCRIPTION:1/2 TJ Prachatice - A - Volejbal Rudolfov A 0:2 (-15\,-17)
DTSTART;TZID=Europe/Berlin:20241013T101500
DTEND;TZID=Europe/Berlin:20241013T121500
LOCATION:, U Stadionu 764 Prachatice - Prachatice II
SUMMARY:JC-U16Z-1-2A: TJ Prachatice - A-Volejbal Rudolfov A
END:VEVENT
BEGIN:VEVENT
UID:36356235-3061-4035-a438-623261646539
DTSTAMP:20260421T192720Z
DESCRIPTION:1/5 TJ Prachatice - A - Škola volejbalu A 2:0 (19\,17)
DTSTART;TZID=Europe/Berlin:20241013T140000
DTEND;TZID=Europe/Berlin:20241013T160000
LOCATION:, U Stadionu 764 Prachatice - Prachatice II
SUMMARY:JC-U16Z-1-2A: TJ Prachatice - A-Škola volejbalu A
END:VEVENT
BEGIN:VEVENT
UID:63303566-3465-4465-a434-313633666237
DTSTAMP:20260421T192720Z
DESCRIPTION:1/4 VK Madeta A - TJ Prachatice - A 2:0 (13\,13)
DTSTART;TZID=Europe/Berlin:20241013T124500
DTEND;TZID=Europe/Berlin:20241013T144500
LOCATION:Sportovní hala\, Stromovka 1216 České Budějovice - České Budějovic
 e 2
SUMMARY:JC-U16Z-1-2A: VK Madeta A-TJ Prachatice - A
END:VEVENT
BEGIN:VEVENT
UID:63336264-3234-4533-b666-326132396233
DTSTAMP:20260421T192720Z
DESCRIPTION:1/6 TJ Prachatice - A - VK Madeta A 0:2 (-23\,-15)
DTSTART;TZID=Europe/Berlin:20241110T151500
DTEND;TZID=Europe/Berlin:20241110T171500
LOCATION:, U Stadionu 764 Prachatice - Prachatice II
SUMMARY:JC-U16Z-1-3A: TJ Prachatice - A-VK Madeta A
END:VEVENT
BEGIN:VEVENT
UID:61363066-6664-4766-b033-303133666136
DTSTAMP:20260421T192720Z
DESCRIPTION:1/2 Volejbal Rudolfov A - TJ Prachatice - A 1:2 (24\,-18\,-3)
DTSTART;TZID=Europe/Berlin:20241110T101500
DTEND;TZID=Europe/Berlin:20241110T121500
LOCATION:Sportovní hala Rudolfov\, Adamovská 511 Rudolfov
SUMMARY:JC-U16Z-1-3A: Volejbal Rudolfov A-TJ Prachatice - A
END:VEVENT
BEGIN:VEVENT
UID:64323265-3461-4034-a464-326161383162
DTSTAMP:20260421T192720Z
DESCRIPTION:1/3 VK Madeta B - TJ Prachatice - A 2:0 (23\,21)
DTSTART;TZID=Europe/Berlin:20241110T113000
DTEND;TZID=Europe/Berlin:20241110T133000
LOCATION:Sportovní hala\, Stromovka 1216 České Budějovice - České Budějovic
 e 2
SUMMARY:JC-U16Z-1-3A: VK Madeta B-TJ Prachatice - A
END:VEVENT
BEGIN:VEVENT
UID:63613464-6566-4133-b433-373331366662
DTSTAMP:20260421T192720Z
DESCRIPTION:1/6 TJ Prachatice - A - VK Madeta B 2:0 (22\,19)
DTSTART;TZID=Europe/Berlin:20241208T151500
DTEND;TZID=Europe/Berlin:20241208T171500
LOCATION:, U Stadionu 764 Prachatice - Prachatice II
SUMMARY:JC-U16Z-1-4A: TJ Prachatice - A-VK Madeta B
END:VEVENT
BEGIN:VEVENT
UID:34306637-3632-4538-b466-666536346235
DTSTAMP:20260421T192720Z
DESCRIPTION:1/2 VK Madeta A - TJ Prachatice - A 2:1 (-23\,13\,13)
DTSTART;TZID=Europe/Berlin:20241208T101500
DTEND;TZID=Europe/Berlin:20241208T121500
LOCATION:Sportovní hala\, Stromovka 1216 České Budějovice - České Budějovic
 e 2
SUMMARY:JC-U16Z-1-4A: VK Madeta A-TJ Prachatice - A
END:VEVENT
BEGIN:VEVENT
UID:36626438-3763-4334-b864-373933653436
DTSTAMP:20260421T192720Z
DESCRIPTION:1/3 SK TŘEBÍN A - TJ Prachatice - A 1:2 (12\,-21\,-13)
DTSTART;TZID=Europe/Berlin:20241208T113000
DTEND;TZID=Europe/Berlin:20241208T133000
LOCATION:ZŠ Máj I\, M. Chlajna 1319 České Budějovice - České Budějovice 2
SUMMARY:JC-U16Z-1-4A: SK TŘEBÍN A-TJ Prachatice - A
END:VEVENT
BEGIN:VEVENT
UID:64393634-3333-4430-b961-353534613061
DTSTAMP:20260421T192720Z
DESCRIPTION:1/3 TJ Prachatice - A - VK Madeta A 0:2 (-20\,-9)
DTSTART;TZID=Europe/Berlin:20250112T113000
DTEND;TZID=Europe/Berlin:20250112T133000
LOCATION:, U Stadionu 764 Prachatice - Prachatice II
SUMMARY:JC-U16Z-1-5A: TJ Prachatice - A-VK Madeta A
END:VEVENT
BEGIN:VEVENT
UID:33306331-3966-4531-a635-306336653335
DTSTAMP:20260421T192720Z
DESCRIPTION:1/1 SK TŘEBÍN A - TJ Prachatice - A 1:2 (21\,-26\,-17)
DTSTART;TZID=Europe/Berlin:20250112T090000
DTEND;TZID=Europe/Berlin:20250112T110000
LOCATION:ZŠ Máj I\, M. Chlajna 1319 České Budějovice - České Budějovice 2
SUMMARY:JC-U16Z-1-5A: SK TŘEBÍN A-TJ Prachatice - A
END:VEVENT
BEGIN:VEVENT
UID:64666434-3236-4263-a634-613534626464
DTSTAMP:20260421T192720Z
DESCRIPTION:1/5 Volejbal Tábor A - TJ Prachatice - A 0:2 (-17\,-15)
DTSTART;TZID=Europe/Berlin:20250112T140000
DTEND;TZID=Europe/Berlin:20250112T160000
LOCATION:Sportovní Hala Mír\, U Stadionu Míru 1579 Tábor
SUMMARY:JC-U16Z-1-5A: Volejbal Tábor A-TJ Prachatice - A
END:VEVENT
BEGIN:VEVENT
UID:63343433-3263-4533-a237-303839396366
DTSTAMP:20260421T192720Z
DESCRIPTION:1/1 TJ Prachatice - A - VK Madeta B 1:2 (-24\,25\,-13)
DTSTART;TZID=Europe/Berlin:20250302T090000
DTEND;TZID=Europe/Berlin:20250302T110000
LOCATION:, U Stadionu 764 Prachatice - Prachatice II
SUMMARY:JC-U16Z-1-6A: TJ Prachatice - A-VK Madeta B
END:VEVENT
BEGIN:VEVENT
UID:62393861-6231-4638-b166-653938396365
DTSTAMP:20260421T192720Z
DESCRIPTION:1/4 TJ Prachatice - A - Volejbal Tábor A 2:1 (-22\,21\,13)
DTSTART;TZID=Europe/Berlin:20250302T124500
DTEND;TZID=Europe/Berlin:20250302T144500
LOCATION:, U Stadionu 764 Prachatice - Prachatice II
SUMMARY:JC-U16Z-1-6A: TJ Prachatice - A-Volejbal Tábor A
END:VEVENT
BEGIN:VEVENT
UID:38326161-3033-4333-b962-346230616663
DTSTAMP:20260421T192720Z
DESCRIPTION:1/6 VK Madeta A - TJ Prachatice - A 2:0 (20\,21)
DTSTART;TZID=Europe/Berlin:20250302T151500
DTEND;TZID=Europe/Berlin:20250302T171500
LOCATION:Sportovní hala\, Stromovka 1216 České Budějovice - České Budějovic
 e 2
SUMMARY:JC-U16Z-1-6A: VK Madeta A-TJ Prachatice - A
END:VEVENT
BEGIN:VEVENT
UID:30623366-3237-4435-a265-323434343937
DTSTAMP:20260421T192720Z
DESCRIPTION:1/2 TJ Prachatice - A - VK Madeta B 0:2 (-17\,-20)
DTSTART;TZID=Europe/Berlin:20250323T101500
DTEND;TZID=Europe/Berlin:20250323T121500
LOCATION:, U Stadionu 764 Prachatice - Prachatice II
SUMMARY:JC-U16Z-1-7A: TJ Prachatice - A-VK Madeta B
END:VEVENT
BEGIN:VEVENT
UID:31656565-6161-4432-b463-316233303433
DTSTAMP:20260421T192720Z
DESCRIPTION:1/5 TJ Prachatice - A - SK TŘEBÍN A 1:2 (-12\,20\,-13)
DTSTART;TZID=Europe/Berlin:20250323T140000
DTEND;TZID=Europe/Berlin:20250323T160000
LOCATION:, U Stadionu 764 Prachatice - Prachatice II
SUMMARY:JC-U16Z-1-7A: TJ Prachatice - A-SK TŘEBÍN A
END:VEVENT
BEGIN:VEVENT
UID:36356438-6666-4738-b666-313064616636
DTSTAMP:20260421T192720Z
DESCRIPTION:1/4 VK Madeta A - TJ Prachatice - A 2:0 (22\,16)
DTSTART;TZID=Europe/Berlin:20250323T124500
DTEND;TZID=Europe/Berlin:20250323T144500
LOCATION:Sportovní hala\, Stromovka 1216 České Budějovice - České Budějovic
 e 2
SUMMARY:JC-U16Z-1-7A: VK Madeta A-TJ Prachatice - A
END:VEVENT
BEGIN:VEVENT
UID:33626464-3034-4430-a662-353037663333
DTSTAMP:20260421T192720Z
DESCRIPTION:6/12 TJ Prachatice - A - Nové Veselí A 0:2 (-17\,-10)
DTSTART;TZID=Europe/Berlin:20250418T151500
DTEND;TZID=Europe/Berlin:20250418T171500
LOCATION:ZŠ Komenského\, Nymburk\, Komenského 589 Nymburk
SUMMARY:MCR-U16Z-C: TJ Prachatice - A-Nové Veselí A
END:VEVENT
BEGIN:VEVENT
UID:30646637-6338-4636-a161-363031336361
DTSTAMP:20260421T192720Z
DESCRIPTION:10/19 TJ Prachatice - A - Nymburské BOMBY 0:2 (-13\,-10)
DTSTART;TZID=Europe/Berlin:20250419T110000
DTEND;TZID=Europe/Berlin:20250419T130000
LOCATION:ZŠ Komenského\, Nymburk\, Komenského 589 Nymburk
SUMMARY:MCR-U16Z-C: TJ Prachatice - A-Nymburské BOMBY
END:VEVENT
BEGIN:VEVENT
UID:64656233-3739-4139-b535-613839666635
DTSTAMP:20260421T192720Z
DESCRIPTION:13/26 TJ Prachatice - A - Klatovy 0:2 (-14\,-16)
DTSTART;TZID=Europe/Berlin:20250419T144500
DTEND;TZID=Europe/Berlin:20250419T164500
LOCATION:ZŠ Komenského\, Nymburk\, Komenského 589 Nymburk
SUMMARY:MCR-U16Z-C: TJ Prachatice - A-Klatovy
END:VEVENT
BEGIN:VEVENT
UID:30353361-3733-4436-a562-366462366364
DTSTAMP:20260421T192720Z
DESCRIPTION:2/4 Bílovec 'A' - TJ Prachatice - A 2:0 (15\,24)
DTSTART;TZID=Europe/Berlin:20250418T101500
DTEND;TZID=Europe/Berlin:20250418T121500
LOCATION:ZŠ Komenského\, Nymburk\, Komenského 589 Nymburk
SUMMARY:MCR-U16Z-C: Bílovec 'A'-TJ Prachatice - A
END:VEVENT
BEGIN:VEVENT
UID:62353136-3262-4636-b638-323639653331
DTSTAMP:20260421T192720Z
DESCRIPTION:3/6 Zlín A - TJ Prachatice - A 1:2 (13\,-22\,-12)
DTSTART;TZID=Europe/Berlin:20250418T113000
DTEND;TZID=Europe/Berlin:20250418T133000
LOCATION:ZŠ Komenského\, Nymburk\, Komenského 589 Nymburk
SUMMARY:MCR-U16Z-C: Zlín A-TJ Prachatice - A
END:VEVENT
BEGIN:VEVENT
UID:35383631-6434-4834-a261-373230316439
DTSTAMP:20260421T192720Z
DESCRIPTION:7/14 Slavia H.Králové A - TJ Prachatice - A 2:0 (12\,13)
DTSTART;TZID=Europe/Berlin:20250418T163000
DTEND;TZID=Europe/Berlin:20250418T183000
LOCATION:ZŠ Komenského\, Nymburk\, Komenského 589 Nymburk
SUMMARY:MCR-U16Z-C: Slavia H.Králové A-TJ Prachatice - A
END:VEVENT
BEGIN:VEVENT
UID:38396534-3335-4330-b666-366161653564
DTSTAMP:20260421T192720Z
DESCRIPTION:12/23 Mikulova B - TJ Prachatice - A 2:0 (17\,20)
DTSTART;TZID=Europe/Berlin:20250419T133000
DTEND;TZID=Europe/Berlin:20250419T153000
LOCATION:ZŠ Komenského\, Nymburk\, Komenského 589 Nymburk
SUMMARY:MCR-U16Z-C: Mikulova B-TJ Prachatice - A
END:VEVENT
END:VCALENDAR
