BEGIN:VCALENDAR
VERSION:2.0
PRODID:-//TĚLOVÝCHOVNÁ JEDNOTA NIVNICE85590//NONSGML kigkonsult.se iCalcreator 2.41.80//
CALSCALE:GREGORIAN
UID:62373838-3531-4338-b463-383133383863
BEGIN:VEVENT
UID:63633539-6466-4135-b630-613235616263
DTSTAMP:20260422T221350Z
DESCRIPTION:3/11 Nivnice - MEZ Vsetín 3:0 (20\,20\,25)
DTSTART;TZID=Europe/Berlin:20241019T100000
DTEND;TZID=Europe/Berlin:20241019T120000
LOCATION:Sportovní hala Nivnice\, Podohradí 888 Nivnice
SUMMARY:ZLK-M: Nivnice-MEZ Vsetín
END:VEVENT
BEGIN:VEVENT
UID:63393332-6636-4338-b938-356237666665
DTSTAMP:20260422T221350Z
DESCRIPTION:4/15 Nivnice - MEZ Vsetín 3:1 (22\,16\,-24\,14)
DTSTART;TZID=Europe/Berlin:20241019T130000
DTEND;TZID=Europe/Berlin:20241019T150000
LOCATION:Sportovní hala Nivnice\, Podohradí 888 Nivnice
SUMMARY:ZLK-M: Nivnice-MEZ Vsetín
END:VEVENT
BEGIN:VEVENT
UID:32633762-6366-4564-a662-336532363338
DTSTAMP:20260422T221350Z
DESCRIPTION:7/26 Nivnice - Holešov 3:2 (-26\,-19\,22\,11\,10)
DTSTART;TZID=Europe/Berlin:20241102T100000
DTEND;TZID=Europe/Berlin:20241102T120000
LOCATION:Sportovní hala Nivnice\, Podohradí 888 Nivnice
SUMMARY:ZLK-M: Nivnice-Holešov
END:VEVENT
BEGIN:VEVENT
UID:31316633-3436-4461-b335-333634393239
DTSTAMP:20260422T221350Z
DESCRIPTION:8/30 Nivnice - Holešov 3:2 (-17\,22\,-25\,22\,11)
DTSTART;TZID=Europe/Berlin:20241102T130000
DTEND;TZID=Europe/Berlin:20241102T150000
LOCATION:Sportovní hala Nivnice\, Podohradí 888 Nivnice
SUMMARY:ZLK-M: Nivnice-Holešov
END:VEVENT
BEGIN:VEVENT
UID:66313033-3464-4135-b065-363365656265
DTSTAMP:20260422T221350Z
DESCRIPTION:13/52 Nivnice - Veselí n.M. 3:0 (18\,17\,23)
DTSTART;TZID=Europe/Berlin:20241214T100000
DTEND;TZID=Europe/Berlin:20241214T120000
LOCATION:Sportovní hala Nivnice\, Podohradí 888 Nivnice
SUMMARY:ZLK-M: Nivnice-Veselí n.M.
END:VEVENT
BEGIN:VEVENT
UID:32346561-3562-4664-b534-623566383937
DTSTAMP:20260422T221350Z
DESCRIPTION:14/56 Nivnice - Veselí n.M. 3:0 (15\,25\,14)
DTSTART;TZID=Europe/Berlin:20241214T130000
DTEND;TZID=Europe/Berlin:20241214T150000
LOCATION:Sportovní hala Nivnice\, Podohradí 888 Nivnice
SUMMARY:ZLK-M: Nivnice-Veselí n.M.
END:VEVENT
BEGIN:VEVENT
UID:34613064-6530-4437-a232-646634346261
DTSTAMP:20260422T221350Z
DESCRIPTION:15/58 Nivnice - Napajedla 3:0 (18\,22\,20)
DTSTART;TZID=Europe/Berlin:20250111T100000
DTEND;TZID=Europe/Berlin:20250111T120000
LOCATION:Sportovní hala Nivnice\, Podohradí 888 Nivnice
SUMMARY:ZLK-M: Nivnice-Napajedla
END:VEVENT
BEGIN:VEVENT
UID:65396662-3537-4235-a137-386165323238
DTSTAMP:20260422T221350Z
DESCRIPTION:16/62 Nivnice - Napajedla 1:3 (24\,-22\,-20\,-23)
DTSTART;TZID=Europe/Berlin:20250111T130000
DTEND;TZID=Europe/Berlin:20250111T150000
LOCATION:Sportovní hala Nivnice\, Podohradí 888 Nivnice
SUMMARY:ZLK-M: Nivnice-Napajedla
END:VEVENT
BEGIN:VEVENT
UID:37623664-3063-4065-a637-633431643165
DTSTAMP:20260422T221350Z
DESCRIPTION:19/75 Nivnice - Bojkovice 3:1 (24\,-15\,14\,18)
DTSTART;TZID=Europe/Berlin:20250201T090000
DTEND;TZID=Europe/Berlin:20250201T110000
LOCATION:Sportovní hala Nivnice\, Podohradí 888 Nivnice
SUMMARY:ZLK-M: Nivnice-Bojkovice
END:VEVENT
BEGIN:VEVENT
UID:62653164-3437-4134-b564-383465393136
DTSTAMP:20260422T221350Z
DESCRIPTION:20/79 Nivnice - Bojkovice 3:1 (20\,-21\,8\,17)
DTSTART;TZID=Europe/Berlin:20250201T120000
DTEND;TZID=Europe/Berlin:20250201T140000
LOCATION:Sportovní hala Nivnice\, Podohradí 888 Nivnice
SUMMARY:ZLK-M: Nivnice-Bojkovice
END:VEVENT
BEGIN:VEVENT
UID:31366163-3066-4364-a561-653132643436
DTSTAMP:20260422T221350Z
DESCRIPTION:23/92 Nivnice - Staré Město 3:1 (14\,-17\,18\,13)
DTSTART;TZID=Europe/Berlin:20250301T100000
DTEND;TZID=Europe/Berlin:20250301T120000
LOCATION:Sportovní hala Nivnice\, Podohradí 888 Nivnice
SUMMARY:ZLK-M: Nivnice-Staré Město
END:VEVENT
BEGIN:VEVENT
UID:32376434-6331-4435-b533-623837356365
DTSTAMP:20260422T221350Z
DESCRIPTION:24/96 Nivnice - Staré Město 3:0 (17\,18\,22)
DTSTART;TZID=Europe/Berlin:20250301T130000
DTEND;TZID=Europe/Berlin:20250301T150000
LOCATION:Sportovní hala Nivnice\, Podohradí 888 Nivnice
SUMMARY:ZLK-M: Nivnice-Staré Město
END:VEVENT
BEGIN:VEVENT
UID:66646233-6636-4730-a563-323538383837
DTSTAMP:20260422T221350Z
DESCRIPTION:25/97 Nivnice - Val.Meziříčí 0:3 (-21\,-19\,-10)
DTSTART;TZID=Europe/Berlin:20250308T090000
DTEND;TZID=Europe/Berlin:20250308T110000
LOCATION:Sportovní hala Nivnice\, Podohradí 888 Nivnice
SUMMARY:ZLK-M: Nivnice-Val.Meziříčí
END:VEVENT
BEGIN:VEVENT
UID:32343161-3331-4635-b164-623366616666
DTSTAMP:20260422T221350Z
DESCRIPTION:26/101 Nivnice - Val.Meziříčí 3:2 (24\,-24\,-18\,23\,15)
DTSTART;TZID=Europe/Berlin:20250308T120000
DTEND;TZID=Europe/Berlin:20250308T140000
LOCATION:Sportovní hala Nivnice\, Podohradí 888 Nivnice
SUMMARY:ZLK-M: Nivnice-Val.Meziříčí
END:VEVENT
BEGIN:VEVENT
UID:63633264-3762-4866-b961-616366353731
DTSTAMP:20260422T221350Z
DESCRIPTION:1/2 Napajedla - Nivnice 3:0 (19\,23\,19)
DTSTART;TZID=Europe/Berlin:20241005T090000
DTEND;TZID=Europe/Berlin:20241005T110000
LOCATION:2.ZŠ Napajedla\, Komenského 298 Napajedla
SUMMARY:ZLK-M: Napajedla-Nivnice
END:VEVENT
BEGIN:VEVENT
UID:64643362-6137-4336-b430-393230343465
DTSTAMP:20260422T221350Z
DESCRIPTION:2/6 Napajedla - Nivnice 3:0 (23\,18\,23)
DTSTART;TZID=Europe/Berlin:20241005T120000
DTEND;TZID=Europe/Berlin:20241005T140000
LOCATION:2.ZŠ Napajedla\, Komenského 298 Napajedla
SUMMARY:ZLK-M: Napajedla-Nivnice
END:VEVENT
BEGIN:VEVENT
UID:38316566-3965-4337-b733-643939623866
DTSTAMP:20260422T221350Z
DESCRIPTION:5/19 Bojkovice - Nivnice 2:3 (-17\,20\,-19\,20\,-13)
DTSTART;TZID=Europe/Berlin:20241025T180000
DTEND;TZID=Europe/Berlin:20241025T200000
LOCATION:ZŠ TGM Bojkovice\, Štefánikova 460 Bojkovice
SUMMARY:ZLK-M: Bojkovice-Nivnice
END:VEVENT
BEGIN:VEVENT
UID:31373566-3831-4536-b137-393661666633
DTSTAMP:20260422T221350Z
DESCRIPTION:6/23 Bojkovice - Nivnice 3:2 (-14\,22\,25\,-21\,13)
DTSTART;TZID=Europe/Berlin:20241025T200000
DTEND;TZID=Europe/Berlin:20241025T220000
LOCATION:ZŠ TGM Bojkovice\, Štefánikova 460 Bojkovice
SUMMARY:ZLK-M: Bojkovice-Nivnice
END:VEVENT
BEGIN:VEVENT
UID:38393438-3138-4434-a337-333033376531
DTSTAMP:20260422T221350Z
DESCRIPTION:9/36 Staré Město - Nivnice 1:3 (-23\,20\,-20\,-23)
DTSTART;TZID=Europe/Berlin:20241116T100000
DTEND;TZID=Europe/Berlin:20241116T120000
LOCATION:Městská sportovní hala Širůch\, Nad Hřištěm 1921 Staré Město
SUMMARY:ZLK-M: Staré Město-Nivnice
END:VEVENT
BEGIN:VEVENT
UID:32393062-3736-4665-b862-386664303462
DTSTAMP:20260422T221350Z
DESCRIPTION:10/40 Staré Město - Nivnice 2:3 (23\,-19\,26\,-19\,-11)
DTSTART;TZID=Europe/Berlin:20241116T130000
DTEND;TZID=Europe/Berlin:20241116T150000
LOCATION:Městská sportovní hala Širůch\, Nad Hřištěm 1921 Staré Město
SUMMARY:ZLK-M: Staré Město-Nivnice
END:VEVENT
BEGIN:VEVENT
UID:62373638-6136-4465-b061-396261623633
DTSTAMP:20260422T221350Z
DESCRIPTION:11/41 Val.Meziříčí - Nivnice 3:2 (19\,22\,-15\,-20\,7)
DTSTART;TZID=Europe/Berlin:20241130T100000
DTEND;TZID=Europe/Berlin:20241130T120000
LOCATION:ZŠ Šafaříkova\, Šafaříkova 726 Valašské Meziříčí
SUMMARY:ZLK-M: Val.Meziříčí-Nivnice
END:VEVENT
BEGIN:VEVENT
UID:65363136-6133-4532-b464-316565363038
DTSTAMP:20260422T221350Z
DESCRIPTION:12/45 Val.Meziříčí - Nivnice 3:0 (23\,10\,20)
DTSTART;TZID=Europe/Berlin:20241130T130000
DTEND;TZID=Europe/Berlin:20241130T150000
LOCATION:ZŠ Šafaříkova\, Šafaříkova 726 Valašské Meziříčí
SUMMARY:ZLK-M: Val.Meziříčí-Nivnice
END:VEVENT
BEGIN:VEVENT
UID:37323330-3762-4134-a539-316534343135
DTSTAMP:20260422T221350Z
DESCRIPTION:17/67 MEZ Vsetín - Nivnice 0:3 (-21\,-21\,-23)
DTSTART;TZID=Europe/Berlin:20250118T090000
DTEND;TZID=Europe/Berlin:20250118T110000
LOCATION:Sportovní hala Na Lapači\, Na Lapači 247 Vsetín - Rokytnice
SUMMARY:ZLK-M: MEZ Vsetín-Nivnice
END:VEVENT
BEGIN:VEVENT
UID:38643934-6333-4136-a164-613337393463
DTSTAMP:20260422T221350Z
DESCRIPTION:18/71 MEZ Vsetín - Nivnice 2:3 (12\,-21\,23\,-17\,-11)
DTSTART;TZID=Europe/Berlin:20250118T120000
DTEND;TZID=Europe/Berlin:20250118T140000
LOCATION:Sportovní hala Na Lapači\, Na Lapači 247 Vsetín - Rokytnice
SUMMARY:ZLK-M: MEZ Vsetín-Nivnice
END:VEVENT
BEGIN:VEVENT
UID:30336264-6234-4566-b232-313632633430
DTSTAMP:20260422T221350Z
DESCRIPTION:21/82 Holešov - Nivnice 3:2 (24\,-17\,-23\,21\,10)
DTSTART;TZID=Europe/Berlin:20250222T160000
DTEND;TZID=Europe/Berlin:20250222T180000
LOCATION:SPŠ MV\, Zlínská 991 Holešov
SUMMARY:ZLK-M: Holešov-Nivnice
END:VEVENT
BEGIN:VEVENT
UID:36356630-3731-4834-a335-373539666139
DTSTAMP:20260422T221350Z
DESCRIPTION:22/86 Holešov - Nivnice 3:1 (22\,18\,-24\,13)
DTSTART;TZID=Europe/Berlin:20250222T190000
DTEND;TZID=Europe/Berlin:20250222T210000
LOCATION:SPŠ MV\, Zlínská 991 Holešov
SUMMARY:ZLK-M: Holešov-Nivnice
END:VEVENT
BEGIN:VEVENT
UID:34663535-3137-4265-b835-323062366462
DTSTAMP:20260422T221350Z
DESCRIPTION:27/108 Veselí n.M. - Nivnice 0:3 (-15\,-15\,-9)
DTSTART;TZID=Europe/Berlin:20250329T100000
DTEND;TZID=Europe/Berlin:20250329T120000
LOCATION:Církevní ZŠ Veselí nad Moravou\, Školní 698 Veselí nad Moravou
SUMMARY:ZLK-M: Veselí n.M.-Nivnice
END:VEVENT
BEGIN:VEVENT
UID:66346163-6666-4064-b530-363763333132
DTSTAMP:20260422T221350Z
DESCRIPTION:28/112 Veselí n.M. - Nivnice 3:2 (18\,23\,-23\,-24\,5)
DTSTART;TZID=Europe/Berlin:20250329T130000
DTEND;TZID=Europe/Berlin:20250329T150000
LOCATION:Církevní ZŠ Veselí nad Moravou\, Školní 698 Veselí nad Moravou
SUMMARY:ZLK-M: Veselí n.M.-Nivnice
END:VEVENT
END:VCALENDAR
