BEGIN:VCALENDAR
VERSION:2.0
PRODID:-//Volejbalová akademie mládeže Havířov85594//NONSGML kigkonsult.se iCalcreator 2.41.80//
CALSCALE:GREGORIAN
UID:39623564-6464-4430-a639-323037303430
BEGIN:VEVENT
UID:63616562-3235-4635-b265-653938633630
DTSTAMP:20260422T111938Z
DESCRIPTION:3/10 VAM Havířov - Blue Ostrava 3:2 (24\,-16\,16\,-18\,11)
DTSTART;TZID=Europe/Berlin:20241005T100000
DTEND;TZID=Europe/Berlin:20241005T120000
LOCATION:hala SPŠE\, Makarenkova 513 Havířov - Město
SUMMARY:MS-U18M: VAM Havířov-Blue Ostrava
END:VEVENT
BEGIN:VEVENT
UID:63306334-3938-4265-b831-643932613235
DTSTAMP:20260422T111938Z
DESCRIPTION:4/14 VAM Havířov - Blue Ostrava 3:2 (-19\,18\,-23\,19\,10)
DTSTART;TZID=Europe/Berlin:20241005T140000
DTEND;TZID=Europe/Berlin:20241005T160000
LOCATION:hala SPŠE\, Makarenkova 513 Havířov - Město
SUMMARY:MS-U18M: VAM Havířov-Blue Ostrava
END:VEVENT
BEGIN:VEVENT
UID:39623635-6332-4231-a132-663765396463
DTSTAMP:20260422T111938Z
DESCRIPTION:9/36 VAM Havířov - Happy Sport Opava 0:3 (-19\,-23\,-23)
DTSTART;TZID=Europe/Berlin:20241102T100000
DTEND;TZID=Europe/Berlin:20241102T120000
LOCATION:hala SPŠE\, Makarenkova 513 Havířov - Město
SUMMARY:MS-U18M: VAM Havířov-Happy Sport Opava
END:VEVENT
BEGIN:VEVENT
UID:30386134-3165-4637-a261-623732356163
DTSTAMP:20260422T111938Z
DESCRIPTION:10/40 VAM Havířov - Happy Sport Opava 3:0 (17\,23\,25)
DTSTART;TZID=Europe/Berlin:20241102T140000
DTEND;TZID=Europe/Berlin:20241102T160000
LOCATION:hala SPŠE\, Makarenkova 513 Havířov - Město
SUMMARY:MS-U18M: VAM Havířov-Happy Sport Opava
END:VEVENT
BEGIN:VEVENT
UID:31383334-3265-4532-a563-313633336636
DTSTAMP:20260422T111938Z
DESCRIPTION:13/51 VAM Havířov - Volejbal Ostrava 0:3 (-19\,-22\,-19)\ndohod
 a družstev
DTSTART;TZID=Europe/Berlin:20241208T100000
DTEND;TZID=Europe/Berlin:20241208T120000
LOCATION:SPŠ Stavební Ostrava\, Středoškolská 2992 Ostrava - Zábřeh
SUMMARY:MS-U18M: VAM Havířov-Volejbal Ostrava
END:VEVENT
BEGIN:VEVENT
UID:66346137-6463-4161-a639-303363656230
DTSTAMP:20260422T111938Z
DESCRIPTION:14/55 VAM Havířov - Volejbal Ostrava 0:3 (-22\,-18\,-26)\ndohod
 a družstev
DTSTART;TZID=Europe/Berlin:20241208T140000
DTEND;TZID=Europe/Berlin:20241208T160000
LOCATION:SPŠ Stavební Ostrava\, Středoškolská 2992 Ostrava - Zábřeh
SUMMARY:MS-U18M: VAM Havířov-Volejbal Ostrava
END:VEVENT
BEGIN:VEVENT
UID:33396562-6330-4464-b333-323438313064
DTSTAMP:20260422T111938Z
DESCRIPTION:15/59 VAM Havířov - Red Frýdlant n/O 0:3 (-14\,-14\,-18)
DTSTART;TZID=Europe/Berlin:20241207T090000
DTEND;TZID=Europe/Berlin:20241207T110000
LOCATION:Sportovní hala Fénix\, Železničářů 1300 Havířov - Město
SUMMARY:MS-U18M: VAM Havířov-Red Frýdlant n/O
END:VEVENT
BEGIN:VEVENT
UID:39653530-3234-4164-b830-663630376235
DTSTAMP:20260422T111938Z
DESCRIPTION:16/63 VAM Havířov - Red Frýdlant n/O 0:3 (-6\,-13\,-16)
DTSTART;TZID=Europe/Berlin:20241207T130000
DTEND;TZID=Europe/Berlin:20241207T150000
LOCATION:Sportovní hala Fénix\, Železničářů 1300 Havířov - Město
SUMMARY:MS-U18M: VAM Havířov-Red Frýdlant n/O
END:VEVENT
BEGIN:VEVENT
UID:64383032-6439-4335-b233-663138313066
DTSTAMP:20260422T111938Z
DESCRIPTION:21/81 VAM Havířov - VO Slezská Orlice 3:0 (22\,22\,15)
DTSTART;TZID=Europe/Berlin:20250125T100000
DTEND;TZID=Europe/Berlin:20250125T120000
LOCATION:hala SPŠE\, Makarenkova 513 Havířov - Město
SUMMARY:MS-U18M: VAM Havířov-VO Slezská Orlice
END:VEVENT
BEGIN:VEVENT
UID:33356563-3936-4037-b931-353439396264
DTSTAMP:20260422T111938Z
DESCRIPTION:22/85 VAM Havířov - VO Slezská Orlice 1:3 (18\,-24\,-23\,-15)
DTSTART;TZID=Europe/Berlin:20250125T140000
DTEND;TZID=Europe/Berlin:20250125T160000
LOCATION:hala SPŠE\, Makarenkova 513 Havířov - Město
SUMMARY:MS-U18M: VAM Havířov-VO Slezská Orlice
END:VEVENT
BEGIN:VEVENT
UID:64316665-3866-4931-b733-666462376638
DTSTAMP:20260422T111938Z
DESCRIPTION:25/98 VAM Havířov - VAM Olomouc 3:0 (22\,13\,24)
DTSTART;TZID=Europe/Berlin:20250215T090000
DTEND;TZID=Europe/Berlin:20250215T110000
LOCATION:Sportovní hala Fénix\, Železničářů 1300 Havířov - Město
SUMMARY:MS-U18M: VAM Havířov-VAM Olomouc
END:VEVENT
BEGIN:VEVENT
UID:32393266-3162-4635-b930-366430396466
DTSTAMP:20260422T111938Z
DESCRIPTION:26/102 VAM Havířov - VAM Olomouc 3:0 (24\,15\,19)
DTSTART;TZID=Europe/Berlin:20250215T130000
DTEND;TZID=Europe/Berlin:20250215T150000
LOCATION:Sportovní hala Fénix\, Železničářů 1300 Havířov - Město
SUMMARY:MS-U18M: VAM Havířov-VAM Olomouc
END:VEVENT
BEGIN:VEVENT
UID:39303765-3935-4331-b632-393864373534
DTSTAMP:20260422T111938Z
DESCRIPTION:1/3 Red Frýdlant n/O - VAM Havířov 3:0 (17\,14\,20)
DTSTART;TZID=Europe/Berlin:20240921T100000
DTEND;TZID=Europe/Berlin:20240921T120000
LOCATION:Komenského\, Komenského 420 Frýdlant nad Ostravicí - Frýdlant
SUMMARY:MS-U18M: Red Frýdlant n/O-VAM Havířov
END:VEVENT
BEGIN:VEVENT
UID:64616638-6136-4937-b332-343665656631
DTSTAMP:20260422T111938Z
DESCRIPTION:2/7 Red Frýdlant n/O - VAM Havířov 3:1 (-21\,21\,16\,22)
DTSTART;TZID=Europe/Berlin:20240921T140000
DTEND;TZID=Europe/Berlin:20240921T160000
LOCATION:Komenského\, Komenského 420 Frýdlant nad Ostravicí - Frýdlant
SUMMARY:MS-U18M: Red Frýdlant n/O-VAM Havířov
END:VEVENT
BEGIN:VEVENT
UID:39313966-3366-4133-b861-386536303939
DTSTAMP:20260422T111938Z
DESCRIPTION:7/25 VO Slezská Orlice - VAM Havířov 3:0 (12\,14\,16)
DTSTART;TZID=Europe/Berlin:20241026T100000
DTEND;TZID=Europe/Berlin:20241026T120000
LOCATION:Gymnázium Krnov\, Smetanův okruh 19 Krnov - Pod Bezručovým vrchem
SUMMARY:MS-U18M: VO Slezská Orlice-VAM Havířov
END:VEVENT
BEGIN:VEVENT
UID:38663438-3737-4338-a433-663330623837
DTSTAMP:20260422T111938Z
DESCRIPTION:8/29 VO Slezská Orlice - VAM Havířov 3:0 (15\,21\,16)
DTSTART;TZID=Europe/Berlin:20241026T140000
DTEND;TZID=Europe/Berlin:20241026T160000
LOCATION:Gymnázium Krnov\, Smetanův okruh 19 Krnov - Pod Bezručovým vrchem
SUMMARY:MS-U18M: VO Slezská Orlice-VAM Havířov
END:VEVENT
BEGIN:VEVENT
UID:61386238-6539-4636-b235-303831316662
DTSTAMP:20260422T111938Z
DESCRIPTION:11/42 VAM Olomouc - VAM Havířov 3:0 (19\,18\,12)
DTSTART;TZID=Europe/Berlin:20241109T110000
DTEND;TZID=Europe/Berlin:20241109T130000
LOCATION:VOŠ a SPŠE Olomouc\, Božetěchova 755 Olomouc - Hodolany
SUMMARY:MS-U18M: VAM Olomouc-VAM Havířov
END:VEVENT
BEGIN:VEVENT
UID:36613736-6432-4963-b930-636331643462
DTSTAMP:20260422T111938Z
DESCRIPTION:12/46 VAM Olomouc - VAM Havířov 0:3 (-15\,-13\,-13)
DTSTART;TZID=Europe/Berlin:20241109T150000
DTEND;TZID=Europe/Berlin:20241109T170000
LOCATION:VOŠ a SPŠE Olomouc\, Božetěchova 755 Olomouc - Hodolany
SUMMARY:MS-U18M: VAM Olomouc-VAM Havířov
END:VEVENT
BEGIN:VEVENT
UID:34363939-6230-4362-b636-336366306562
DTSTAMP:20260422T111938Z
DESCRIPTION:17/66 Blue Ostrava - VAM Havířov 3:2 (-23\,19\,14\,-22\,13)
DTSTART;TZID=Europe/Berlin:20241212T153000
DTEND;TZID=Europe/Berlin:20241212T173000
LOCATION:ZŠ Formana\, Františka Formana 268 Ostrava - Dubina
SUMMARY:MS-U18M: Blue Ostrava-VAM Havířov
END:VEVENT
BEGIN:VEVENT
UID:61393134-3437-4539-b636-653763393639
DTSTAMP:20260422T111938Z
DESCRIPTION:18/70 Blue Ostrava - VAM Havířov 3:0 (17\,11\,22)
DTSTART;TZID=Europe/Berlin:20250123T160000
DTEND;TZID=Europe/Berlin:20250123T180000
LOCATION:ZŠ Formana\, Františka Formana 268 Ostrava - Dubina
SUMMARY:MS-U18M: Blue Ostrava-VAM Havířov
END:VEVENT
BEGIN:VEVENT
UID:65363939-6532-4039-b338-376430306139
DTSTAMP:20260422T111938Z
DESCRIPTION:23/92 Happy Sport Opava - VAM Havířov 3:0 (16\,23\,20)
DTSTART;TZID=Europe/Berlin:20250329T100000
DTEND;TZID=Europe/Berlin:20250329T120000
LOCATION:Hala SPŠ stavební Opava\, Mírová 630 Opava - Předměstí
SUMMARY:MS-U18M: Happy Sport Opava-VAM Havířov
END:VEVENT
BEGIN:VEVENT
UID:65386639-3530-4161-a137-623737386166
DTSTAMP:20260422T111938Z
DESCRIPTION:24/96 Happy Sport Opava - VAM Havířov 3:0 (20\,18\,14)
DTSTART;TZID=Europe/Berlin:20250329T140000
DTEND;TZID=Europe/Berlin:20250329T160000
LOCATION:Hala SPŠ stavební Opava\, Mírová 630 Opava - Předměstí
SUMMARY:MS-U18M: Happy Sport Opava-VAM Havířov
END:VEVENT
BEGIN:VEVENT
UID:30633565-6338-4463-a332-613161623039
DTSTAMP:20260422T111938Z
DESCRIPTION:27/107 Volejbal Ostrava - VAM Havířov 3:0 (17\,6\,24)
DTSTART;TZID=Europe/Berlin:20250222T100000
DTEND;TZID=Europe/Berlin:20250222T120000
LOCATION:SPŠ Stavební Ostrava\, Středoškolská 2992 Ostrava - Zábřeh
SUMMARY:MS-U18M: Volejbal Ostrava-VAM Havířov
END:VEVENT
BEGIN:VEVENT
UID:39363132-3737-4161-b030-373863653035
DTSTAMP:20260422T111938Z
DESCRIPTION:28/111 Volejbal Ostrava - VAM Havířov 3:0 (23\,14\,22)
DTSTART;TZID=Europe/Berlin:20250222T140000
DTEND;TZID=Europe/Berlin:20250222T160000
LOCATION:SPŠ Stavební Ostrava\, Středoškolská 2992 Ostrava - Zábřeh
SUMMARY:MS-U18M: Volejbal Ostrava-VAM Havířov
END:VEVENT
END:VCALENDAR
