BEGIN:VCALENDAR
VERSION:2.0
PRODID:-//Volejbalová akademie mládeže Havířov, z.s.85596//NONSGML kigkonsult.se iCalcreator 2.41.80//
CALSCALE:GREGORIAN
UID:66383864-6635-4939-a435-386539666334
BEGIN:VEVENT
UID:64343730-6639-4461-b966-383834656231
DTSTAMP:20260421T215114Z
DESCRIPTION:4/8 VAM Havířov - ŠSK Bílovec 0:2 (-19\,-18)
DTSTART;TZID=Europe/Berlin:20241012T163000
DTEND;TZID=Europe/Berlin:20241012T183000
LOCATION:Sportovní hala Žákovská\, Komunardů 1548 Havířov - Město
SUMMARY:MS-U14Z-KVA: VAM Havířov-ŠSK Bílovec
END:VEVENT
BEGIN:VEVENT
UID:63336164-3230-4362-a334-616233306135
DTSTAMP:20260421T215114Z
DESCRIPTION:5/9 VAM Havířov - TJ Sokol Frýdek - Místek A 0:2 (-20\,-24)
DTSTART;TZID=Europe/Berlin:20241012T180000
DTEND;TZID=Europe/Berlin:20241012T200000
LOCATION:Sportovní hala Žákovská\, Komunardů 1548 Havířov - Město
SUMMARY:MS-U14Z-KVA: VAM Havířov-TJ Sokol Frýdek - Místek A
END:VEVENT
BEGIN:VEVENT
UID:61373739-6535-4238-a264-663432376161
DTSTAMP:20260421T215114Z
DESCRIPTION:1/2 TJ Ostrava - VAM Havířov 1:2 (-24\,21\,-13)
DTSTART;TZID=Europe/Berlin:20241012T120000
DTEND;TZID=Europe/Berlin:20241012T140000
LOCATION:Sportovní hala Žákovská\, Komunardů 1548 Havířov - Město
SUMMARY:MS-U14Z-KVA: TJ Ostrava-VAM Havířov
END:VEVENT
BEGIN:VEVENT
UID:66383566-6566-4638-a133-366533666366
DTSTAMP:20260421T215114Z
DESCRIPTION:2/3 VO Slezská Orlice - VAM Havířov 0:2 (-21\,-15)
DTSTART;TZID=Europe/Berlin:20241012T133000
DTEND;TZID=Europe/Berlin:20241012T153000
LOCATION:Sportovní hala Žákovská\, Komunardů 1548 Havířov - Město
SUMMARY:MS-U14Z-KVA: VO Slezská Orlice-VAM Havířov
END:VEVENT
BEGIN:VEVENT
UID:64303661-6337-4632-a466-326237626333
DTSTAMP:20260421T215114Z
DESCRIPTION:2/4 VAM Havířov - TJ Sokol Vratimov A 1:2 (-25\,14\,-10)
DTSTART;TZID=Europe/Berlin:20241116T134500
DTEND;TZID=Europe/Berlin:20241116T154500
LOCATION:Sportovní hala Žákovská\, Komunardů 1548 Havířov - Město
SUMMARY:MS-U14Z-T1C: VAM Havířov-TJ Sokol Vratimov A
END:VEVENT
BEGIN:VEVENT
UID:61643636-6331-4463-a164-653632663938
DTSTAMP:20260421T215114Z
DESCRIPTION:3/6 VAM Havířov - VO Slezská Orlice 2:0 (9\,21)
DTSTART;TZID=Europe/Berlin:20241116T151500
DTEND;TZID=Europe/Berlin:20241116T171500
LOCATION:Sportovní hala Žákovská\, Komunardů 1548 Havířov - Město
SUMMARY:MS-U14Z-T1C: VAM Havířov-VO Slezská Orlice
END:VEVENT
BEGIN:VEVENT
UID:64326239-3266-4437-a237-306361663234
DTSTAMP:20260421T215114Z
DESCRIPTION:1/1 SVK Nový Jičín B - VAM Havířov 0:2 (-5\,-20)
DTSTART;TZID=Europe/Berlin:20241116T121500
DTEND;TZID=Europe/Berlin:20241116T141500
LOCATION:Sportovní hala Žákovská\, Komunardů 1548 Havířov - Město
SUMMARY:MS-U14Z-T1C: SVK Nový Jičín B-VAM Havířov
END:VEVENT
BEGIN:VEVENT
UID:32383432-6132-4332-a135-356566623764
DTSTAMP:20260421T215114Z
DESCRIPTION:1/2 VAM Havířov - SVK Nový Jičín A 0:2 (-20\,-18)
DTSTART;TZID=Europe/Berlin:20241215T090000
DTEND;TZID=Europe/Berlin:20241215T110000
LOCATION:tělocvična u ZŠ Dobrá\,  Dobrá860
SUMMARY:MS-U14Z-T2B: VAM Havířov-SVK Nový Jičín A
END:VEVENT
BEGIN:VEVENT
UID:31623237-3831-4830-b630-666534373862
DTSTAMP:20260421T215114Z
DESCRIPTION:2/3 TJ Sokol Vratimov A - VAM Havířov 2:0 (20\,14)
DTSTART;TZID=Europe/Berlin:20241215T103000
DTEND;TZID=Europe/Berlin:20241215T123000
LOCATION:tělocvična u ZŠ Dobrá\,  Dobrá860
SUMMARY:MS-U14Z-T2B: TJ Sokol Vratimov A-VAM Havířov
END:VEVENT
BEGIN:VEVENT
UID:38653263-3061-4866-b336-663365353464
DTSTAMP:20260421T215114Z
DESCRIPTION:3/6 VK Raškovice - VAM Havířov 2:0 (16\,23)
DTSTART;TZID=Europe/Berlin:20241215T120000
DTEND;TZID=Europe/Berlin:20241215T140000
LOCATION:tělocvična u ZŠ Dobrá\,  Dobrá860
SUMMARY:MS-U14Z-T2B: VK Raškovice-VAM Havířov
END:VEVENT
BEGIN:VEVENT
UID:61326463-6238-4635-b536-616437333863
DTSTAMP:20260421T215114Z
DESCRIPTION:5/5 VAM Havířov - VO Slezská Orlice 2:0 (13\,17)
DTSTART;TZID=Europe/Berlin:20250111T150000
DTEND;TZID=Europe/Berlin:20250111T170000
LOCATION:Sokolovna\, Sokolská 290 Vratimov
SUMMARY:MS-U14Z-T3C: VAM Havířov-VO Slezská Orlice
END:VEVENT
BEGIN:VEVENT
UID:66313366-3633-4366-a132-303437616364
DTSTAMP:20260421T215114Z
DESCRIPTION:2/2 SVK Nový Jičín B - VAM Havířov 0:2 (-12\,-13)
DTSTART;TZID=Europe/Berlin:20250111T103000
DTEND;TZID=Europe/Berlin:20250111T123000
LOCATION:Sokolovna\, Sokolská 290 Vratimov
SUMMARY:MS-U14Z-T3C: SVK Nový Jičín B-VAM Havířov
END:VEVENT
BEGIN:VEVENT
UID:32633537-6537-4333-b435-636365653839
DTSTAMP:20260421T215114Z
DESCRIPTION:4/4 TJ Sokol Vratimov A - VAM Havířov 1:2 (-21\,21\,-13)
DTSTART;TZID=Europe/Berlin:20250111T133000
DTEND;TZID=Europe/Berlin:20250111T153000
LOCATION:Sokolovna\, Sokolská 290 Vratimov
SUMMARY:MS-U14Z-T3C: TJ Sokol Vratimov A-VAM Havířov
END:VEVENT
BEGIN:VEVENT
UID:64383439-6437-4334-a539-653736373032
DTSTAMP:20260421T215114Z
DESCRIPTION:1/1 VAM Havířov - ŠSK Bílovec 0:2 (-6\,-20)
DTSTART;TZID=Europe/Berlin:20250201T084500
DTEND;TZID=Europe/Berlin:20250201T104500
LOCATION:Hala ZŠ Komenského\, Komenského 701 Bílovec
SUMMARY:MS-U14Z-T4B: VAM Havířov-ŠSK Bílovec
END:VEVENT
BEGIN:VEVENT
UID:62366433-3931-4335-a566-376163626564
DTSTAMP:20260421T215114Z
DESCRIPTION:2/3 VAM Havířov - TJ Sokol Vratimov A 2:0 (15\,13)
DTSTART;TZID=Europe/Berlin:20250201T101500
DTEND;TZID=Europe/Berlin:20250201T121500
LOCATION:Hala ZŠ Komenského\, Komenského 701 Bílovec
SUMMARY:MS-U14Z-T4B: VAM Havířov-TJ Sokol Vratimov A
END:VEVENT
BEGIN:VEVENT
UID:36663635-3863-4134-a563-376435333839
DTSTAMP:20260421T215114Z
DESCRIPTION:3/5 TJ Frenštát pod Radhoštěm - VAM Havířov 2:0 (19\,24)
DTSTART;TZID=Europe/Berlin:20250201T114500
DTEND;TZID=Europe/Berlin:20250201T134500
LOCATION:Hala ZŠ Komenského\, Komenského 701 Bílovec
SUMMARY:MS-U14Z-T4B: TJ Frenštát pod Radhoštěm-VAM Havířov
END:VEVENT
BEGIN:VEVENT
UID:36306236-3237-4436-b666-393138386435
DTSTAMP:20260421T215114Z
DESCRIPTION:1/1 VAM Havířov - TJ Ostrava 0:2 (-20\,-22)
DTSTART;TZID=Europe/Berlin:20250222T090000
DTEND;TZID=Europe/Berlin:20250222T110000
LOCATION:Sportovní hala Žákovská\, Komunardů 1548 Havířov - Město
SUMMARY:MS-U14Z-T5B: VAM Havířov-TJ Ostrava
END:VEVENT
BEGIN:VEVENT
UID:39323466-3234-4231-a636-613633313132
DTSTAMP:20260421T215114Z
DESCRIPTION:2/3 VAM Havířov - TJ Sokol Frýdek - Místek A 0:2 (-24\,-21)
DTSTART;TZID=Europe/Berlin:20250222T103000
DTEND;TZID=Europe/Berlin:20250222T123000
LOCATION:Sportovní hala Žákovská\, Komunardů 1548 Havířov - Město
SUMMARY:MS-U14Z-T5B: VAM Havířov-TJ Sokol Frýdek - Místek A
END:VEVENT
BEGIN:VEVENT
UID:66643339-3630-4238-b532-646364643663
DTSTAMP:20260421T215114Z
DESCRIPTION:3/5 TJ Frenštát pod Radhoštěm - VAM Havířov 0:2 (-19\,-23)
DTSTART;TZID=Europe/Berlin:20250222T120000
DTEND;TZID=Europe/Berlin:20250222T140000
LOCATION:Sportovní hala Žákovská\, Komunardů 1548 Havířov - Město
SUMMARY:MS-U14Z-T5B: TJ Frenštát pod Radhoštěm-VAM Havířov
END:VEVENT
BEGIN:VEVENT
UID:35333335-3237-4666-a335-613935373837
DTSTAMP:20260421T215114Z
DESCRIPTION:2/3 VAM Havířov - TJ Ostrava 1:2 (14\,-18\,-11)
DTSTART;TZID=Europe/Berlin:20250315T100000
DTEND;TZID=Europe/Berlin:20250315T120000
LOCATION:Sportovní hala\, Heleny Salichové 1275 Ostrava - Polanka nad Odrou
SUMMARY:MS-U14Z-T6B: VAM Havířov-TJ Ostrava
END:VEVENT
BEGIN:VEVENT
UID:62626362-3331-4135-b334-323534643530
DTSTAMP:20260421T215114Z
DESCRIPTION:3/4 VAM Havířov - VK Polanka nad Odrou A 0:2 (-27\,-12)
DTSTART;TZID=Europe/Berlin:20250315T113000
DTEND;TZID=Europe/Berlin:20250315T133000
LOCATION:Sportovní hala\, Heleny Salichové 1275 Ostrava - Polanka nad Odrou
SUMMARY:MS-U14Z-T6B: VAM Havířov-VK Polanka nad Odrou A
END:VEVENT
BEGIN:VEVENT
UID:33633166-3536-4361-b731-363834636361
DTSTAMP:20260421T215114Z
DESCRIPTION:1/2 VKB Frýdlant n.O. - VAM Havířov 2:0 (8\,13)
DTSTART;TZID=Europe/Berlin:20250315T083000
DTEND;TZID=Europe/Berlin:20250315T103000
LOCATION:Sportovní hala\, Heleny Salichové 1275 Ostrava - Polanka nad Odrou
SUMMARY:MS-U14Z-T6B: VKB Frýdlant n.O.-VAM Havířov
END:VEVENT
END:VCALENDAR
