BEGIN:VCALENDAR
VERSION:2.0
PRODID:-//Volejbalová akademie mládeže Havířov, z.s.85597//NONSGML kigkonsult.se iCalcreator 2.41.80//
CALSCALE:GREGORIAN
UID:35313030-6139-4334-b537-643832386164
BEGIN:VEVENT
UID:33663132-3232-4330-a463-346634356137
DTSTAMP:20260422T010230Z
DESCRIPTION:1/2 VAM Havířov - Ostrava 'B' 2:0 (14\,17)
DTSTART;TZID=Europe/Berlin:20240929T090000
DTEND;TZID=Europe/Berlin:20240929T110000
LOCATION:Sportovní hala Žákovská\, Komunardů 1548 Havířov - Město
SUMMARY:MS-U16Z-KVA: VAM Havířov-Ostrava 'B'
END:VEVENT
BEGIN:VEVENT
UID:64363262-3035-4164-b236-326234363764
DTSTAMP:20260422T010230Z
DESCRIPTION:2/6 VAM Havířov - TJ Sokol F-M 'A' 0:2 (-10\,-15)
DTSTART;TZID=Europe/Berlin:20240929T103000
DTEND;TZID=Europe/Berlin:20240929T123000
LOCATION:Sportovní hala Žákovská\, Komunardů 1548 Havířov - Město
SUMMARY:MS-U16Z-KVA: VAM Havířov-TJ Sokol F-M 'A'
END:VEVENT
BEGIN:VEVENT
UID:61666337-3330-4134-a462-386137653037
DTSTAMP:20260422T010230Z
DESCRIPTION:3/7 VAM Havířov - Polanka 'B' 2:0 (7\,19)
DTSTART;TZID=Europe/Berlin:20240929T120000
DTEND;TZID=Europe/Berlin:20240929T140000
LOCATION:Sportovní hala Žákovská\, Komunardů 1548 Havířov - Město
SUMMARY:MS-U16Z-KVA: VAM Havířov-Polanka 'B'
END:VEVENT
BEGIN:VEVENT
UID:65646161-3032-4030-b531-386565626136
DTSTAMP:20260422T010230Z
DESCRIPTION:4/12 VAM Havířov - VKB Frýdlant 'A' 0:2 (-16\,-23)
DTSTART;TZID=Europe/Berlin:20240929T133000
DTEND;TZID=Europe/Berlin:20240929T153000
LOCATION:Sportovní hala Žákovská\, Komunardů 1548 Havířov - Město
SUMMARY:MS-U16Z-KVA: VAM Havířov-VKB Frýdlant 'A'
END:VEVENT
BEGIN:VEVENT
UID:35316266-6332-4166-a538-663130626636
DTSTAMP:20260422T010230Z
DESCRIPTION:5/14 Vratimov - VAM Havířov 0:2 (-11\,-8)
DTSTART;TZID=Europe/Berlin:20240929T150000
DTEND;TZID=Europe/Berlin:20240929T170000
LOCATION:Sportovní hala Žákovská\, Komunardů 1548 Havířov - Město
SUMMARY:MS-U16Z-KVA: Vratimov-VAM Havířov
END:VEVENT
BEGIN:VEVENT
UID:33313332-6161-4233-a166-353934333739
DTSTAMP:20260422T010230Z
DESCRIPTION:1/1 VAM Havířov - TJ Sokol F-M 'B' 2:0 (18\,15)
DTSTART;TZID=Europe/Berlin:20241020T090000
DTEND;TZID=Europe/Berlin:20241020T110000
LOCATION:Hala Gymnázium Karviná\, Mírová 1442 Karviná - Nové Město
SUMMARY:MS-U16Z-T1C: VAM Havířov-TJ Sokol F-M 'B'
END:VEVENT
BEGIN:VEVENT
UID:64646435-6630-4533-a533-626131666431
DTSTAMP:20260422T010230Z
DESCRIPTION:5/10 VAM Havířov - VK Karviná 0:2 (-19\,-21)
DTSTART;TZID=Europe/Berlin:20241020T150000
DTEND;TZID=Europe/Berlin:20241020T170000
LOCATION:Hala Gymnázium Karviná\, Mírová 1442 Karviná - Nové Město
SUMMARY:MS-U16Z-T1C: VAM Havířov-VK Karviná
END:VEVENT
BEGIN:VEVENT
UID:31656332-6434-4463-a239-633664626236
DTSTAMP:20260422T010230Z
DESCRIPTION:3/6 VS Ostrava - VAM Havířov 0:2 (-12\,-19)
DTSTART;TZID=Europe/Berlin:20241020T120000
DTEND;TZID=Europe/Berlin:20241020T140000
LOCATION:Hala Gymnázium Karviná\, Mírová 1442 Karviná - Nové Město
SUMMARY:MS-U16Z-T1C: VS Ostrava-VAM Havířov
END:VEVENT
BEGIN:VEVENT
UID:66333564-3033-4664-b865-383338663431
DTSTAMP:20260422T010230Z
DESCRIPTION:4/7 N.Jičín 'B' - VAM Havířov 1:2 (-20\,20\,-8)
DTSTART;TZID=Europe/Berlin:20241020T133000
DTEND;TZID=Europe/Berlin:20241020T153000
LOCATION:Hala Gymnázium Karviná\, Mírová 1442 Karviná - Nové Město
SUMMARY:MS-U16Z-T1C: N.Jičín 'B'-VAM Havířov
END:VEVENT
BEGIN:VEVENT
UID:35346134-3635-4638-a164-333863313264
DTSTAMP:20260422T010230Z
DESCRIPTION:3/5 VAM Havířov - VKB Frýdlant 'A' 0:2 (-20\,-12)
DTSTART;TZID=Europe/Berlin:20241110T120000
DTEND;TZID=Europe/Berlin:20241110T140000
LOCATION:Hala Gymnázium Karviná\, Mírová 1442 Karviná - Nové Město
SUMMARY:MS-U16Z-T2B: VAM Havířov-VKB Frýdlant 'A'
END:VEVENT
BEGIN:VEVENT
UID:30616134-6661-4364-a662-653836653538
DTSTAMP:20260422T010230Z
DESCRIPTION:4/8 VAM Havířov - Raškovice 0:2 (-18\,-18)
DTSTART;TZID=Europe/Berlin:20241110T133000
DTEND;TZID=Europe/Berlin:20241110T153000
LOCATION:Hala Gymnázium Karviná\, Mírová 1442 Karviná - Nové Město
SUMMARY:MS-U16Z-T2B: VAM Havířov-Raškovice
END:VEVENT
BEGIN:VEVENT
UID:39643636-3963-4237-b534-373861353463
DTSTAMP:20260422T010230Z
DESCRIPTION:1/1 TJ Sokol F-M 'A' - VAM Havířov 2:0 (10\,17)
DTSTART;TZID=Europe/Berlin:20241110T090000
DTEND;TZID=Europe/Berlin:20241110T110000
LOCATION:Hala Gymnázium Karviná\, Mírová 1442 Karviná - Nové Město
SUMMARY:MS-U16Z-T2B: TJ Sokol F-M 'A'-VAM Havířov
END:VEVENT
BEGIN:VEVENT
UID:66313363-6465-4464-a134-633366613734
DTSTAMP:20260422T010230Z
DESCRIPTION:2/4 VK Karviná - VAM Havířov 1:2 (-16\,14\,-5)
DTSTART;TZID=Europe/Berlin:20241110T103000
DTEND;TZID=Europe/Berlin:20241110T123000
LOCATION:Hala Gymnázium Karviná\, Mírová 1442 Karviná - Nové Město
SUMMARY:MS-U16Z-T2B: VK Karviná-VAM Havířov
END:VEVENT
BEGIN:VEVENT
UID:35336235-3364-4062-b535-643435386264
DTSTAMP:20260422T010230Z
DESCRIPTION:3/6 VAM Havířov - Orlová 1:2 (-23\,15\,-8)
DTSTART;TZID=Europe/Berlin:20241201T120000
DTEND;TZID=Europe/Berlin:20241201T140000
LOCATION:Tělocvična ZŠ Karla Dvořáčka\, Karla Dvořáčka 1230 Orlová - Lutyně
SUMMARY:MS-U16Z-T3C: VAM Havířov-Orlová
END:VEVENT
BEGIN:VEVENT
UID:38336661-6531-4531-b832-653564336261
DTSTAMP:20260422T010230Z
DESCRIPTION:4/7 VAM Havířov - VS Ostrava 0:2 (-12\,-19)
DTSTART;TZID=Europe/Berlin:20241201T133000
DTEND;TZID=Europe/Berlin:20241201T153000
LOCATION:Tělocvična ZŠ Karla Dvořáčka\, Karla Dvořáčka 1230 Orlová - Lutyně
SUMMARY:MS-U16Z-T3C: VAM Havířov-VS Ostrava
END:VEVENT
BEGIN:VEVENT
UID:34346437-3265-4335-b039-333233343061
DTSTAMP:20260422T010230Z
DESCRIPTION:2/3 VK Karviná - VAM Havířov 0:2 (-23\,-10)
DTSTART;TZID=Europe/Berlin:20241201T103000
DTEND;TZID=Europe/Berlin:20241201T123000
LOCATION:Tělocvična ZŠ Karla Dvořáčka\, Karla Dvořáčka 1230 Orlová - Lutyně
SUMMARY:MS-U16Z-T3C: VK Karviná-VAM Havířov
END:VEVENT
BEGIN:VEVENT
UID:32633032-3736-4339-a531-646535623238
DTSTAMP:20260422T010230Z
DESCRIPTION:5/10 Slez. Orlice 'A' - VAM Havířov 0:2 (-16\,-24)
DTSTART;TZID=Europe/Berlin:20241201T150000
DTEND;TZID=Europe/Berlin:20241201T170000
LOCATION:Tělocvična ZŠ Karla Dvořáčka\, Karla Dvořáčka 1230 Orlová - Lutyně
SUMMARY:MS-U16Z-T3C: Slez. Orlice 'A'-VAM Havířov
END:VEVENT
BEGIN:VEVENT
UID:32383938-3831-4234-b931-626639653731
DTSTAMP:20260422T010230Z
DESCRIPTION:1/2 VAM Havířov - Frenštát p.R. 2:0 (20\,18)
DTSTART;TZID=Europe/Berlin:20250112T090000
DTEND;TZID=Europe/Berlin:20250112T110000
LOCATION:Sportovní hala Žákovská\, Komunardů 1548 Havířov - Město
SUMMARY:MS-U16Z-T4C: VAM Havířov-Frenštát p.R.
END:VEVENT
BEGIN:VEVENT
UID:32616639-3939-4232-b866-616261343831
DTSTAMP:20260422T010230Z
DESCRIPTION:2/3 VAM Havířov - VKB Frýdlant 'A' 2:0 (23\,20)
DTSTART;TZID=Europe/Berlin:20250112T103000
DTEND;TZID=Europe/Berlin:20250112T123000
LOCATION:Sportovní hala Žákovská\, Komunardů 1548 Havířov - Město
SUMMARY:MS-U16Z-T4C: VAM Havířov-VKB Frýdlant 'A'
END:VEVENT
BEGIN:VEVENT
UID:35326238-3635-4662-a336-316538663830
DTSTAMP:20260422T010230Z
DESCRIPTION:3/5 TJ Sokol F-M 'B' - VAM Havířov 0:2 (-22\,-14)
DTSTART;TZID=Europe/Berlin:20250112T120000
DTEND;TZID=Europe/Berlin:20250112T140000
LOCATION:Sportovní hala Žákovská\, Komunardů 1548 Havířov - Město
SUMMARY:MS-U16Z-T4C: TJ Sokol F-M 'B'-VAM Havířov
END:VEVENT
BEGIN:VEVENT
UID:63316133-6534-4633-a431-346432326633
DTSTAMP:20260422T010230Z
DESCRIPTION:5/10 Polanka 'A' - VAM Havířov 2:1 (-14\,20\,13)
DTSTART;TZID=Europe/Berlin:20250112T150000
DTEND;TZID=Europe/Berlin:20250112T170000
LOCATION:Sportovní hala Žákovská\, Komunardů 1548 Havířov - Město
SUMMARY:MS-U16Z-T4C: Polanka 'A'-VAM Havířov
END:VEVENT
BEGIN:VEVENT
UID:32306334-6639-4466-b262-393931333039
DTSTAMP:20260422T010230Z
DESCRIPTION:1/1 VAM Havířov - Orlová 2:0 (22\,17)
DTSTART;TZID=Europe/Berlin:20250209T090000
DTEND;TZID=Europe/Berlin:20250209T110000
LOCATION:Sportovní hala Žákovská\, Komunardů 1548 Havířov - Město
SUMMARY:MS-U16Z-T5C: VAM Havířov-Orlová
END:VEVENT
BEGIN:VEVENT
UID:32663261-3530-4933-a138-653665663835
DTSTAMP:20260422T010230Z
DESCRIPTION:4/8 VAM Havířov - VKB Frýdlant 'A' 0:2 (-26\,-17)
DTSTART;TZID=Europe/Berlin:20250209T133000
DTEND;TZID=Europe/Berlin:20250209T153000
LOCATION:Sportovní hala Žákovská\, Komunardů 1548 Havířov - Město
SUMMARY:MS-U16Z-T5C: VAM Havířov-VKB Frýdlant 'A'
END:VEVENT
BEGIN:VEVENT
UID:31323363-6231-4362-b631-316233373238
DTSTAMP:20260422T010230Z
DESCRIPTION:3/6 VK Karviná - VAM Havířov 0:2 (-19\,-23)
DTSTART;TZID=Europe/Berlin:20250209T120000
DTEND;TZID=Europe/Berlin:20250209T140000
LOCATION:Sportovní hala Žákovská\, Komunardů 1548 Havířov - Město
SUMMARY:MS-U16Z-T5C: VK Karviná-VAM Havířov
END:VEVENT
BEGIN:VEVENT
UID:64343631-6265-4736-b231-623536353862
DTSTAMP:20260422T010230Z
DESCRIPTION:5/9 TJ Sokol F-M 'B' - VAM Havířov 0:2 (-20\,-25)
DTSTART;TZID=Europe/Berlin:20250209T150000
DTEND;TZID=Europe/Berlin:20250209T170000
LOCATION:Sportovní hala Žákovská\, Komunardů 1548 Havířov - Město
SUMMARY:MS-U16Z-T5C: TJ Sokol F-M 'B'-VAM Havířov
END:VEVENT
BEGIN:VEVENT
UID:63303761-3830-4765-b865-373835316435
DTSTAMP:20260422T010230Z
DESCRIPTION:2/3 VAM Havířov - Frenštát p.R. 2:0 (12\,23)
DTSTART;TZID=Europe/Berlin:20250302T103000
DTEND;TZID=Europe/Berlin:20250302T123000
LOCATION:Sportovní hala\, Heleny Salichové 1275 Ostrava - Polanka nad Odrou
SUMMARY:MS-U16Z-T6C: VAM Havířov-Frenštát p.R.
END:VEVENT
BEGIN:VEVENT
UID:66643563-6539-4964-b763-346161333230
DTSTAMP:20260422T010230Z
DESCRIPTION:5/10 VAM Havířov - Orlová 2:0 (13\,9)
DTSTART;TZID=Europe/Berlin:20250302T150000
DTEND;TZID=Europe/Berlin:20250302T170000
LOCATION:Sportovní hala\, Heleny Salichové 1275 Ostrava - Polanka nad Odrou
SUMMARY:MS-U16Z-T6C: VAM Havířov-Orlová
END:VEVENT
BEGIN:VEVENT
UID:33643935-6338-4339-b239-373464353132
DTSTAMP:20260422T010230Z
DESCRIPTION:3/6 Polanka 'A' - VAM Havířov 2:1 (-11\,19\,9)
DTSTART;TZID=Europe/Berlin:20250302T120000
DTEND;TZID=Europe/Berlin:20250302T140000
LOCATION:Sportovní hala\, Heleny Salichové 1275 Ostrava - Polanka nad Odrou
SUMMARY:MS-U16Z-T6C: Polanka 'A'-VAM Havířov
END:VEVENT
BEGIN:VEVENT
UID:31393565-6538-4632-a334-613565666564
DTSTAMP:20260422T010230Z
DESCRIPTION:4/7 VK Karviná - VAM Havířov 0:2 (-12\,-29)
DTSTART;TZID=Europe/Berlin:20250302T133000
DTEND;TZID=Europe/Berlin:20250302T153000
LOCATION:Sportovní hala\, Heleny Salichové 1275 Ostrava - Polanka nad Odrou
SUMMARY:MS-U16Z-T6C: VK Karviná-VAM Havířov
END:VEVENT
BEGIN:VEVENT
UID:65613932-3234-4434-b735-613763393432
DTSTAMP:20260422T010230Z
DESCRIPTION:1/2 VAM Havířov - VK Karviná 2:0 (9\,22)
DTSTART;TZID=Europe/Berlin:20250323T090000
DTEND;TZID=Europe/Berlin:20250323T110000
LOCATION:Hala Gymnázium Karviná\, Mírová 1442 Karviná - Nové Město
SUMMARY:MS-U16Z-T7C: VAM Havířov-VK Karviná
END:VEVENT
BEGIN:VEVENT
UID:34626537-6434-4333-b266-636636303361
DTSTAMP:20260422T010230Z
DESCRIPTION:5/9 VAM Havířov - N.Jičín 'B' 2:0 (14\,18)
DTSTART;TZID=Europe/Berlin:20250323T150000
DTEND;TZID=Europe/Berlin:20250323T170000
LOCATION:Hala Gymnázium Karviná\, Mírová 1442 Karviná - Nové Město
SUMMARY:MS-U16Z-T7C: VAM Havířov-N.Jičín 'B'
END:VEVENT
BEGIN:VEVENT
UID:64653335-6534-4266-b365-633833323738
DTSTAMP:20260422T010230Z
DESCRIPTION:3/5 Orlová - VAM Havířov 1:2 (19\,-10\,-10)
DTSTART;TZID=Europe/Berlin:20250323T120000
DTEND;TZID=Europe/Berlin:20250323T140000
LOCATION:Hala Gymnázium Karviná\, Mírová 1442 Karviná - Nové Město
SUMMARY:MS-U16Z-T7C: Orlová-VAM Havířov
END:VEVENT
BEGIN:VEVENT
UID:62386330-3831-4164-b337-613033636233
DTSTAMP:20260422T010230Z
DESCRIPTION:4/8 VS Ostrava - VAM Havířov 1:2 (-10\,26\,-7)
DTSTART;TZID=Europe/Berlin:20250323T133000
DTEND;TZID=Europe/Berlin:20250323T153000
LOCATION:Hala Gymnázium Karviná\, Mírová 1442 Karviná - Nové Město
SUMMARY:MS-U16Z-T7C: VS Ostrava-VAM Havířov
END:VEVENT
END:VCALENDAR
