BEGIN:VCALENDAR
VERSION:2.0
PRODID:-//Volejbalová akademie mládeže Havířov, z.s.85598//NONSGML kigkonsult.se iCalcreator 2.41.80//
CALSCALE:GREGORIAN
UID:65303866-3030-4466-b165-353965383232
BEGIN:VEVENT
UID:64383636-6139-4364-a661-626335656164
DTSTAMP:20260422T014830Z
DESCRIPTION:3/9 VAM Havířov - TJ Sokol Bohumín 3:0 (20\,10\,14)
DTSTART;TZID=Europe/Berlin:20241005T110000
DTEND;TZID=Europe/Berlin:20241005T130000
LOCATION:Sportovní hala Žákovská\, Komunardů 1548 Havířov - Město
SUMMARY:MS-U18ZA: VAM Havířov-TJ Sokol Bohumín
END:VEVENT
BEGIN:VEVENT
UID:38313335-3661-4634-b831-383530633635
DTSTAMP:20260422T014830Z
DESCRIPTION:4/13 VAM Havířov - TJ Sokol Bohumín 3:1 (21\,23\,-21\,19)
DTSTART;TZID=Europe/Berlin:20241005T150000
DTEND;TZID=Europe/Berlin:20241005T170000
LOCATION:Sportovní hala Žákovská\, Komunardů 1548 Havířov - Město
SUMMARY:MS-U18ZA: VAM Havířov-TJ Sokol Bohumín
END:VEVENT
BEGIN:VEVENT
UID:34313335-3139-4464-a637-633036346562
DTSTAMP:20260422T014830Z
DESCRIPTION:7/25 VAM Havířov - SK Slezan Orlová A 3:0 (19\,8\,15)
DTSTART;TZID=Europe/Berlin:20241116T130000
DTEND;TZID=Europe/Berlin:20241116T150000
LOCATION:Sportovní hala Žákovská\, Komunardů 1548 Havířov - Město
SUMMARY:MS-U18ZA: VAM Havířov-SK Slezan Orlová A
END:VEVENT
BEGIN:VEVENT
UID:39386533-3237-4335-a637-323937313637
DTSTAMP:20260422T014830Z
DESCRIPTION:8/29 VAM Havířov - SK Slezan Orlová A 3:0 (15\,17\,19)
DTSTART;TZID=Europe/Berlin:20241116T170000
DTEND;TZID=Europe/Berlin:20241116T190000
LOCATION:Sportovní hala Žákovská\, Komunardů 1548 Havířov - Město
SUMMARY:MS-U18ZA: VAM Havířov-SK Slezan Orlová A
END:VEVENT
BEGIN:VEVENT
UID:38636138-6565-4132-b965-393436386666
DTSTAMP:20260422T014830Z
DESCRIPTION:11/41 VAM Havířov - TJ Sokol Vratimov 3:0 (9\,13\,15)
DTSTART;TZID=Europe/Berlin:20241109T090000
DTEND;TZID=Europe/Berlin:20241109T110000
LOCATION:Sportovní hala Žákovská\, Komunardů 1548 Havířov - Město
SUMMARY:MS-U18ZA: VAM Havířov-TJ Sokol Vratimov
END:VEVENT
BEGIN:VEVENT
UID:39353734-3138-4135-a266-653330333035
DTSTAMP:20260422T014830Z
DESCRIPTION:12/45 VAM Havířov - TJ Sokol Vratimov 3:0 (13\,16\,17)
DTSTART;TZID=Europe/Berlin:20241109T120000
DTEND;TZID=Europe/Berlin:20241109T140000
LOCATION:Sportovní hala Žákovská\, Komunardů 1548 Havířov - Město
SUMMARY:MS-U18ZA: VAM Havířov-TJ Sokol Vratimov
END:VEVENT
BEGIN:VEVENT
UID:32663832-3664-4431-b833-666466653061
DTSTAMP:20260422T014830Z
DESCRIPTION:15/57 VAM Havířov - VK Karviná 2:3 (-15\,15\,22\,-24\,-14)
DTSTART;TZID=Europe/Berlin:20241130T110000
DTEND;TZID=Europe/Berlin:20241130T130000
LOCATION:Sportovní hala Žákovská\, Komunardů 1548 Havířov - Město
SUMMARY:MS-U18ZA: VAM Havířov-VK Karviná
END:VEVENT
BEGIN:VEVENT
UID:31366661-3034-4937-b966-326164663533
DTSTAMP:20260422T014830Z
DESCRIPTION:16/61 VAM Havířov - VK Karviná 3:1 (-24\,22\,22\,17)
DTSTART;TZID=Europe/Berlin:20241130T150000
DTEND;TZID=Europe/Berlin:20241130T170000
LOCATION:Sportovní hala Žákovská\, Komunardů 1548 Havířov - Město
SUMMARY:MS-U18ZA: VAM Havířov-VK Karviná
END:VEVENT
BEGIN:VEVENT
UID:34303166-6634-4538-b934-666434343763
DTSTAMP:20260422T014830Z
DESCRIPTION:19/73 VAM Havířov - VKB Frýdlant nad Ostravicí 2:3 (12\,-22\,-2
 5\,18\,-14)
DTSTART;TZID=Europe/Berlin:20241214T100000
DTEND;TZID=Europe/Berlin:20241214T120000
LOCATION:ZŠ F.Hrubína\, Františka Hrubína 1537 Havířov - Podlesí
SUMMARY:MS-U18ZA: VAM Havířov-VKB Frýdlant nad Ostravicí
END:VEVENT
BEGIN:VEVENT
UID:66336232-3530-4662-b736-383465333532
DTSTAMP:20260422T014830Z
DESCRIPTION:20/77 VAM Havířov - VKB Frýdlant nad Ostravicí 3:0 (14\,9\,20)
DTSTART;TZID=Europe/Berlin:20241214T140000
DTEND;TZID=Europe/Berlin:20241214T160000
LOCATION:ZŠ F.Hrubína\, Františka Hrubína 1537 Havířov - Podlesí
SUMMARY:MS-U18ZA: VAM Havířov-VKB Frýdlant nad Ostravicí
END:VEVENT
BEGIN:VEVENT
UID:65656336-6466-4931-b136-636365363435
DTSTAMP:20260422T014830Z
DESCRIPTION:23/89 VAM Havířov - SK Slezan Orlová B 3:2 (-21\,21\,-19\,17\,1
 3)
DTSTART;TZID=Europe/Berlin:20250125T100000
DTEND;TZID=Europe/Berlin:20250125T120000
LOCATION:ZŠ F.Hrubína\, Františka Hrubína 1537 Havířov - Podlesí
SUMMARY:MS-U18ZA: VAM Havířov-SK Slezan Orlová B
END:VEVENT
BEGIN:VEVENT
UID:37316362-3263-4330-a231-333431313661
DTSTAMP:20260422T014830Z
DESCRIPTION:24/93 VAM Havířov - SK Slezan Orlová B 3:0 (24\,23\,21)
DTSTART;TZID=Europe/Berlin:20250125T140000
DTEND;TZID=Europe/Berlin:20250125T160000
LOCATION:ZŠ F.Hrubína\, Františka Hrubína 1537 Havířov - Podlesí
SUMMARY:MS-U18ZA: VAM Havířov-SK Slezan Orlová B
END:VEVENT
BEGIN:VEVENT
UID:61663330-3364-4731-b937-626631326136
DTSTAMP:20260422T014830Z
DESCRIPTION:27/105 VAM Havířov - TJ Sokol Frýdek - Místek B 3:1 (25\,18\,-2
 0\,13)
DTSTART;TZID=Europe/Berlin:20250208T110000
DTEND;TZID=Europe/Berlin:20250208T130000
LOCATION:Sportovní hala Žákovská\, Komunardů 1548 Havířov - Město
SUMMARY:MS-U18ZA: VAM Havířov-TJ Sokol Frýdek - Místek B
END:VEVENT
BEGIN:VEVENT
UID:62303938-3665-4231-b963-383664363462
DTSTAMP:20260422T014830Z
DESCRIPTION:28/109 VAM Havířov - TJ Sokol Frýdek - Místek B 3:0 (18\,15\,13
 )
DTSTART;TZID=Europe/Berlin:20250208T150000
DTEND;TZID=Europe/Berlin:20250208T170000
LOCATION:Sportovní hala Žákovská\, Komunardů 1548 Havířov - Město
SUMMARY:MS-U18ZA: VAM Havířov-TJ Sokol Frýdek - Místek B
END:VEVENT
BEGIN:VEVENT
UID:30636134-6164-4965-b265-313938633661
DTSTAMP:20260422T014830Z
DESCRIPTION:1/1 VK Karviná - VAM Havířov 3:1 (19\,-19\,10\,15)
DTSTART;TZID=Europe/Berlin:20240921T100000
DTEND;TZID=Europe/Berlin:20240921T120000
LOCATION:Tělocvična ZŠ Družby\, tř. Družby 1383 Karviná - Nové Město
SUMMARY:MS-U18ZA: VK Karviná-VAM Havířov
END:VEVENT
BEGIN:VEVENT
UID:37333437-3365-4964-a537-303433376230
DTSTAMP:20260422T014830Z
DESCRIPTION:2/5 VK Karviná - VAM Havířov 3:1 (12\,-18\,16\,15)
DTSTART;TZID=Europe/Berlin:20240921T140000
DTEND;TZID=Europe/Berlin:20240921T160000
LOCATION:Tělocvična ZŠ Družby\, tř. Družby 1383 Karviná - Nové Město
SUMMARY:MS-U18ZA: VK Karviná-VAM Havířov
END:VEVENT
BEGIN:VEVENT
UID:37303261-3033-4464-b639-633632633436
DTSTAMP:20260422T014830Z
DESCRIPTION:5/17 VKB Frýdlant nad Ostravicí - VAM Havířov 3:2 (17\,-29\,23\
 ,-12\,13)
DTSTART;TZID=Europe/Berlin:20241012T100000
DTEND;TZID=Europe/Berlin:20241012T120000
LOCATION:Sokolovna\, Hlavní 401 Frýdlant nad Ostravicí - Frýdlant
SUMMARY:MS-U18ZA: VKB Frýdlant nad Ostravicí-VAM Havířov
END:VEVENT
BEGIN:VEVENT
UID:31393730-3438-4661-a434-323534303365
DTSTAMP:20260422T014830Z
DESCRIPTION:6/21 VKB Frýdlant nad Ostravicí - VAM Havířov 2:3 (-16\,19\,22\
 ,-27\,-13)
DTSTART;TZID=Europe/Berlin:20241012T140000
DTEND;TZID=Europe/Berlin:20241012T160000
LOCATION:Sokolovna\, Hlavní 401 Frýdlant nad Ostravicí - Frýdlant
SUMMARY:MS-U18ZA: VKB Frýdlant nad Ostravicí-VAM Havířov
END:VEVENT
BEGIN:VEVENT
UID:37336331-3737-4265-b461-346639626331
DTSTAMP:20260422T014830Z
DESCRIPTION:9/33 SK Slezan Orlová B - VAM Havířov 0:3 (-25\,-10\,-19)
DTSTART;TZID=Europe/Berlin:20241102T100000
DTEND;TZID=Europe/Berlin:20241102T120000
LOCATION:tělocvična ZŠ K.Dvořáčka\, Karla Dvořáčka 1230 Orlová - Lutyně
SUMMARY:MS-U18ZA: SK Slezan Orlová B-VAM Havířov
END:VEVENT
BEGIN:VEVENT
UID:66643863-3864-4039-b130-333965356531
DTSTAMP:20260422T014830Z
DESCRIPTION:10/37 SK Slezan Orlová B - VAM Havířov 2:3 (-14\,24\,-20\,20\,-
 14)
DTSTART;TZID=Europe/Berlin:20241102T140000
DTEND;TZID=Europe/Berlin:20241102T160000
LOCATION:tělocvična ZŠ K.Dvořáčka\, Karla Dvořáčka 1230 Orlová - Lutyně
SUMMARY:MS-U18ZA: SK Slezan Orlová B-VAM Havířov
END:VEVENT
BEGIN:VEVENT
UID:37326335-6638-4964-b665-636634633331
DTSTAMP:20260422T014830Z
DESCRIPTION:13/49 TJ Sokol Frýdek - Místek B - VAM Havířov 1:3 (22\,-18\,-1
 7\,-9)
DTSTART;TZID=Europe/Berlin:20241123T100000
DTEND;TZID=Europe/Berlin:20241123T120000
LOCATION:Sokolovna Frýdek-Místek\, Novodvorská 667 Frýdek-Místek - Frýdek
SUMMARY:MS-U18ZA: TJ Sokol Frýdek - Místek B-VAM Havířov
END:VEVENT
BEGIN:VEVENT
UID:31353862-3564-4433-b961-633434393761
DTSTAMP:20260422T014830Z
DESCRIPTION:14/53 TJ Sokol Frýdek - Místek B - VAM Havířov 0:3 (-20\,-13\,-
 11)
DTSTART;TZID=Europe/Berlin:20241123T140000
DTEND;TZID=Europe/Berlin:20241123T160000
LOCATION:Sokolovna Frýdek-Místek\, Novodvorská 667 Frýdek-Místek - Frýdek
SUMMARY:MS-U18ZA: TJ Sokol Frýdek - Místek B-VAM Havířov
END:VEVENT
BEGIN:VEVENT
UID:63653734-6662-4238-a631-323736323934
DTSTAMP:20260422T014830Z
DESCRIPTION:17/65 TJ Sokol Bohumín - VAM Havířov 0:3 (-18\,-16\,-15)
DTSTART;TZID=Europe/Berlin:20241207T100000
DTEND;TZID=Europe/Berlin:20241207T120000
LOCATION:ZŠ ČSA Bohumín\, Čs. armády 1026 Bohumín - Nový Bohumín
SUMMARY:MS-U18ZA: TJ Sokol Bohumín-VAM Havířov
END:VEVENT
BEGIN:VEVENT
UID:65626165-3530-4563-b935-336438316665
DTSTAMP:20260422T014830Z
DESCRIPTION:18/69 TJ Sokol Bohumín - VAM Havířov 0:3 (-24\,-14\,-13)
DTSTART;TZID=Europe/Berlin:20241207T140000
DTEND;TZID=Europe/Berlin:20241207T160000
LOCATION:ZŠ ČSA Bohumín\, Čs. armády 1026 Bohumín - Nový Bohumín
SUMMARY:MS-U18ZA: TJ Sokol Bohumín-VAM Havířov
END:VEVENT
BEGIN:VEVENT
UID:66333832-3637-4263-a636-623663633934
DTSTAMP:20260422T014830Z
DESCRIPTION:21/81 SK Slezan Orlová A - VAM Havířov 0:3 (-11\,-7\,-19)
DTSTART;TZID=Europe/Berlin:20250118T100000
DTEND;TZID=Europe/Berlin:20250118T120000
LOCATION:Sportovní hala Gymnázium Orlová\, Masarykova třída 1313 Orlová - L
 utyně
SUMMARY:MS-U18ZA: SK Slezan Orlová A-VAM Havířov
END:VEVENT
BEGIN:VEVENT
UID:62363533-3864-4365-b330-376535343338
DTSTAMP:20260422T014830Z
DESCRIPTION:22/85 SK Slezan Orlová A - VAM Havířov 0:3 (-11\,-21\,-14)
DTSTART;TZID=Europe/Berlin:20250118T140000
DTEND;TZID=Europe/Berlin:20250118T160000
LOCATION:Sportovní hala Gymnázium Orlová\, Masarykova třída 1313 Orlová - L
 utyně
SUMMARY:MS-U18ZA: SK Slezan Orlová A-VAM Havířov
END:VEVENT
BEGIN:VEVENT
UID:33333464-6137-4532-b166-353365376238
DTSTAMP:20260422T014830Z
DESCRIPTION:25/97 TJ Sokol Vratimov - VAM Havířov 0:3 (-21\,-18\,-12)
DTSTART;TZID=Europe/Berlin:20250201T100000
DTEND;TZID=Europe/Berlin:20250201T120000
LOCATION:Sokolovna\, Sokolská 290 Vratimov
SUMMARY:MS-U18ZA: TJ Sokol Vratimov-VAM Havířov
END:VEVENT
BEGIN:VEVENT
UID:37626234-3334-4735-b934-383766303232
DTSTAMP:20260422T014830Z
DESCRIPTION:26/101 TJ Sokol Vratimov - VAM Havířov 0:3 (-16\,-18\,-21)
DTSTART;TZID=Europe/Berlin:20250201T140000
DTEND;TZID=Europe/Berlin:20250201T160000
LOCATION:Sokolovna\, Sokolská 290 Vratimov
SUMMARY:MS-U18ZA: TJ Sokol Vratimov-VAM Havířov
END:VEVENT
BEGIN:VEVENT
UID:37616637-3861-4039-b462-346330656463
DTSTAMP:20260422T014830Z
DESCRIPTION:1/2 VAM Havířov - VK Kylešovice 3:1 (16\,21\,-19\,19)
DTSTART;TZID=Europe/Berlin:20250222T090000
DTEND;TZID=Europe/Berlin:20250222T110000
LOCATION:Sportovní hala Žákovská\, Komunardů 1548 Havířov - Město
SUMMARY:MS-U18Z-2A: VAM Havířov-VK Kylešovice
END:VEVENT
BEGIN:VEVENT
UID:38373031-3438-4436-b031-646664326334
DTSTAMP:20260422T014830Z
DESCRIPTION:2/4 VAM Havířov - VK Kylešovice 2:3 (15\,23\,-23\,-18\,-12)
DTSTART;TZID=Europe/Berlin:20250222T130000
DTEND;TZID=Europe/Berlin:20250222T150000
LOCATION:Sportovní hala Žákovská\, Komunardů 1548 Havířov - Město
SUMMARY:MS-U18Z-2A: VAM Havířov-VK Kylešovice
END:VEVENT
BEGIN:VEVENT
UID:61336235-3237-4364-b065-386436646637
DTSTAMP:20260422T014830Z
DESCRIPTION:7/14 VAM Havířov - Ostrava C 2:3 (21\,-18\,18\,-28\,-18)
DTSTART;TZID=Europe/Berlin:20250322T100000
DTEND;TZID=Europe/Berlin:20250322T120000
LOCATION:ZŠ F.Hrubína\, Františka Hrubína 1537 Havířov - Podlesí
SUMMARY:MS-U18Z-2A: VAM Havířov-Ostrava C
END:VEVENT
BEGIN:VEVENT
UID:64303735-6235-4762-b334-656439313532
DTSTAMP:20260422T014830Z
DESCRIPTION:8/16 VAM Havířov - Ostrava C 3:2 (-25\,18\,18\,-23\,12)
DTSTART;TZID=Europe/Berlin:20250322T140000
DTEND;TZID=Europe/Berlin:20250322T160000
LOCATION:ZŠ F.Hrubína\, Františka Hrubína 1537 Havířov - Podlesí
SUMMARY:MS-U18Z-2A: VAM Havířov-Ostrava C
END:VEVENT
BEGIN:VEVENT
UID:32613930-3730-4737-a165-386262376235
DTSTAMP:20260422T014830Z
DESCRIPTION:3/6 Ostrava C - VAM Havířov 3:0 (10\,15\,20)
DTSTART;TZID=Europe/Berlin:20250329T090000
DTEND;TZID=Europe/Berlin:20250329T110000
LOCATION:Hala míčových sportů\, Varenská 3098 Ostrava - Moravská Ostrava
SUMMARY:MS-U18Z-2A: Ostrava C-VAM Havířov
END:VEVENT
BEGIN:VEVENT
UID:66323137-3163-4135-b334-383162656662
DTSTAMP:20260422T014830Z
DESCRIPTION:4/8 Ostrava C - VAM Havířov 3:0 (16\,17\,21)
DTSTART;TZID=Europe/Berlin:20250329T120000
DTEND;TZID=Europe/Berlin:20250329T140000
LOCATION:Hala míčových sportů\, Varenská 3098 Ostrava - Moravská Ostrava
SUMMARY:MS-U18Z-2A: Ostrava C-VAM Havířov
END:VEVENT
BEGIN:VEVENT
UID:64633233-6436-4138-a162-336435396230
DTSTAMP:20260422T014830Z
DESCRIPTION:5/10 VK Kylešovice - VAM Havířov 3:2 (-23\,10\,-20\,20\,9)
DTSTART;TZID=Europe/Berlin:20250315T090000
DTEND;TZID=Europe/Berlin:20250315T110000
LOCATION:Sportovní hala Slezského gymnázia v Opavě\, Zámecký okruh 461 Opav
 a - Město
SUMMARY:MS-U18Z-2A: VK Kylešovice-VAM Havířov
END:VEVENT
BEGIN:VEVENT
UID:35343366-3338-4432-b936-663461373434
DTSTAMP:20260422T014830Z
DESCRIPTION:6/12 VK Kylešovice - VAM Havířov 1:3 (21\,-22\,-18\,-19)
DTSTART;TZID=Europe/Berlin:20250315T130000
DTEND;TZID=Europe/Berlin:20250315T150000
LOCATION:Sportovní hala Slezského gymnázia v Opavě\, Zámecký okruh 461 Opav
 a - Město
SUMMARY:MS-U18Z-2A: VK Kylešovice-VAM Havířov
END:VEVENT
END:VCALENDAR
