BEGIN:VCALENDAR
VERSION:2.0
PRODID:-//TJ ČZ Strakonice85655//NONSGML kigkonsult.se iCalcreator 2.41.80//
CALSCALE:GREGORIAN
UID:31313239-3637-4762-a235-373766663162
BEGIN:VEVENT
UID:63396536-3364-4366-b631-376365626361
DTSTAMP:20260421T112759Z
DESCRIPTION:1/2 TJ ČZ Strakonice - Škola volejbalu C 0:2 (-19\,-25)
DTSTART;TZID=Europe/Berlin:20240915T101000
DTEND;TZID=Europe/Berlin:20240915T121000
LOCATION:Hala TJ ČZ Strakonice\, Máchova 108 Strakonice - Strakonice I
SUMMARY:JC-U16Z-2-1B: TJ ČZ Strakonice-Škola volejbalu C
END:VEVENT
BEGIN:VEVENT
UID:64663663-3234-4039-a633-333466663062
DTSTAMP:20260421T112759Z
DESCRIPTION:1/5 TJ ČZ Strakonice - SK Otava Písek 0:2 (-10\,-20)
DTSTART;TZID=Europe/Berlin:20240915T123000
DTEND;TZID=Europe/Berlin:20240915T143000
LOCATION:Hala TJ ČZ Strakonice\, Máchova 108 Strakonice - Strakonice I
SUMMARY:JC-U16Z-2-1B: TJ ČZ Strakonice-SK Otava Písek
END:VEVENT
BEGIN:VEVENT
UID:36323132-3065-4330-b937-313664663765
DTSTAMP:20260421T112759Z
DESCRIPTION:1/4 SK TŘEBÍN B - TJ ČZ Strakonice 2:0 (14\,20)
DTSTART;TZID=Europe/Berlin:20240915T112000
DTEND;TZID=Europe/Berlin:20240915T132000
LOCATION:ZŠ Máj I\, M. Chlajna 1319 České Budějovice - České Budějovice 2
SUMMARY:JC-U16Z-2-1B: SK TŘEBÍN B-TJ ČZ Strakonice
END:VEVENT
BEGIN:VEVENT
UID:33353061-3339-4131-a566-656661626566
DTSTAMP:20260421T112759Z
DESCRIPTION:1/3 TJ ČZ Strakonice - Škola volejbalu C 0:2 (-18\,-19)
DTSTART;TZID=Europe/Berlin:20241013T112000
DTEND;TZID=Europe/Berlin:20241013T132000
LOCATION:Hala TJ ČZ Strakonice\, Máchova 108 Strakonice - Strakonice I
SUMMARY:JC-U16Z-2-2B: TJ ČZ Strakonice-Škola volejbalu C
END:VEVENT
BEGIN:VEVENT
UID:64663664-6563-4265-a434-386463623265
DTSTAMP:20260421T112759Z
DESCRIPTION:1/1 TJ Slovan J. Hradec B - TJ ČZ Strakonice 1:2 (-11\,22\,-8)
DTSTART;TZID=Europe/Berlin:20241013T090000
DTEND;TZID=Europe/Berlin:20241013T110000
LOCATION:Sportovní hala J. Hradec\, U Stadionu 1137 Jindřichův Hradec - Jin
 dřichův Hradec II
SUMMARY:JC-U16Z-2-2B: TJ Slovan J. Hradec B-TJ ČZ Strakonice
END:VEVENT
BEGIN:VEVENT
UID:34316365-3661-4561-b634-366432343631
DTSTAMP:20260421T112759Z
DESCRIPTION:1/5 SK TŘEBÍN B - TJ ČZ Strakonice 2:0 (20\,23)
DTSTART;TZID=Europe/Berlin:20241013T134000
DTEND;TZID=Europe/Berlin:20241013T154000
LOCATION:ZŠ Máj I\, M. Chlajna 1319 České Budějovice - České Budějovice 2
SUMMARY:JC-U16Z-2-2B: SK TŘEBÍN B-TJ ČZ Strakonice
END:VEVENT
BEGIN:VEVENT
UID:33306566-3563-4130-a430-623563643537
DTSTAMP:20260421T112759Z
DESCRIPTION:1/6 TJ ČZ Strakonice - TJ Tatran Prachatice - B 0:2 (-10\,-23)
DTSTART;TZID=Europe/Berlin:20241110T124500
DTEND;TZID=Europe/Berlin:20241110T144500
LOCATION:Hala TJ ČZ Strakonice\, Máchova 108 Strakonice - Strakonice I
SUMMARY:JC-U16Z-2-3B: TJ ČZ Strakonice-TJ Tatran Prachatice - B
END:VEVENT
BEGIN:VEVENT
UID:62366461-3337-4439-b136-373531663134
DTSTAMP:20260421T112759Z
DESCRIPTION:1/2 SK TŘEBÍN B - TJ ČZ Strakonice 2:0 (7\,21)
DTSTART;TZID=Europe/Berlin:20241110T101500
DTEND;TZID=Europe/Berlin:20241110T121500
LOCATION:ZŠ Máj I\, M. Chlajna 1319 České Budějovice - České Budějovice 2
SUMMARY:JC-U16Z-2-3B: SK TŘEBÍN B-TJ ČZ Strakonice
END:VEVENT
BEGIN:VEVENT
UID:63663866-3761-4134-b261-643431323934
DTSTAMP:20260421T112759Z
DESCRIPTION:1/3 TJ Slovan J. Hradec B - TJ ČZ Strakonice 1:2 (18\,-14\,-3)
DTSTART;TZID=Europe/Berlin:20241110T113000
DTEND;TZID=Europe/Berlin:20241110T133000
LOCATION:Sportovní hala J. Hradec\, U Stadionu 1137 Jindřichův Hradec - Jin
 dřichův Hradec II
SUMMARY:JC-U16Z-2-3B: TJ Slovan J. Hradec B-TJ ČZ Strakonice
END:VEVENT
BEGIN:VEVENT
UID:33623766-3834-4336-b733-333563613666
DTSTAMP:20260421T112759Z
DESCRIPTION:1/3 TJ ČZ Strakonice - Volejbal Tábor B 0:2 (-19\,-8)
DTSTART;TZID=Europe/Berlin:20241208T113000
DTEND;TZID=Europe/Berlin:20241208T133000
LOCATION:Hala TJ ČZ Strakonice\, Máchova 108 Strakonice - Strakonice I
SUMMARY:JC-U16Z-2-4B: TJ ČZ Strakonice-Volejbal Tábor B
END:VEVENT
BEGIN:VEVENT
UID:66613564-3962-4861-b534-366535323662
DTSTAMP:20260421T112759Z
DESCRIPTION:1/1 TJ Slovan J. Hradec B - TJ ČZ Strakonice 0:2 (-21\,-19)
DTSTART;TZID=Europe/Berlin:20241208T090000
DTEND;TZID=Europe/Berlin:20241208T110000
LOCATION:Sportovní hala J. Hradec\, U Stadionu 1137 Jindřichův Hradec - Jin
 dřichův Hradec II
SUMMARY:JC-U16Z-2-4B: TJ Slovan J. Hradec B-TJ ČZ Strakonice
END:VEVENT
BEGIN:VEVENT
UID:31616138-6338-4162-a563-363864366361
DTSTAMP:20260421T112759Z
DESCRIPTION:1/5 TJ Tatran Prachatice - B - TJ ČZ Strakonice 0:2 (-19\,-12)
DTSTART;TZID=Europe/Berlin:20241208T124500
DTEND;TZID=Europe/Berlin:20241208T144500
LOCATION:, U Stadionu 764 Prachatice - Prachatice II
SUMMARY:JC-U16Z-2-4B: TJ Tatran Prachatice - B-TJ ČZ Strakonice
END:VEVENT
BEGIN:VEVENT
UID:33336666-6636-4030-a239-663665333765
DTSTAMP:20260421T112759Z
DESCRIPTION:1/6 TJ ČZ Strakonice - SK TŘEBÍN B 2:1 (19\,-21\,9)
DTSTART;TZID=Europe/Berlin:20250112T145000
DTEND;TZID=Europe/Berlin:20250112T165000
LOCATION:Hala TJ ČZ Strakonice\, Máchova 108 Strakonice - Strakonice I
SUMMARY:JC-U16Z-2-5B: TJ ČZ Strakonice-SK TŘEBÍN B
END:VEVENT
BEGIN:VEVENT
UID:35653132-3634-4838-a132-616462383835
DTSTAMP:20260421T112759Z
DESCRIPTION:1/2 TJ Tatran Prachatice - B - TJ ČZ Strakonice 2:0 (23\,22)
DTSTART;TZID=Europe/Berlin:20250112T101000
DTEND;TZID=Europe/Berlin:20250112T121000
LOCATION:, U Stadionu 764 Prachatice - Prachatice II
SUMMARY:JC-U16Z-2-5B: TJ Tatran Prachatice - B-TJ ČZ Strakonice
END:VEVENT
BEGIN:VEVENT
UID:33633862-3035-4133-b562-303063313539
DTSTAMP:20260421T112759Z
DESCRIPTION:1/4 TJ Slovan J. Hradec B - TJ ČZ Strakonice 0:2 (-20\,-23)
DTSTART;TZID=Europe/Berlin:20250112T123000
DTEND;TZID=Europe/Berlin:20250112T143000
LOCATION:Sportovní hala J. Hradec\, U Stadionu 1137 Jindřichův Hradec - Jin
 dřichův Hradec II
SUMMARY:JC-U16Z-2-5B: TJ Slovan J. Hradec B-TJ ČZ Strakonice
END:VEVENT
BEGIN:VEVENT
UID:35353830-6361-4464-b664-616536653439
DTSTAMP:20260421T112759Z
DESCRIPTION:1/2 TJ ČZ Strakonice - SK TŘEBÍN B 0:2 (-21\,-15)
DTSTART;TZID=Europe/Berlin:20250302T101000
DTEND;TZID=Europe/Berlin:20250302T121000
LOCATION:Hala TJ ČZ Strakonice\, Máchova 108 Strakonice - Strakonice I
SUMMARY:JC-U16Z-2-6B: TJ ČZ Strakonice-SK TŘEBÍN B
END:VEVENT
BEGIN:VEVENT
UID:63346434-6532-4238-b331-666562636531
DTSTAMP:20260421T112759Z
DESCRIPTION:1/5 TJ ČZ Strakonice - Volejbal Tábor B 0:2 (-12\,-22)
DTSTART;TZID=Europe/Berlin:20250302T134000
DTEND;TZID=Europe/Berlin:20250302T154000
LOCATION:Hala TJ ČZ Strakonice\, Máchova 108 Strakonice - Strakonice I
SUMMARY:JC-U16Z-2-6B: TJ ČZ Strakonice-Volejbal Tábor B
END:VEVENT
BEGIN:VEVENT
UID:30363332-6663-4465-b537-393231346464
DTSTAMP:20260421T112759Z
DESCRIPTION:1/4 TJ Slovan J. Hradec B - TJ ČZ Strakonice 0:2 (-11\,-8)
DTSTART;TZID=Europe/Berlin:20250302T123000
DTEND;TZID=Europe/Berlin:20250302T143000
LOCATION:Sportovní hala J. Hradec\, U Stadionu 1137 Jindřichův Hradec - Jin
 dřichův Hradec II
SUMMARY:JC-U16Z-2-6B: TJ Slovan J. Hradec B-TJ ČZ Strakonice
END:VEVENT
BEGIN:VEVENT
UID:30393263-3536-4862-b866-333264386539
DTSTAMP:20260421T112759Z
DESCRIPTION:1/3 TJ ČZ Strakonice - TJ Slovan J. Hradec B 2:0 (21\,15)
DTSTART;TZID=Europe/Berlin:20250323T101000
DTEND;TZID=Europe/Berlin:20250323T121000
LOCATION:Hala TJ ČZ Strakonice\, Máchova 108 Strakonice - Strakonice I
SUMMARY:JC-U16Z-2-7B: TJ ČZ Strakonice-TJ Slovan J. Hradec B
END:VEVENT
BEGIN:VEVENT
UID:37383466-3932-4134-b561-363364393430
DTSTAMP:20260421T112759Z
DESCRIPTION:1/4 TJ ČZ Strakonice - Volejbal Tábor B 2:0 (24\,22)
DTSTART;TZID=Europe/Berlin:20250323T112000
DTEND;TZID=Europe/Berlin:20250323T132000
LOCATION:Hala TJ ČZ Strakonice\, Máchova 108 Strakonice - Strakonice I
SUMMARY:JC-U16Z-2-7B: TJ ČZ Strakonice-Volejbal Tábor B
END:VEVENT
BEGIN:VEVENT
UID:61663238-6664-4438-a337-376263346635
DTSTAMP:20260421T112759Z
DESCRIPTION:1/6 TJ Tatran Prachatice - B - TJ ČZ Strakonice 0:2 (-17\,-22)
DTSTART;TZID=Europe/Berlin:20250323T123000
DTEND;TZID=Europe/Berlin:20250323T143000
LOCATION:, U Stadionu 764 Prachatice - Prachatice II
SUMMARY:JC-U16Z-2-7B: TJ Tatran Prachatice - B-TJ ČZ Strakonice
END:VEVENT
END:VCALENDAR
