BEGIN:VCALENDAR
VERSION:2.0
PRODID:-//VK Prostějov C85672//NONSGML kigkonsult.se iCalcreator 2.41.80//
CALSCALE:GREGORIAN
UID:64373266-3263-4331-b465-326364623933
BEGIN:VEVENT
UID:37646531-3536-4563-b031-353262326537
DTSTAMP:20260422T014839Z
DESCRIPTION:3/6 VK Prostějov C - Přerov A 0:2 (-13\,-15)\nKurt A
DTSTART;TZID=Europe/Berlin:20241006T110000
DTEND;TZID=Europe/Berlin:20241006T130000
LOCATION:Městská sportovní hala\, Petřivalského 2884 Přerov - Přerov I-Měst
 o
SUMMARY:OLK-U16Z-KD: VK Prostějov C-Přerov A
END:VEVENT
BEGIN:VEVENT
UID:35666661-3166-4531-a132-346336376366
DTSTAMP:20260422T014839Z
DESCRIPTION:5/10 VK Prostějov C - TJ Šumperk B 2:0 (12\,9)\nKurt B
DTSTART;TZID=Europe/Berlin:20241006T130000
DTEND;TZID=Europe/Berlin:20241006T150000
LOCATION:Městská sportovní hala\, Petřivalského 2884 Přerov - Přerov I-Měst
 o
SUMMARY:OLK-U16Z-KD: VK Prostějov C-TJ Šumperk B
END:VEVENT
BEGIN:VEVENT
UID:66646330-6333-4264-b630-396634346332
DTSTAMP:20260422T014839Z
DESCRIPTION:1/1 TJ Šternberk A - VK Prostějov C 2:1 (21\,-16\,1)\nKurt B
DTSTART;TZID=Europe/Berlin:20241006T090000
DTEND;TZID=Europe/Berlin:20241006T110000
LOCATION:Městská sportovní hala\, Petřivalského 2884 Přerov - Přerov I-Měst
 o
SUMMARY:OLK-U16Z-KD: TJ Šternberk A-VK Prostějov C
END:VEVENT
BEGIN:VEVENT
UID:33653633-3364-4132-b838-616463646432
DTSTAMP:20260422T014839Z
DESCRIPTION:2/3 VK Olomouc C - VK Prostějov C 0:2 (-23\,-20)\nKurt B
DTSTART;TZID=Europe/Berlin:20241006T100000
DTEND;TZID=Europe/Berlin:20241006T120000
LOCATION:Městská sportovní hala\, Petřivalského 2884 Přerov - Přerov I-Měst
 o
SUMMARY:OLK-U16Z-KD: VK Olomouc C-VK Prostějov C
END:VEVENT
BEGIN:VEVENT
UID:66333439-3764-4363-b239-393531613738
DTSTAMP:20260422T014839Z
DESCRIPTION:3/3 VK Prostějov C - TJ Sokol Troubky 2:1 (-24\,17\,7)
DTSTART;TZID=Europe/Berlin:20241013T110000
DTEND;TZID=Europe/Berlin:20241013T130000
LOCATION:Letní tělocvična\, Za velodromem 4205 Prostějov
SUMMARY:OLK-U16Z-1C: VK Prostějov C-TJ Sokol Troubky
END:VEVENT
BEGIN:VEVENT
UID:61343861-6233-4337-a336-613464633231
DTSTAMP:20260422T014839Z
DESCRIPTION:1/1 VK Prostějov B - VK Prostějov C 0:2 (-5\,-14)
DTSTART;TZID=Europe/Berlin:20241013T090000
DTEND;TZID=Europe/Berlin:20241013T110000
LOCATION:Letní tělocvična\, Za velodromem 4205 Prostějov
SUMMARY:OLK-U16Z-1C: VK Prostějov B-VK Prostějov C
END:VEVENT
BEGIN:VEVENT
UID:66653264-3961-4230-b334-383264653338
DTSTAMP:20260422T014839Z
DESCRIPTION:5/5 VK Olomouc B - VK Prostějov C 2:0 (24\,17)
DTSTART;TZID=Europe/Berlin:20241013T130000
DTEND;TZID=Europe/Berlin:20241013T150000
LOCATION:Letní tělocvična\, Za velodromem 4205 Prostějov
SUMMARY:OLK-U16Z-1C: VK Olomouc B-VK Prostějov C
END:VEVENT
BEGIN:VEVENT
UID:37366336-3133-4366-b036-613533663030
DTSTAMP:20260422T014839Z
DESCRIPTION:1/2 VK Prostějov C - VK Prostějov B 2:1 (19\,-16\,15)\nKurt B
DTSTART;TZID=Europe/Berlin:20241027T100000
DTEND;TZID=Europe/Berlin:20241027T120000
LOCATION:Národní sportovní centrum\, Za velodromem 4187 Prostějov
SUMMARY:OLK-U16Z-2C: VK Prostějov C-VK Prostějov B
END:VEVENT
BEGIN:VEVENT
UID:36633961-3632-4533-b339-613965366331
DTSTAMP:20260422T014839Z
DESCRIPTION:3/5 VK Prostějov C - VK Olomouc C 2:1 (10\,-21\,7)\nKurt A
DTSTART;TZID=Europe/Berlin:20241027T130000
DTEND;TZID=Europe/Berlin:20241027T150000
LOCATION:Národní sportovní centrum\, Za velodromem 4187 Prostějov
SUMMARY:OLK-U16Z-2C: VK Prostějov C-VK Olomouc C
END:VEVENT
BEGIN:VEVENT
UID:36373465-3066-4264-a132-373664303738
DTSTAMP:20260422T014839Z
DESCRIPTION:2/4 TJ Šumperk A - VK Prostějov C 0:2 (-19\,-20)\nKurt B
DTSTART;TZID=Europe/Berlin:20241027T113000
DTEND;TZID=Europe/Berlin:20241027T133000
LOCATION:Národní sportovní centrum\, Za velodromem 4187 Prostějov
SUMMARY:OLK-U16Z-2C: TJ Šumperk A-VK Prostějov C
END:VEVENT
BEGIN:VEVENT
UID:64643735-6234-4836-a462-633533356265
DTSTAMP:20260422T014839Z
DESCRIPTION:3/3 VK Prostějov C - VK Olomouc B 0:2 (-18\,-12)
DTSTART;TZID=Europe/Berlin:20241110T110000
DTEND;TZID=Europe/Berlin:20241110T130000
LOCATION:tělocvična\, U Stadionu 849 Uničov
SUMMARY:OLK-U16Z-3B: VK Prostějov C-VK Olomouc B
END:VEVENT
BEGIN:VEVENT
UID:30353262-6564-4538-a430-303935663930
DTSTAMP:20260422T014839Z
DESCRIPTION:2/2 SK Kojetín - VK Prostějov C 2:0 (16\,12)
DTSTART;TZID=Europe/Berlin:20241110T100000
DTEND;TZID=Europe/Berlin:20241110T120000
LOCATION:tělocvična\, U Stadionu 849 Uničov
SUMMARY:OLK-U16Z-3B: SK Kojetín-VK Prostějov C
END:VEVENT
BEGIN:VEVENT
UID:65336166-3835-4333-b262-363738356630
DTSTAMP:20260422T014839Z
DESCRIPTION:6/6 KRS Uničov A - VK Prostějov C 2:0 (21\,19)
DTSTART;TZID=Europe/Berlin:20241110T140000
DTEND;TZID=Europe/Berlin:20241110T160000
LOCATION:tělocvična\, U Stadionu 849 Uničov
SUMMARY:OLK-U16Z-3B: KRS Uničov A-VK Prostějov C
END:VEVENT
BEGIN:VEVENT
UID:34396266-3564-4662-b965-616531313233
DTSTAMP:20260422T014839Z
DESCRIPTION:1/1 VK Prostějov C - Přerov B 2:0 (21\,18)\nKurt A
DTSTART;TZID=Europe/Berlin:20241201T100000
DTEND;TZID=Europe/Berlin:20241201T120000
LOCATION:Národní sportovní centrum\, Za velodromem 4187 Prostějov
SUMMARY:OLK-U16Z-4C: VK Prostějov C-Přerov B
END:VEVENT
BEGIN:VEVENT
UID:31356239-3263-4937-a466-353933636239
DTSTAMP:20260422T014839Z
DESCRIPTION:2/4 VK Prostějov C - TJ Šumperk A 2:1 (9\,-20\,12)\nKurt A
DTSTART;TZID=Europe/Berlin:20241201T120000
DTEND;TZID=Europe/Berlin:20241201T140000
LOCATION:Národní sportovní centrum\, Za velodromem 4187 Prostějov
SUMMARY:OLK-U16Z-4C: VK Prostějov C-TJ Šumperk A
END:VEVENT
BEGIN:VEVENT
UID:34666137-3362-4434-b233-353161313938
DTSTAMP:20260422T014839Z
DESCRIPTION:3/6 TJ Šternberk A - VK Prostějov C 0:2 (-16\,-19)\nKurt A
DTSTART;TZID=Europe/Berlin:20241201T140000
DTEND;TZID=Europe/Berlin:20241201T160000
LOCATION:Národní sportovní centrum\, Za velodromem 4187 Prostějov
SUMMARY:OLK-U16Z-4C: TJ Šternberk A-VK Prostějov C
END:VEVENT
BEGIN:VEVENT
UID:31323833-3334-4731-b130-393437373063
DTSTAMP:20260422T014839Z
DESCRIPTION:2/3 VK Prostějov C - KRS Uničov A 0:2 (-15\,-20)\nKurt B
DTSTART;TZID=Europe/Berlin:20241208T110000
DTEND;TZID=Europe/Berlin:20241208T130000
LOCATION:Městská sportovní hala\, Hanusíkova 1476 Kojetín - Kojetín I-Město
SUMMARY:OLK-U16Z-5B: VK Prostějov C-KRS Uničov A
END:VEVENT
BEGIN:VEVENT
UID:31653330-3633-4631-b262-393739636535
DTSTAMP:20260422T014839Z
DESCRIPTION:1/1 SK Kojetín - VK Prostějov C 2:0 (12\,12)\nKurt A
DTSTART;TZID=Europe/Berlin:20241208T100000
DTEND;TZID=Europe/Berlin:20241208T120000
LOCATION:Městská sportovní hala\, Hanusíkova 1476 Kojetín - Kojetín I-Město
SUMMARY:OLK-U16Z-5B: SK Kojetín-VK Prostějov C
END:VEVENT
BEGIN:VEVENT
UID:36613030-3532-4666-a333-333737656139
DTSTAMP:20260422T014839Z
DESCRIPTION:3/5 VK Olomouc B - VK Prostějov C 2:1 (-14\,23\,7)\nKurt B
DTSTART;TZID=Europe/Berlin:20241208T120000
DTEND;TZID=Europe/Berlin:20241208T140000
LOCATION:Městská sportovní hala\, Hanusíkova 1476 Kojetín - Kojetín I-Město
SUMMARY:OLK-U16Z-5B: VK Olomouc B-VK Prostějov C
END:VEVENT
BEGIN:VEVENT
UID:37613138-6338-4366-b338-346137376438
DTSTAMP:20260422T014839Z
DESCRIPTION:1/1 VK Prostějov C - Přerov B 2:1 (13\,-26\,8)\nKurt A
DTSTART;TZID=Europe/Berlin:20250112T090000
DTEND;TZID=Europe/Berlin:20250112T110000
LOCATION:Národní sportovní centrum\, Za velodromem 4187 Prostějov
SUMMARY:OLK-U16Z-6C: VK Prostějov C-Přerov B
END:VEVENT
BEGIN:VEVENT
UID:31663661-3031-4130-b035-613866303065
DTSTAMP:20260422T014839Z
DESCRIPTION:2/4 VK Prostějov C - VK Prostějov B 1:2 (-22\,28\,-14)\nKurt A
DTSTART;TZID=Europe/Berlin:20250112T110000
DTEND;TZID=Europe/Berlin:20250112T130000
LOCATION:Národní sportovní centrum\, Za velodromem 4187 Prostějov
SUMMARY:OLK-U16Z-6C: VK Prostějov C-VK Prostějov B
END:VEVENT
BEGIN:VEVENT
UID:66643166-3333-4533-b561-656630623666
DTSTAMP:20260422T014839Z
DESCRIPTION:3/6 VK Olomouc C - VK Prostějov C 0:2 (-16\,-13)\nKurt A
DTSTART;TZID=Europe/Berlin:20250112T130000
DTEND;TZID=Europe/Berlin:20250112T150000
LOCATION:Národní sportovní centrum\, Za velodromem 4187 Prostějov
SUMMARY:OLK-U16Z-6C: VK Olomouc C-VK Prostějov C
END:VEVENT
BEGIN:VEVENT
UID:34336139-6334-4230-b364-393133643635
DTSTAMP:20260422T014839Z
DESCRIPTION:2/3 VK Prostějov C - KRS Uničov A 1:2 (-15\,24\,-11)\nKurt B
DTSTART;TZID=Europe/Berlin:20250119T110000
DTEND;TZID=Europe/Berlin:20250119T130000
LOCATION:Městská sportovní hala\, Hanusíkova 1476 Kojetín - Kojetín I-Město
SUMMARY:OLK-U16Z-7B: VK Prostějov C-KRS Uničov A
END:VEVENT
BEGIN:VEVENT
UID:62656132-3734-4232-b939-633162306365
DTSTAMP:20260422T014839Z
DESCRIPTION:1/1 SK Kojetín - VK Prostějov C 2:0 (11\,9)\nKurt A
DTSTART;TZID=Europe/Berlin:20250119T100000
DTEND;TZID=Europe/Berlin:20250119T120000
LOCATION:Městská sportovní hala\, Hanusíkova 1476 Kojetín - Kojetín I-Město
SUMMARY:OLK-U16Z-7B: SK Kojetín-VK Prostějov C
END:VEVENT
BEGIN:VEVENT
UID:66653166-6162-4333-b830-306434616530
DTSTAMP:20260422T014839Z
DESCRIPTION:3/5 TJ Šumperk A - VK Prostějov C 2:0 (13\,16)\nKurt B
DTSTART;TZID=Europe/Berlin:20250119T120000
DTEND;TZID=Europe/Berlin:20250119T140000
LOCATION:Městská sportovní hala\, Hanusíkova 1476 Kojetín - Kojetín I-Město
SUMMARY:OLK-U16Z-7B: TJ Šumperk A-VK Prostějov C
END:VEVENT
BEGIN:VEVENT
UID:38616263-6639-4831-a632-396534323130
DTSTAMP:20260422T014839Z
DESCRIPTION:1/1 VK Prostějov C - VK Olomouc C 2:1 (-20\,15\,9)\nKurt A
DTSTART;TZID=Europe/Berlin:20250209T090000
DTEND;TZID=Europe/Berlin:20250209T110000
LOCATION:Národní sportovní centrum\, Za velodromem 4187 Prostějov
SUMMARY:OLK-U16Z-8C: VK Prostějov C-VK Olomouc C
END:VEVENT
BEGIN:VEVENT
UID:38633934-3639-4430-b762-663531306339
DTSTAMP:20260422T014839Z
DESCRIPTION:2/4 VK Prostějov C - Přerov B 0:2 (-20\,-19)\nKurt A
DTSTART;TZID=Europe/Berlin:20250209T100000
DTEND;TZID=Europe/Berlin:20250209T120000
LOCATION:Národní sportovní centrum\, Za velodromem 4187 Prostějov
SUMMARY:OLK-U16Z-8C: VK Prostějov C-Přerov B
END:VEVENT
BEGIN:VEVENT
UID:38623866-3663-4337-b931-343365633964
DTSTAMP:20260422T014839Z
DESCRIPTION:3/6 VK Prostějov B - VK Prostějov C 2:1 (17\,-23\,9)\nKurt A
DTSTART;TZID=Europe/Berlin:20250209T110000
DTEND;TZID=Europe/Berlin:20250209T130000
LOCATION:Národní sportovní centrum\, Za velodromem 4187 Prostějov
SUMMARY:OLK-U16Z-8C: VK Prostějov B-VK Prostějov C
END:VEVENT
BEGIN:VEVENT
UID:31373430-6631-4639-b562-633264326632
DTSTAMP:20260422T014839Z
DESCRIPTION:5/5 VK Prostějov C - TJ Šumperk A 2:1 (-24\,18\,11)\nKurt A
DTSTART;TZID=Europe/Berlin:20250223T120000
DTEND;TZID=Europe/Berlin:20250223T140000
LOCATION:Národní sportovní centrum\, Za velodromem 4187 Prostějov
SUMMARY:OLK-U16Z-9C: VK Prostějov C-TJ Šumperk A
END:VEVENT
BEGIN:VEVENT
UID:63666361-3566-4437-b263-656138363438
DTSTAMP:20260422T014839Z
DESCRIPTION:1/1 VK Prostějov B - VK Prostějov C 2:1 (15\,-20\,13)\nKurt A
DTSTART;TZID=Europe/Berlin:20250223T100000
DTEND;TZID=Europe/Berlin:20250223T120000
LOCATION:Národní sportovní centrum\, Za velodromem 4187 Prostějov
SUMMARY:OLK-U16Z-9C: VK Prostějov B-VK Prostějov C
END:VEVENT
BEGIN:VEVENT
UID:64636266-3863-4532-a632-616166656231
DTSTAMP:20260422T014839Z
DESCRIPTION:3/3 VAM Olomouc B - VK Prostějov C 2:0 (20\,23)\nKurt A
DTSTART;TZID=Europe/Berlin:20250223T110000
DTEND;TZID=Europe/Berlin:20250223T130000
LOCATION:Národní sportovní centrum\, Za velodromem 4187 Prostějov
SUMMARY:OLK-U16Z-9C: VAM Olomouc B-VK Prostějov C
END:VEVENT
BEGIN:VEVENT
UID:36333663-3130-4264-b738-346438623162
DTSTAMP:20260422T014839Z
DESCRIPTION:4/4 VK Prostějov C - Přerov B 0:2 (-21\,-12)
DTSTART;TZID=Europe/Berlin:20250316T120000
DTEND;TZID=Europe/Berlin:20250316T140000
LOCATION:Letní hala u zimního stadionu\, Kostelecká 3113 Prostějov
SUMMARY:OLK-U16Z-10C: VK Prostějov C-Přerov B
END:VEVENT
BEGIN:VEVENT
UID:61336562-6461-4432-b561-393438326438
DTSTAMP:20260422T014839Z
DESCRIPTION:1/1 VAM Olomouc B - VK Prostějov C 2:1 (20\,-18\,11)
DTSTART;TZID=Europe/Berlin:20250316T090000
DTEND;TZID=Europe/Berlin:20250316T110000
LOCATION:Letní hala u zimního stadionu\, Kostelecká 3113 Prostějov
SUMMARY:OLK-U16Z-10C: VAM Olomouc B-VK Prostějov C
END:VEVENT
BEGIN:VEVENT
UID:65343763-3633-4662-b132-326137393061
DTSTAMP:20260422T014839Z
DESCRIPTION:6/6 TJ Sokol Troubky - VK Prostějov C 1:2 (-12\,20\,-14)
DTSTART;TZID=Europe/Berlin:20250316T140000
DTEND;TZID=Europe/Berlin:20250316T160000
LOCATION:Letní hala u zimního stadionu\, Kostelecká 3113 Prostějov
SUMMARY:OLK-U16Z-10C: TJ Sokol Troubky-VK Prostějov C
END:VEVENT
END:VCALENDAR
