BEGIN:VCALENDAR
VERSION:2.0
PRODID:-//TJ Slovácká Slavia Uherské Hradiště A85705//NONSGML kigkonsult.se iCalcreator 2.41.80//
CALSCALE:GREGORIAN
UID:37396264-6632-4234-b438-386633656438
BEGIN:VEVENT
UID:63613034-3737-4435-a235-313265636134
DTSTAMP:20260422T014825Z
DESCRIPTION:1/1 Uh.Hradiště A - Uherský Brod 2:0 (13\,8)
DTSTART;TZID=Europe/Berlin:20240928T090000
DTEND;TZID=Europe/Berlin:20240928T110000
LOCATION:Městská sportovní hala\, Stonky 860 Uherské Hradiště
SUMMARY:ZLK-P-U16Z-C: Uh.Hradiště A-Uherský Brod
END:VEVENT
BEGIN:VEVENT
UID:65356334-3064-4264-b361-666362623036
DTSTAMP:20260422T014825Z
DESCRIPTION:3/6 Uh.Hradiště A - Staré Město 0:2 (-23\,-22)
DTSTART;TZID=Europe/Berlin:20240928T110000
DTEND;TZID=Europe/Berlin:20240928T130000
LOCATION:Městská sportovní hala\, Stonky 860 Uherské Hradiště
SUMMARY:ZLK-P-U16Z-C: Uh.Hradiště A-Staré Město
END:VEVENT
BEGIN:VEVENT
UID:33643931-6164-4265-a662-386461346164
DTSTAMP:20260422T014825Z
DESCRIPTION:2/4 Uh.Hradiště B - Uh.Hradiště A 0:2 (-13\,-18)
DTSTART;TZID=Europe/Berlin:20240928T100000
DTEND;TZID=Europe/Berlin:20240928T120000
LOCATION:Městská sportovní hala\, Stonky 860 Uherské Hradiště
SUMMARY:ZLK-P-U16Z-C: Uh.Hradiště B-Uh.Hradiště A
END:VEVENT
BEGIN:VEVENT
UID:38333466-3832-4632-b632-623264336133
DTSTAMP:20260422T014825Z
DESCRIPTION:4/7 Brumov Bylnice - Uh.Hradiště A 2:1 (-18\,11\,13)
DTSTART;TZID=Europe/Berlin:20240928T120000
DTEND;TZID=Europe/Berlin:20240928T140000
LOCATION:Sportovní hala Slavičín\, Školní 29 Slavičín
SUMMARY:ZLK-P-U16Z-C: Brumov Bylnice-Uh.Hradiště A
END:VEVENT
BEGIN:VEVENT
UID:35663661-3036-4065-b530-666136363430
DTSTAMP:20260422T014825Z
DESCRIPTION:1/2 Uh.Hradiště A - Brumov Bylnice 0:2 (-16\,-18)
DTSTART;TZID=Europe/Berlin:20241012T090000
DTEND;TZID=Europe/Berlin:20241012T110000
LOCATION:Městská sportovní hala\, Stonky 860 Uherské Hradiště
SUMMARY:ZLK-U16Z-1B: Uh.Hradiště A-Brumov Bylnice
END:VEVENT
BEGIN:VEVENT
UID:63373462-3931-4565-a139-643233653237
DTSTAMP:20260422T014825Z
DESCRIPTION:4/7 Uh.Hradiště A - Hošťálková 1:2 (-18\,17\,-14)
DTSTART;TZID=Europe/Berlin:20241012T120000
DTEND;TZID=Europe/Berlin:20241012T140000
LOCATION:Městská sportovní hala\, Stonky 860 Uherské Hradiště
SUMMARY:ZLK-U16Z-1B: Uh.Hradiště A-Hošťálková
END:VEVENT
BEGIN:VEVENT
UID:33346237-3566-4263-b966-396530663934
DTSTAMP:20260422T014825Z
DESCRIPTION:2/3 Napajedla - Uh.Hradiště A 0:2 (-16\,-18)
DTSTART;TZID=Europe/Berlin:20241012T100000
DTEND;TZID=Europe/Berlin:20241012T120000
LOCATION:2.ZŠ Napajedla\, Komenského 298 Napajedla
SUMMARY:ZLK-U16Z-1B: Napajedla-Uh.Hradiště A
END:VEVENT
BEGIN:VEVENT
UID:66663061-3365-4232-a635-376462656465
DTSTAMP:20260422T014825Z
DESCRIPTION:5/10 Vlčnov - Uh.Hradiště A 0:2 (-19\,-10)
DTSTART;TZID=Europe/Berlin:20241012T130000
DTEND;TZID=Europe/Berlin:20241012T150000
LOCATION:Klub sportu a kultury\,  Vlčnov186
SUMMARY:ZLK-U16Z-1B: Vlčnov-Uh.Hradiště A
END:VEVENT
BEGIN:VEVENT
UID:37353463-6535-4264-b462-333662313433
DTSTAMP:20260422T014825Z
DESCRIPTION:1/2 Uh.Hradiště A - Kroměříž 2:1 (22\,-21\,7)
DTSTART;TZID=Europe/Berlin:20241109T083000
DTEND;TZID=Europe/Berlin:20241109T103000
LOCATION:Městská sportovní hala\, Stonky 860 Uherské Hradiště
SUMMARY:ZLK-U16Z-2B: Uh.Hradiště A-Kroměříž
END:VEVENT
BEGIN:VEVENT
UID:33636131-3230-4234-b264-343334373433
DTSTAMP:20260422T014825Z
DESCRIPTION:4/7 Uh.Hradiště A - Uherský Brod 2:0 (22\,14)
DTSTART;TZID=Europe/Berlin:20241109T113000
DTEND;TZID=Europe/Berlin:20241109T133000
LOCATION:Městská sportovní hala\, Stonky 860 Uherské Hradiště
SUMMARY:ZLK-U16Z-2B: Uh.Hradiště A-Uherský Brod
END:VEVENT
BEGIN:VEVENT
UID:34643230-3531-4364-b164-626438313263
DTSTAMP:20260422T014825Z
DESCRIPTION:2/3 Rožnov p.R. - Uh.Hradiště A 1:2 (20\,-16\,-11)
DTSTART;TZID=Europe/Berlin:20241109T093000
DTEND;TZID=Europe/Berlin:20241109T113000
LOCATION:ZŠ POD SKALKOU\, Bezručova 293 Rožnov pod Radhoštěm
SUMMARY:ZLK-U16Z-2B: Rožnov p.R.-Uh.Hradiště A
END:VEVENT
BEGIN:VEVENT
UID:31383833-6461-4966-a130-376437333538
DTSTAMP:20260422T014825Z
DESCRIPTION:5/10 Val.Meziříčí - Uh.Hradiště A 1:2 (24\,-15\,-15)
DTSTART;TZID=Europe/Berlin:20241109T123000
DTEND;TZID=Europe/Berlin:20241109T143000
LOCATION:ZŠ Šafaříkova\, Šafaříkova 726 Valašské Meziříčí
SUMMARY:ZLK-U16Z-2B: Val.Meziříčí-Uh.Hradiště A
END:VEVENT
BEGIN:VEVENT
UID:38393832-3038-4563-a431-316439323839
DTSTAMP:20260422T014825Z
DESCRIPTION:3/5 Uh.Hradiště A - Staré Město 0:2 (-14\,-24)
DTSTART;TZID=Europe/Berlin:20241207T110000
DTEND;TZID=Europe/Berlin:20241207T130000
LOCATION:Městská sportovní hala\, Stonky 860 Uherské Hradiště
SUMMARY:ZLK-U16Z-3A: Uh.Hradiště A-Staré Město
END:VEVENT
BEGIN:VEVENT
UID:62623432-6661-4264-b532-623638386463
DTSTAMP:20260422T014825Z
DESCRIPTION:5/10 Uh.Hradiště A - Kroměříž 0:2 (-12\,-16)
DTSTART;TZID=Europe/Berlin:20241207T130000
DTEND;TZID=Europe/Berlin:20241207T150000
LOCATION:Městská sportovní hala\, Stonky 860 Uherské Hradiště
SUMMARY:ZLK-U16Z-3A: Uh.Hradiště A-Kroměříž
END:VEVENT
BEGIN:VEVENT
UID:64643238-3439-4336-b030-393933616231
DTSTAMP:20260422T014825Z
DESCRIPTION:1/1 Zlín A - Uh.Hradiště A 2:0 (7\,9)
DTSTART;TZID=Europe/Berlin:20241207T090000
DTEND;TZID=Europe/Berlin:20241207T110000
LOCATION:ZŠ Okružní Zlín\, Okružní 4685 Zlín
SUMMARY:ZLK-U16Z-3A: Zlín A-Uh.Hradiště A
END:VEVENT
BEGIN:VEVENT
UID:38666436-3535-4161-b338-623833313965
DTSTAMP:20260422T014825Z
DESCRIPTION:4/8 Austin Vsetín - Uh.Hradiště A 2:1 (13\,-24\,6)
DTSTART;TZID=Europe/Berlin:20241207T120000
DTEND;TZID=Europe/Berlin:20241207T140000
LOCATION:Sportovní hala Na Lapači\, Na Lapači 247 Vsetín - Rokytnice
SUMMARY:ZLK-U16Z-3A: Austin Vsetín-Uh.Hradiště A
END:VEVENT
BEGIN:VEVENT
UID:34333561-6639-4466-b464-366336366665
DTSTAMP:20260422T014825Z
DESCRIPTION:2/4 Uh.Hradiště A - Kroměříž 2:1 (16\,-13\,14)
DTSTART;TZID=Europe/Berlin:20250111T100000
DTEND;TZID=Europe/Berlin:20250111T120000
LOCATION:Městská sportovní hala\, Stonky 860 Uherské Hradiště
SUMMARY:ZLK-U16Z-4B: Uh.Hradiště A-Kroměříž
END:VEVENT
BEGIN:VEVENT
UID:63613339-3035-4638-b764-313466306232
DTSTAMP:20260422T014825Z
DESCRIPTION:5/9 Uh.Hradiště A - Uherský Brod 2:1 (24\,-23\,7)
DTSTART;TZID=Europe/Berlin:20250111T130000
DTEND;TZID=Europe/Berlin:20250111T150000
LOCATION:Městská sportovní hala\, Stonky 860 Uherské Hradiště
SUMMARY:ZLK-U16Z-4B: Uh.Hradiště A-Uherský Brod
END:VEVENT
BEGIN:VEVENT
UID:39656539-6434-4730-b664-613964313736
DTSTAMP:20260422T014825Z
DESCRIPTION:1/2 Bojkovice - Uh.Hradiště A 0:2 (-20\,-13)
DTSTART;TZID=Europe/Berlin:20250111T090000
DTEND;TZID=Europe/Berlin:20250111T110000
LOCATION:ZŠ TGM Bojkovice\, Štefánikova 460 Bojkovice
SUMMARY:ZLK-U16Z-4B: Bojkovice-Uh.Hradiště A
END:VEVENT
BEGIN:VEVENT
UID:35326136-3239-4162-b265-626236373239
DTSTAMP:20260422T014825Z
DESCRIPTION:3/5 Rožnov p.R. - Uh.Hradiště A 0:2 (-17\,-15)
DTSTART;TZID=Europe/Berlin:20250111T110000
DTEND;TZID=Europe/Berlin:20250111T130000
LOCATION:ZŠ POD SKALKOU\, Bezručova 293 Rožnov pod Radhoštěm
SUMMARY:ZLK-U16Z-4B: Rožnov p.R.-Uh.Hradiště A
END:VEVENT
BEGIN:VEVENT
UID:65633732-6435-4932-a639-306430633263
DTSTAMP:20260422T014825Z
DESCRIPTION:3/6 Uh.Hradiště A - Kroměříž 2:0 (21\,11)
DTSTART;TZID=Europe/Berlin:20250208T110000
DTEND;TZID=Europe/Berlin:20250208T130000
LOCATION:Městská sportovní hala\, Stonky 860 Uherské Hradiště
SUMMARY:ZLK-U16Z-5A: Uh.Hradiště A-Kroměříž
END:VEVENT
BEGIN:VEVENT
UID:63396131-6465-4530-b265-646164326638
DTSTAMP:20260422T014825Z
DESCRIPTION:6/9 Uh.Hradiště A - Staré Město 2:1 (12\,-18\,11)
DTSTART;TZID=Europe/Berlin:20250304T170000
DTEND;TZID=Europe/Berlin:20250304T190000
LOCATION:Městská sportovní hala\, Stonky 860 Uherské Hradiště
SUMMARY:ZLK-U16Z-5A: Uh.Hradiště A-Staré Město
END:VEVENT
BEGIN:VEVENT
UID:62396365-3565-4263-b863-383339393938
DTSTAMP:20260422T014825Z
DESCRIPTION:1/1 Zlín A - Uh.Hradiště A 2:0 (15\,13)
DTSTART;TZID=Europe/Berlin:20250208T090000
DTEND;TZID=Europe/Berlin:20250208T110000
LOCATION:ZŠ Okružní Zlín\, Okružní 4685 Zlín
SUMMARY:ZLK-U16Z-5A: Zlín A-Uh.Hradiště A
END:VEVENT
BEGIN:VEVENT
UID:36623665-6235-4339-a234-343561386666
DTSTAMP:20260422T014825Z
DESCRIPTION:2/4 Brumov Bylnice - Uh.Hradiště A 0:2 (-23\,-18)
DTSTART;TZID=Europe/Berlin:20250208T100000
DTEND;TZID=Europe/Berlin:20250208T120000
LOCATION:Sportovní hala Slavičín\, Školní 29 Slavičín
SUMMARY:ZLK-U16Z-5A: Brumov Bylnice-Uh.Hradiště A
END:VEVENT
BEGIN:VEVENT
UID:61663334-3266-4833-a633-633434626264
DTSTAMP:20260422T014825Z
DESCRIPTION:2/4 Uh.Hradiště A - Brumov Bylnice 2:1 (20\,-20\,12)
DTSTART;TZID=Europe/Berlin:20250405T100000
DTEND;TZID=Europe/Berlin:20250405T120000
LOCATION:Městská sportovní hala\, Stonky 860 Uherské Hradiště
SUMMARY:ZLK-P-U16Z-2: Uh.Hradiště A-Brumov Bylnice
END:VEVENT
BEGIN:VEVENT
UID:31623139-6366-4133-b565-376333356530
DTSTAMP:20260422T014825Z
DESCRIPTION:5/9 Uh.Hradiště A - Napajedla 2:1 (-16\,20\,1)
DTSTART;TZID=Europe/Berlin:20250405T130000
DTEND;TZID=Europe/Berlin:20250405T150000
LOCATION:Městská sportovní hala\, Stonky 860 Uherské Hradiště
SUMMARY:ZLK-P-U16Z-2: Uh.Hradiště A-Napajedla
END:VEVENT
BEGIN:VEVENT
UID:39306163-6366-4638-b339-343930366263
DTSTAMP:20260422T014825Z
DESCRIPTION:1/2 Vlčnov - Uh.Hradiště A 0:2 (-14\,-10)
DTSTART;TZID=Europe/Berlin:20250405T090000
DTEND;TZID=Europe/Berlin:20250405T110000
LOCATION:Klub sportu a kultury\,  Vlčnov186
SUMMARY:ZLK-P-U16Z-2: Vlčnov-Uh.Hradiště A
END:VEVENT
BEGIN:VEVENT
UID:39333034-3766-4238-b861-306633303231
DTSTAMP:20260422T014825Z
DESCRIPTION:3/5 Hošťálková - Uh.Hradiště A 2:0 (12\,23)
DTSTART;TZID=Europe/Berlin:20250405T110000
DTEND;TZID=Europe/Berlin:20250405T130000
LOCATION:ZŠ Hošťálková \,  Hošťálková380
SUMMARY:ZLK-P-U16Z-2: Hošťálková-Uh.Hradiště A
END:VEVENT
BEGIN:VEVENT
UID:30653364-3036-4533-b139-633331373564
DTSTAMP:20260422T014825Z
DESCRIPTION:2/4 Uh.Hradiště A - Zlín A 0:2 (-20\,-18)
DTSTART;TZID=Europe/Berlin:20250315T100000
DTEND;TZID=Europe/Berlin:20250315T120000
LOCATION:Městská sportovní hala\, Stonky 860 Uherské Hradiště
SUMMARY:ZLK-U16Z-6A: Uh.Hradiště A-Zlín A
END:VEVENT
BEGIN:VEVENT
UID:62646335-6233-4332-b738-623932633230
DTSTAMP:20260422T014825Z
DESCRIPTION:5/9 Uh.Hradiště A - Hošťálková 0:2 (-17\,-20)
DTSTART;TZID=Europe/Berlin:20250315T130000
DTEND;TZID=Europe/Berlin:20250315T150000
LOCATION:Městská sportovní hala\, Stonky 860 Uherské Hradiště
SUMMARY:ZLK-U16Z-6A: Uh.Hradiště A-Hošťálková
END:VEVENT
BEGIN:VEVENT
UID:66646561-3838-4261-b633-626565666436
DTSTAMP:20260422T014825Z
DESCRIPTION:1/2 Staré Město - Uh.Hradiště A 0:2 (-22\,-20)
DTSTART;TZID=Europe/Berlin:20250315T090000
DTEND;TZID=Europe/Berlin:20250315T110000
LOCATION:tělocvična ZŠ Staré Město\, Komenského 1720 Staré Město
SUMMARY:ZLK-U16Z-6A: Staré Město-Uh.Hradiště A
END:VEVENT
BEGIN:VEVENT
UID:34313331-3130-4666-b836-643836616334
DTSTAMP:20260422T014825Z
DESCRIPTION:3/5 Austin Vsetín - Uh.Hradiště A 2:0 (17\,17)
DTSTART;TZID=Europe/Berlin:20250315T110000
DTEND;TZID=Europe/Berlin:20250315T130000
LOCATION:Sportovní hala Na Lapači\, Na Lapači 247 Vsetín - Rokytnice
SUMMARY:ZLK-U16Z-6A: Austin Vsetín-Uh.Hradiště A
END:VEVENT
END:VCALENDAR
