BEGIN:VCALENDAR
VERSION:2.0
PRODID:-//Volejbal Přerov85803//NONSGML kigkonsult.se iCalcreator 2.41.80//
CALSCALE:GREGORIAN
UID:37313366-3731-4236-b363-643830316533
BEGIN:VEVENT
UID:30343432-6434-4331-b130-623530333861
DTSTAMP:20260421T090654Z
DESCRIPTION:2/21006 Přerov - Olymp 0:3 (-18\,-17\,-20)
DTSTART;TZID=Europe/Berlin:20241005T170000
DTEND;TZID=Europe/Berlin:20241005T190000
LOCATION:Městská sportovní hala\, Petřivalského 2884 Přerov - Přerov I-Měst
 o
SUMMARY:EX-Z: Přerov-Olymp
END:VEVENT
BEGIN:VEVENT
UID:32386463-3137-4664-b938-613435343336
DTSTAMP:20260421T090654Z
DESCRIPTION:4/21016 Přerov - Frýdek - Místek 1:3 (-23\,23\,-16\,-23)\nTV-S
DTSTART;TZID=Europe/Berlin:20241022T180000
DTEND;TZID=Europe/Berlin:20241022T200000
LOCATION:Městská sportovní hala\, Petřivalského 2884 Přerov - Přerov I-Měst
 o
SUMMARY:EX-Z: Přerov-Frýdek - Místek
END:VEVENT
BEGIN:VEVENT
UID:38656663-3635-4836-b666-303234613964
DTSTAMP:20260421T090654Z
DESCRIPTION:6/21026 Přerov - Olomouc 1:3 (23\,-13\,-11\,-17)
DTSTART;TZID=Europe/Berlin:20241031T170000
DTEND;TZID=Europe/Berlin:20241031T190000
LOCATION:Městská sportovní hala\, Petřivalského 2884 Přerov - Přerov I-Měst
 o
SUMMARY:EX-Z: Přerov-Olomouc
END:VEVENT
BEGIN:VEVENT
UID:63643163-6630-4435-b535-356666613433
DTSTAMP:20260421T090654Z
DESCRIPTION:7/21031 Přerov - KP Brno 3:2 (-14\,-24\,21\,17\,21)
DTSTART;TZID=Europe/Berlin:20241102T170000
DTEND;TZID=Europe/Berlin:20241102T190000
LOCATION:Městská sportovní hala\, Petřivalského 2884 Přerov - Přerov I-Měst
 o
SUMMARY:EX-Z: Přerov-KP Brno
END:VEVENT
BEGIN:VEVENT
UID:32643666-3861-4261-b762-313862656336
DTSTAMP:20260421T090654Z
DESCRIPTION:10/21046 Přerov - Ostrava 0:3 (-25\,-21\,-15)
DTSTART;TZID=Europe/Berlin:20241121T170000
DTEND;TZID=Europe/Berlin:20241121T190000
LOCATION:Městská sportovní hala\, Petřivalského 2884 Přerov - Přerov I-Měst
 o
SUMMARY:EX-Z: Přerov-Ostrava
END:VEVENT
BEGIN:VEVENT
UID:30313463-3138-4437-a230-623361626264
DTSTAMP:20260421T090654Z
DESCRIPTION:12/21056 Přerov - Prostějov 1:3 (21\,-29\,-12\,-21)
DTSTART;TZID=Europe/Berlin:20241201T170000
DTEND;TZID=Europe/Berlin:20241201T190000
LOCATION:Městská sportovní hala\, Petřivalského 2884 Přerov - Přerov I-Měst
 o
SUMMARY:EX-Z: Přerov-Prostějov
END:VEVENT
BEGIN:VEVENT
UID:61343936-3362-4139-b339-666637333964
DTSTAMP:20260421T090654Z
DESCRIPTION:14/21066 Přerov - Šternberk 3:X
DTSTART;TZID=Europe/Berlin:20241207T170000
DTEND;TZID=Europe/Berlin:20241207T190000
LOCATION:Městská sportovní hala\, Petřivalského 2884 Přerov - Přerov I-Měst
 o
SUMMARY:EX-Z: Přerov-Šternberk
END:VEVENT
BEGIN:VEVENT
UID:32633130-3534-4430-b962-656663333536
DTSTAMP:20260421T090654Z
DESCRIPTION:17/21081 Přerov - Šelmy 1:3 (-23\,-18\,18\,-21)
DTSTART;TZID=Europe/Berlin:20241228T170000
DTEND;TZID=Europe/Berlin:20241228T190000
LOCATION:Městská sportovní hala\, Petřivalského 2884 Přerov - Přerov I-Měst
 o
SUMMARY:EX-Z: Přerov-Šelmy
END:VEVENT
BEGIN:VEVENT
UID:35653561-6662-4961-a162-623965616133
DTSTAMP:20260421T090654Z
DESCRIPTION:18/21086 Přerov - Liberec 2:3 (23\,-12\,-7\,20\,-10)
DTSTART;TZID=Europe/Berlin:20241230T170000
DTEND;TZID=Europe/Berlin:20241230T190000
LOCATION:Městská sportovní hala\, Petřivalského 2884 Přerov - Přerov I-Měst
 o
SUMMARY:EX-Z: Přerov-Liberec
END:VEVENT
BEGIN:VEVENT
UID:63363062-6533-4465-b436-336362383762
DTSTAMP:20260421T090654Z
DESCRIPTION:20/21098 Přerov - Ostrava 3:1 (23\,-17\,20\,19)
DTSTART;TZID=Europe/Berlin:20250117T173000
DTEND;TZID=Europe/Berlin:20250117T193000
LOCATION:Městská sportovní hala\, Petřivalského 2884 Přerov - Přerov I-Měst
 o
SUMMARY:EX-Z: Přerov-Ostrava
END:VEVENT
BEGIN:VEVENT
UID:31323465-3930-4434-b134-373866663565
DTSTAMP:20260421T090654Z
DESCRIPTION:22/21107 Přerov - Šternberk 2:3 (19\,15\,-18\,-16\,-11)
DTSTART;TZID=Europe/Berlin:20250130T170000
DTEND;TZID=Europe/Berlin:20250130T190000
LOCATION:Městská sportovní hala\, Petřivalského 2884 Přerov - Přerov I-Měst
 o
SUMMARY:EX-Z: Přerov-Šternberk
END:VEVENT
BEGIN:VEVENT
UID:66306238-3035-4631-b834-373739393332
DTSTAMP:20260421T090654Z
DESCRIPTION:25/21125 Přerov - KP Brno 3:1 (18\,-12\,13\,19)
DTSTART;TZID=Europe/Berlin:20250214T173000
DTEND;TZID=Europe/Berlin:20250214T193000
LOCATION:Městská sportovní hala\, Petřivalského 2884 Přerov - Přerov I-Měst
 o
SUMMARY:EX-Z: Přerov-KP Brno
END:VEVENT
BEGIN:VEVENT
UID:37623939-6133-4635-a138-316335306231
DTSTAMP:20260421T090654Z
DESCRIPTION:27/21134 Přerov - Liberec 0:3 (-20\,-18\,-10)
DTSTART;TZID=Europe/Berlin:20250306T180000
DTEND;TZID=Europe/Berlin:20250306T200000
LOCATION:Městská sportovní hala\, Petřivalského 2884 Přerov - Přerov I-Měst
 o
SUMMARY:EX-Z: Přerov-Liberec
END:VEVENT
BEGIN:VEVENT
UID:34386435-3930-4538-a539-666136616535
DTSTAMP:20260421T090654Z
DESCRIPTION:1/21001 Ostrava - Přerov 1:3 (-17\,15\,-22\,-27)
DTSTART;TZID=Europe/Berlin:20240928T170000
DTEND;TZID=Europe/Berlin:20240928T190000
LOCATION:Hala míčových sportů\, Varenská 3098 Ostrava - Moravská Ostrava
SUMMARY:EX-Z: Ostrava-Přerov
END:VEVENT
BEGIN:VEVENT
UID:34313366-3139-4238-b138-333636383238
DTSTAMP:20260421T090654Z
DESCRIPTION:3/21011 Prostějov - Přerov 3:2 (-20\,14\,16\,-23\,6)
DTSTART;TZID=Europe/Berlin:20241012T170000
DTEND;TZID=Europe/Berlin:20241012T190000
LOCATION:Národní sportovní centrum\, Za velodromem 4187 Prostějov
SUMMARY:EX-Z: Prostějov-Přerov
END:VEVENT
BEGIN:VEVENT
UID:61316635-6464-4539-b565-333161666235
DTSTAMP:20260421T090654Z
DESCRIPTION:5/21021 Šternberk - Přerov X:3
DTSTART;TZID=Europe/Berlin:20241026T170000
DTEND;TZID=Europe/Berlin:20241026T190000
LOCATION:Ecce Homo Šternberk\, Dvorská 2515 Šternberk
SUMMARY:EX-Z: Šternberk-Přerov
END:VEVENT
BEGIN:VEVENT
UID:36336438-3837-4138-a265-396661353163
DTSTAMP:20260421T090654Z
DESCRIPTION:8/21036 Šelmy - Přerov 0:3 (-23\,-20\,-19)\nTV-S
DTSTART;TZID=Europe/Berlin:20241109T160000
DTEND;TZID=Europe/Berlin:20241109T180000
LOCATION:TJ Sokol Brno I\, Kounicova 686 Brno - Veveří
SUMMARY:EX-Z: Šelmy-Přerov
END:VEVENT
BEGIN:VEVENT
UID:34383130-3233-4161-a634-373237613133
DTSTAMP:20260421T090654Z
DESCRIPTION:9/21041 Liberec - Přerov 3:0 (22\,16\,13)
DTSTART;TZID=Europe/Berlin:20241116T160000
DTEND;TZID=Europe/Berlin:20241116T180000
LOCATION:Dukla Liberec\, Jeronýmova 558 Liberec - Liberec VII-Horní Růžodol
SUMMARY:EX-Z: Liberec-Přerov
END:VEVENT
BEGIN:VEVENT
UID:36323537-3062-4166-b537-393964323164
DTSTAMP:20260421T090654Z
DESCRIPTION:11/21051 Olymp - Přerov 3:0 (12\,16\,22)
DTSTART;TZID=Europe/Berlin:20241123T170000
DTEND;TZID=Europe/Berlin:20241123T190000
LOCATION:PVK Olymp Praha\, Přípotoční 300 Praha - Vršovice
SUMMARY:EX-Z: Olymp-Přerov
END:VEVENT
BEGIN:VEVENT
UID:37653530-3237-4535-a666-303539373933
DTSTAMP:20260421T090654Z
DESCRIPTION:13/21061 Frýdek - Místek - Přerov 3:0 (21\,12\,23)
DTSTART;TZID=Europe/Berlin:20241205T170000
DTEND;TZID=Europe/Berlin:20241205T190000
LOCATION:ZŠ Pionýrů 400 Frýdek-Místek\, Pionýrů 400 Frýdek-Místek - Místek
SUMMARY:EX-Z: Frýdek - Místek-Přerov
END:VEVENT
BEGIN:VEVENT
UID:30393463-6134-4961-a432-613335346130
DTSTAMP:20260421T090654Z
DESCRIPTION:15/21071 Olomouc - Přerov 3:0 (17\,21\,16)
DTSTART;TZID=Europe/Berlin:20241214T170000
DTEND;TZID=Europe/Berlin:20241214T190000
LOCATION:UP Olomouc\, U sportovní haly 38 Olomouc - Lazce
SUMMARY:EX-Z: Olomouc-Přerov
END:VEVENT
BEGIN:VEVENT
UID:30663939-3965-4432-b061-306338613139
DTSTAMP:20260421T090654Z
DESCRIPTION:16/21076 KP Brno - Přerov 3:0 (17\,24\,15)\nTV-S
DTSTART;TZID=Europe/Berlin:20241218T120000
DTEND;TZID=Europe/Berlin:20241218T140000
LOCATION:STAREZ ARÉNA VODOVA (Velká hala)\, Vodova 336 Brno - Královo Pole
SUMMARY:EX-Z: KP Brno-Přerov
END:VEVENT
BEGIN:VEVENT
UID:35666138-6463-4465-a638-623831653833
DTSTAMP:20260421T090654Z
DESCRIPTION:19/21093 Prostějov - Přerov 3:0 (7\,11\,19)
DTSTART;TZID=Europe/Berlin:20250111T170000
DTEND;TZID=Europe/Berlin:20250111T190000
LOCATION:Národní sportovní centrum\, Za velodromem 4187 Prostějov
SUMMARY:EX-Z: Prostějov-Přerov
END:VEVENT
BEGIN:VEVENT
UID:34626265-6537-4364-b661-643038303832
DTSTAMP:20260421T090654Z
DESCRIPTION:21/21104 Olymp - Přerov 3:0 (12\,20\,20)
DTSTART;TZID=Europe/Berlin:20250124T180000
DTEND;TZID=Europe/Berlin:20250124T200000
LOCATION:PVK Olymp Praha\, Přípotoční 300 Praha - Vršovice
SUMMARY:EX-Z: Olymp-Přerov
END:VEVENT
BEGIN:VEVENT
UID:66303164-3864-4831-b162-626134663830
DTSTAMP:20260421T090654Z
DESCRIPTION:23/21115 Šelmy - Přerov 3:0 (21\,15\,19)
DTSTART;TZID=Europe/Berlin:20250201T183000
DTEND;TZID=Europe/Berlin:20250201T203000
LOCATION:TJ Sokol Brno I\, Kounicova 686 Brno - Veveří
SUMMARY:EX-Z: Šelmy-Přerov
END:VEVENT
BEGIN:VEVENT
UID:65313764-3064-4036-b863-343431353333
DTSTAMP:20260421T090654Z
DESCRIPTION:24/21116 Frýdek - Místek - Přerov 3:0 (15\,17\,21)
DTSTART;TZID=Europe/Berlin:20250208T170000
DTEND;TZID=Europe/Berlin:20250208T190000
LOCATION:ZŠ Pionýrů 400 Frýdek-Místek\, Pionýrů 400 Frýdek-Místek - Místek
SUMMARY:EX-Z: Frýdek - Místek-Přerov
END:VEVENT
BEGIN:VEVENT
UID:63393535-3165-4736-b863-323835393735
DTSTAMP:20260421T090654Z
DESCRIPTION:26/21127 Olomouc - Přerov 3:0 (21\,25\,15)
DTSTART;TZID=Europe/Berlin:20250227T173000
DTEND;TZID=Europe/Berlin:20250227T193000
LOCATION:UP Olomouc\, U sportovní haly 38 Olomouc - Lazce
SUMMARY:EX-Z: Olomouc-Přerov
END:VEVENT
BEGIN:VEVENT
UID:32376334-6365-4061-b530-616662363165
DTSTAMP:20260421T090654Z
DESCRIPTION:2/20006 Přerov - Šternberk 3:0 (23\,18\,22)
DTSTART;TZID=Europe/Berlin:20241002T180000
DTEND;TZID=Europe/Berlin:20241002T200000
LOCATION:Městská sportovní hala\, Petřivalského 2884 Přerov - Přerov I-Měst
 o
SUMMARY:CP-Z: Přerov-Šternberk
END:VEVENT
BEGIN:VEVENT
UID:66646434-6565-4661-b462-366366366162
DTSTAMP:20260421T090654Z
DESCRIPTION:3/20010 KP Brno - Přerov 3:1 (-17\,23\,15\,17)
DTSTART;TZID=Europe/Berlin:20241114T180000
DTEND;TZID=Europe/Berlin:20241114T200000
LOCATION:STAREZ ARÉNA VODOVA (Velká hala)\, Vodova 336 Brno - Královo Pole
SUMMARY:CP-Z: KP Brno-Přerov
END:VEVENT
BEGIN:VEVENT
UID:37613335-3734-4561-a634-346662323666
DTSTAMP:20260421T090654Z
DESCRIPTION:1/21140 Přerov - Prostějov 0:3 (-15\,-29\,-21)\n1. kolo
DTSTART;TZID=Europe/Berlin:20250321T180000
DTEND;TZID=Europe/Berlin:20250321T200000
LOCATION:Městská sportovní hala\, Petřivalského 2884 Přerov - Přerov I-Měst
 o
SUMMARY:EX-Z-I: Přerov-Prostějov
END:VEVENT
BEGIN:VEVENT
UID:35616538-3338-4363-a137-366438323766
DTSTAMP:20260421T090654Z
DESCRIPTION:1/21136 Prostějov - Přerov 3:1 (12\,-22\,13\,17)\n1. kolo
DTSTART;TZID=Europe/Berlin:20250318T180000
DTEND;TZID=Europe/Berlin:20250318T200000
LOCATION:Národní sportovní centrum\, Za velodromem 4187 Prostějov
SUMMARY:EX-Z-I: Prostějov-Přerov
END:VEVENT
BEGIN:VEVENT
UID:38336164-6439-4663-b665-633661333566
DTSTAMP:20260421T090654Z
DESCRIPTION:1/21144 Prostějov - Přerov 3:0 (14\,23\,23)\n1. kolo
DTSTART;TZID=Europe/Berlin:20250324T180000
DTEND;TZID=Europe/Berlin:20250324T200000
LOCATION:Národní sportovní centrum\, Za velodromem 4187 Prostějov
SUMMARY:EX-Z-I: Prostějov-Přerov
END:VEVENT
END:VCALENDAR
