BEGIN:VCALENDAR
VERSION:2.0
PRODID:-//VK Šantovka Olomouc UP85809//NONSGML kigkonsult.se iCalcreator 2.41.80//
CALSCALE:GREGORIAN
UID:66613332-3132-4130-b839-653133316234
BEGIN:VEVENT
UID:32373863-3861-4238-a433-646235313035
DTSTAMP:20260421T102545Z
DESCRIPTION:2/21008 Olomouc - KP Brno 3:1 (10\,-16\,17\,19)\nTV-S
DTSTART;TZID=Europe/Berlin:20241008T180000
DTEND;TZID=Europe/Berlin:20241008T200000
LOCATION:UP Olomouc\, U sportovní haly 38 Olomouc - Lazce
SUMMARY:EX-Z: Olomouc-KP Brno
END:VEVENT
BEGIN:VEVENT
UID:65623361-6330-4438-a265-373062636234
DTSTAMP:20260421T102545Z
DESCRIPTION:4/21017 Olomouc - Olymp 3:1 (20\,19\,-20\,17)
DTSTART;TZID=Europe/Berlin:20241019T170000
DTEND;TZID=Europe/Berlin:20241019T190000
LOCATION:UP Olomouc\, U sportovní haly 38 Olomouc - Lazce
SUMMARY:EX-Z: Olomouc-Olymp
END:VEVENT
BEGIN:VEVENT
UID:37623638-6137-4235-b964-323036393530
DTSTAMP:20260421T102545Z
DESCRIPTION:7/21035 Olomouc - Šelmy 3:0 (22\,25\,13)
DTSTART;TZID=Europe/Berlin:20241103T150000
DTEND;TZID=Europe/Berlin:20241103T170000
LOCATION:UP Olomouc\, U sportovní haly 38 Olomouc - Lazce
SUMMARY:EX-Z: Olomouc-Šelmy
END:VEVENT
BEGIN:VEVENT
UID:63363563-3839-4133-a266-386635663531
DTSTAMP:20260421T102545Z
DESCRIPTION:9/21044 Olomouc - Prostějov 3:0 (16\,25\,16)
DTSTART;TZID=Europe/Berlin:20241116T170000
DTEND;TZID=Europe/Berlin:20241116T190000
LOCATION:UP Olomouc\, U sportovní haly 38 Olomouc - Lazce
SUMMARY:EX-Z: Olomouc-Prostějov
END:VEVENT
BEGIN:VEVENT
UID:65613765-3036-4539-a239-616639636237
DTSTAMP:20260421T102545Z
DESCRIPTION:10/21048 Olomouc - Šternberk 3:0 (17\,21\,24)
DTSTART;TZID=Europe/Berlin:20241121T180000
DTEND;TZID=Europe/Berlin:20241121T200000
LOCATION:UP Olomouc\, U sportovní haly 38 Olomouc - Lazce
SUMMARY:EX-Z: Olomouc-Šternberk
END:VEVENT
BEGIN:VEVENT
UID:66386432-3732-4466-b030-666534643937
DTSTAMP:20260421T102545Z
DESCRIPTION:12/21059 Olomouc - Liberec 0:3 (-20\,-23\,-18)
DTSTART;TZID=Europe/Berlin:20241130T170000
DTEND;TZID=Europe/Berlin:20241130T190000
LOCATION:UP Olomouc\, U sportovní haly 38 Olomouc - Lazce
SUMMARY:EX-Z: Olomouc-Liberec
END:VEVENT
BEGIN:VEVENT
UID:35643861-6663-4766-a162-333435376539
DTSTAMP:20260421T102545Z
DESCRIPTION:14/21070 Olomouc - Frýdek - Místek 3:1 (9\,15\,-25\,23)
DTSTART;TZID=Europe/Berlin:20241207T170000
DTEND;TZID=Europe/Berlin:20241207T190000
LOCATION:UP Olomouc\, U sportovní haly 38 Olomouc - Lazce
SUMMARY:EX-Z: Olomouc-Frýdek - Místek
END:VEVENT
BEGIN:VEVENT
UID:65663866-6633-4435-a665-333535633661
DTSTAMP:20260421T102545Z
DESCRIPTION:15/21071 Olomouc - Přerov 3:0 (17\,21\,16)
DTSTART;TZID=Europe/Berlin:20241214T170000
DTEND;TZID=Europe/Berlin:20241214T190000
LOCATION:UP Olomouc\, U sportovní haly 38 Olomouc - Lazce
SUMMARY:EX-Z: Olomouc-Přerov
END:VEVENT
BEGIN:VEVENT
UID:62353562-3365-4634-b564-343761303933
DTSTAMP:20260421T102545Z
DESCRIPTION:17/21082 Olomouc - Ostrava 0:3 (-23\,-24\,-22)
DTSTART;TZID=Europe/Berlin:20241228T150000
DTEND;TZID=Europe/Berlin:20241228T170000
LOCATION:UP Olomouc\, U sportovní haly 38 Olomouc - Lazce
SUMMARY:EX-Z: Olomouc-Ostrava
END:VEVENT
BEGIN:VEVENT
UID:34346538-3436-4835-b330-303639343630
DTSTAMP:20260421T102545Z
DESCRIPTION:19/21091 Olomouc - Frýdek - Místek 3:0 (23\,18\,13)
DTSTART;TZID=Europe/Berlin:20250111T190000
DTEND;TZID=Europe/Berlin:20250111T210000
LOCATION:UP Olomouc\, U sportovní haly 38 Olomouc - Lazce
SUMMARY:EX-Z: Olomouc-Frýdek - Místek
END:VEVENT
BEGIN:VEVENT
UID:63636335-3338-4733-b465-363666313831
DTSTAMP:20260421T102545Z
DESCRIPTION:20/21100 Olomouc - Liberec 3:0 (21\,22\,23)
DTSTART;TZID=Europe/Berlin:20250118T170000
DTEND;TZID=Europe/Berlin:20250118T190000
LOCATION:UP Olomouc\, U sportovní haly 38 Olomouc - Lazce
SUMMARY:EX-Z: Olomouc-Liberec
END:VEVENT
BEGIN:VEVENT
UID:64643834-3763-4364-a565-653730353639
DTSTAMP:20260421T102545Z
DESCRIPTION:22/21109 Olomouc - Ostrava 3:2 (19\,-21\,-21\,18\,11)
DTSTART;TZID=Europe/Berlin:20250130T180000
DTEND;TZID=Europe/Berlin:20250130T200000
LOCATION:UP Olomouc\, U sportovní haly 38 Olomouc - Lazce
SUMMARY:EX-Z: Olomouc-Ostrava
END:VEVENT
BEGIN:VEVENT
UID:36643031-6665-4536-a437-333634353065
DTSTAMP:20260421T102545Z
DESCRIPTION:24/21118 Olomouc - Šternberk 3:0 (16\,23\,17)
DTSTART;TZID=Europe/Berlin:20250209T193000
DTEND;TZID=Europe/Berlin:20250209T213000
LOCATION:UP Olomouc\, U sportovní haly 38 Olomouc - Lazce
SUMMARY:EX-Z: Olomouc-Šternberk
END:VEVENT
BEGIN:VEVENT
UID:33376337-3830-4933-a366-653339366132
DTSTAMP:20260421T102545Z
DESCRIPTION:26/21127 Olomouc - Přerov 3:0 (21\,25\,15)
DTSTART;TZID=Europe/Berlin:20250227T173000
DTEND;TZID=Europe/Berlin:20250227T193000
LOCATION:UP Olomouc\, U sportovní haly 38 Olomouc - Lazce
SUMMARY:EX-Z: Olomouc-Přerov
END:VEVENT
BEGIN:VEVENT
UID:65623062-6561-4331-b061-623630656331
DTSTAMP:20260421T102545Z
DESCRIPTION:1/21003 Šternberk - Olomouc X:3
DTSTART;TZID=Europe/Berlin:20240928T170000
DTEND;TZID=Europe/Berlin:20240928T190000
LOCATION:Ecce Homo Šternberk\, Dvorská 2515 Šternberk
SUMMARY:EX-Z: Šternberk-Olomouc
END:VEVENT
BEGIN:VEVENT
UID:32376665-3830-4037-a335-333638393438
DTSTAMP:20260421T102545Z
DESCRIPTION:3/21014 Liberec - Olomouc 0:3 (-19\,-22\,-22)
DTSTART;TZID=Europe/Berlin:20241012T160000
DTEND;TZID=Europe/Berlin:20241012T180000
LOCATION:Dukla Liberec\, Jeronýmova 558 Liberec - Liberec VII-Horní Růžodol
SUMMARY:EX-Z: Liberec-Olomouc
END:VEVENT
BEGIN:VEVENT
UID:35373138-6333-4533-b462-653632373465
DTSTAMP:20260421T102545Z
DESCRIPTION:5/21025 Frýdek - Místek - Olomouc 3:2 (-22\,14\,20\,-18\,10)
DTSTART;TZID=Europe/Berlin:20241026T170000
DTEND;TZID=Europe/Berlin:20241026T190000
LOCATION:ZŠ Pionýrů 400 Frýdek-Místek\, Pionýrů 400 Frýdek-Místek - Místek
SUMMARY:EX-Z: Frýdek - Místek-Olomouc
END:VEVENT
BEGIN:VEVENT
UID:64633434-3438-4635-a564-613731663633
DTSTAMP:20260421T102545Z
DESCRIPTION:6/21026 Přerov - Olomouc 1:3 (23\,-13\,-11\,-17)
DTSTART;TZID=Europe/Berlin:20241031T170000
DTEND;TZID=Europe/Berlin:20241031T190000
LOCATION:Městská sportovní hala\, Petřivalského 2884 Přerov - Přerov I-Měst
 o
SUMMARY:EX-Z: Přerov-Olomouc
END:VEVENT
BEGIN:VEVENT
UID:32666266-6534-4237-b736-323734373462
DTSTAMP:20260421T102545Z
DESCRIPTION:8/21037 Ostrava - Olomouc 0:3 (-18\,-9\,-22)
DTSTART;TZID=Europe/Berlin:20241109T170000
DTEND;TZID=Europe/Berlin:20241109T190000
LOCATION:Hala míčových sportů\, Varenská 3098 Ostrava - Moravská Ostrava
SUMMARY:EX-Z: Ostrava-Olomouc
END:VEVENT
BEGIN:VEVENT
UID:63623038-6130-4261-a163-623932656135
DTSTAMP:20260421T102545Z
DESCRIPTION:11/21053 KP Brno - Olomouc 1:3 (-10\,-13\,23\,-13)
DTSTART;TZID=Europe/Berlin:20241123T180000
DTEND;TZID=Europe/Berlin:20241123T200000
LOCATION:STAREZ ARÉNA VODOVA (Velká hala)\, Vodova 336 Brno - Královo Pole
SUMMARY:EX-Z: KP Brno-Olomouc
END:VEVENT
BEGIN:VEVENT
UID:39343562-3563-4661-b163-316436346638
DTSTAMP:20260421T102545Z
DESCRIPTION:13/21062 Olymp - Olomouc 3:2 (16\,16\,-18\,-19\,8)
DTSTART;TZID=Europe/Berlin:20241205T170000
DTEND;TZID=Europe/Berlin:20241205T190000
LOCATION:Klimeška\, Čáslavská 274 Kutná Hora - Karlov
SUMMARY:EX-Z: Olymp-Olomouc
END:VEVENT
BEGIN:VEVENT
UID:31633738-3863-4930-a466-326436343237
DTSTAMP:20260421T102545Z
DESCRIPTION:16/21080 Šelmy - Olomouc 1:3 (-11\,-19\,23\,-13)
DTSTART;TZID=Europe/Berlin:20241219T190000
DTEND;TZID=Europe/Berlin:20241219T210000
LOCATION:TJ Sokol Brno I\, Kounicova 686 Brno - Veveří
SUMMARY:EX-Z: Šelmy-Olomouc
END:VEVENT
BEGIN:VEVENT
UID:66666135-3963-4632-a532-323838346166
DTSTAMP:20260421T102545Z
DESCRIPTION:18/21089 Prostějov - Olomouc 3:2 (-23\,-23\,21\,23\,11)
DTSTART;TZID=Europe/Berlin:20241230T180000
DTEND;TZID=Europe/Berlin:20241230T200000
LOCATION:Národní sportovní centrum\, Za velodromem 4187 Prostějov
SUMMARY:EX-Z: Prostějov-Olomouc
END:VEVENT
BEGIN:VEVENT
UID:66316432-6266-4130-b963-323132383134
DTSTAMP:20260421T102545Z
DESCRIPTION:21/21102 Prostějov - Olomouc 3:2 (20\,-18\,19\,-22\,12)\nTV-S
DTSTART;TZID=Europe/Berlin:20250125T140000
DTEND;TZID=Europe/Berlin:20250125T160000
LOCATION:Národní sportovní centrum\, Za velodromem 4187 Prostějov
SUMMARY:EX-Z: Prostějov-Olomouc
END:VEVENT
BEGIN:VEVENT
UID:66633563-3933-4737-a233-316262633938
DTSTAMP:20260421T102545Z
DESCRIPTION:23/21113 Olymp - Olomouc 3:1 (-30\,23\,15\,24)\nTV-S
DTSTART;TZID=Europe/Berlin:20250201T180000
DTEND;TZID=Europe/Berlin:20250201T200000
LOCATION:PVK Olymp Praha\, Přípotoční 300 Praha - Vršovice
SUMMARY:EX-Z: Olymp-Olomouc
END:VEVENT
BEGIN:VEVENT
UID:31613436-6565-4466-b630-396465306634
DTSTAMP:20260421T102545Z
DESCRIPTION:25/21124 Šelmy - Olomouc 3:2 (-21\,-16\,25\,14\,9)
DTSTART;TZID=Europe/Berlin:20250215T180000
DTEND;TZID=Europe/Berlin:20250215T200000
LOCATION:TJ Sokol Brno I\, Kounicova 686 Brno - Veveří
SUMMARY:EX-Z: Šelmy-Olomouc
END:VEVENT
BEGIN:VEVENT
UID:62613236-3435-4662-a635-316539376631
DTSTAMP:20260421T102545Z
DESCRIPTION:27/21135 KP Brno - Olomouc 0:3 (-24\,-20\,-17)
DTSTART;TZID=Europe/Berlin:20250306T180000
DTEND;TZID=Europe/Berlin:20250306T200000
LOCATION:STAREZ ARÉNA VODOVA (Velká hala)\, Vodova 336 Brno - Královo Pole
SUMMARY:EX-Z: KP Brno-Olomouc
END:VEVENT
BEGIN:VEVENT
UID:35636331-3161-4363-a565-613632393763
DTSTAMP:20260421T102545Z
DESCRIPTION:3/20009 Olomouc - Šelmy 3:0 (14\,14\,10)
DTSTART;TZID=Europe/Berlin:20241112T180000
DTEND;TZID=Europe/Berlin:20241112T200000
LOCATION:UP Olomouc\, U sportovní haly 38 Olomouc - Lazce
SUMMARY:CP-Z: Olomouc-Šelmy
END:VEVENT
BEGIN:VEVENT
UID:30393330-3733-4030-b766-303464336538
DTSTAMP:20260421T102545Z
DESCRIPTION:2/20005 Ostrava B - Olomouc 0:3 (-7\,-12\,-8)
DTSTART;TZID=Europe/Berlin:20240930T180000
DTEND;TZID=Europe/Berlin:20240930T200000
LOCATION:Hala míčových sportů\, Varenská 3098 Ostrava - Moravská Ostrava
SUMMARY:CP-Z: Ostrava B-Olomouc
END:VEVENT
BEGIN:VEVENT
UID:31316332-3237-4638-b333-343232363631
DTSTAMP:20260421T102545Z
DESCRIPTION:4/20011 KP Brno - Olomouc 3:1 (-21\,25\,23\,20)\nSemifinále 1
DTSTART;TZID=Europe/Berlin:20250116T180000
DTEND;TZID=Europe/Berlin:20250116T200000
LOCATION:STAREZ ARÉNA VODOVA (Velká hala)\, Vodova 336 Brno - Královo Pole
SUMMARY:CP-Z: KP Brno-Olomouc
END:VEVENT
BEGIN:VEVENT
UID:38613239-3262-4663-b136-653230623265
DTSTAMP:20260421T102545Z
DESCRIPTION:1/21137 Olomouc - Šelmy 3:2 (21\,-19\,-18\,13\,13)\n1. kolo
DTSTART;TZID=Europe/Berlin:20250318T173000
DTEND;TZID=Europe/Berlin:20250318T193000
LOCATION:UP Olomouc\, U sportovní haly 38 Olomouc - Lazce
SUMMARY:EX-Z-I: Olomouc-Šelmy
END:VEVENT
BEGIN:VEVENT
UID:30373131-6365-4366-b234-313531393666
DTSTAMP:20260421T102545Z
DESCRIPTION:1/21145 Olomouc - Šelmy 3:2 (30\,-17\,11\,-24\,9)\n1. kolo
DTSTART;TZID=Europe/Berlin:20250324T180000
DTEND;TZID=Europe/Berlin:20250324T200000
LOCATION:UP Olomouc\, U sportovní haly 38 Olomouc - Lazce
SUMMARY:EX-Z-I: Olomouc-Šelmy
END:VEVENT
BEGIN:VEVENT
UID:39343037-6237-4165-b138-396339363061
DTSTAMP:20260421T102545Z
DESCRIPTION:2/21157 Olomouc - Liberec 3:2 (19\,19\,-19\,-22\,10)\n2. kolo
DTSTART;TZID=Europe/Berlin:20250402T180000
DTEND;TZID=Europe/Berlin:20250402T200000
LOCATION:UP Olomouc\, U sportovní haly 38 Olomouc - Lazce
SUMMARY:EX-Z-I: Olomouc-Liberec
END:VEVENT
BEGIN:VEVENT
UID:64626661-3939-4139-b533-333466326131
DTSTAMP:20260421T102545Z
DESCRIPTION:2/21161 Olomouc - Liberec 3:2 (22\,-29\,-21\,13\,6)\n2. kolo\; 
 TV-S
DTSTART;TZID=Europe/Berlin:20250408T180000
DTEND;TZID=Europe/Berlin:20250408T200000
LOCATION:UP Olomouc\, U sportovní haly 38 Olomouc - Lazce
SUMMARY:EX-Z-I: Olomouc-Liberec
END:VEVENT
BEGIN:VEVENT
UID:33346561-6630-4565-b365-363336313233
DTSTAMP:20260421T102545Z
DESCRIPTION:3/21168 Olomouc - Prostějov 3:2 (-17\,22\,-23\,21\,11)\nFinále\
 ; TV-S
DTSTART;TZID=Europe/Berlin:20250421T180000
DTEND;TZID=Europe/Berlin:20250421T200000
LOCATION:UP Olomouc\, U sportovní haly 38 Olomouc - Lazce
SUMMARY:EX-Z-I: Olomouc-Prostějov
END:VEVENT
BEGIN:VEVENT
UID:62343237-3735-4162-b838-313564613164
DTSTAMP:20260421T102545Z
DESCRIPTION:3/21172 Olomouc - Prostějov 0:3 (-14\,-25\,-19)\nFinále\; TV-S
DTSTART;TZID=Europe/Berlin:20250427T180000
DTEND;TZID=Europe/Berlin:20250427T200000
LOCATION:UP Olomouc\, U sportovní haly 38 Olomouc - Lazce
SUMMARY:EX-Z-I: Olomouc-Prostějov
END:VEVENT
BEGIN:VEVENT
UID:61613438-3138-4337-b331-663635386361
DTSTAMP:20260421T102545Z
DESCRIPTION:1/21141 Šelmy - Olomouc 2:3 (-15\,17\,21\,-23\,-13)\n1. kolo
DTSTART;TZID=Europe/Berlin:20250321T180000
DTEND;TZID=Europe/Berlin:20250321T200000
LOCATION:TJ Sokol Brno I\, Kounicova 686 Brno - Veveří
SUMMARY:EX-Z-I: Šelmy-Olomouc
END:VEVENT
BEGIN:VEVENT
UID:66343366-3434-4564-b361-356238316537
DTSTAMP:20260421T102545Z
DESCRIPTION:2/21159 Liberec - Olomouc 1:3 (-20\,-23\,21\,-12)\n2. kolo
DTSTART;TZID=Europe/Berlin:20250405T180000
DTEND;TZID=Europe/Berlin:20250405T200000
LOCATION:Dukla Liberec\, Jeronýmova 558 Liberec - Liberec VII-Horní Růžodol
SUMMARY:EX-Z-I: Liberec-Olomouc
END:VEVENT
BEGIN:VEVENT
UID:31326433-3064-4263-a461-356332363365
DTSTAMP:20260421T102545Z
DESCRIPTION:3/21166 Prostějov - Olomouc 3:1 (12\,-18\,15\,14)\nFinále\; TV-
 S
DTSTART;TZID=Europe/Berlin:20250417T180000
DTEND;TZID=Europe/Berlin:20250417T200000
LOCATION:Národní sportovní centrum\, Za velodromem 4187 Prostějov
SUMMARY:EX-Z-I: Prostějov-Olomouc
END:VEVENT
BEGIN:VEVENT
UID:32333464-3136-4236-a361-363038656533
DTSTAMP:20260421T102545Z
DESCRIPTION:3/21170 Prostějov - Olomouc 3:2 (16\,-23\,-22\,12\,13)\nFinále\
 ; TV-S
DTSTART;TZID=Europe/Berlin:20250424T180000
DTEND;TZID=Europe/Berlin:20250424T200000
LOCATION:Národní sportovní centrum\, Za velodromem 4187 Prostějov
SUMMARY:EX-Z-I: Prostějov-Olomouc
END:VEVENT
END:VCALENDAR
