BEGIN:VCALENDAR
VERSION:2.0
PRODID:-//VK Brno85815//NONSGML kigkonsult.se iCalcreator 2.41.80//
CALSCALE:GREGORIAN
UID:30326130-6132-4262-a264-393566623462
BEGIN:VEVENT
UID:65386237-3839-4433-a366-393866353832
DTSTAMP:20260425T183002Z
DESCRIPTION:2/12061 Brno - Kojetín 3:2 (-19\,-23\,16\,22\,10)
DTSTART;TZID=Europe/Berlin:20240927T190000
DTEND;TZID=Europe/Berlin:20240927T210000
LOCATION:Sportovní gymnázium Ludvíka Daňka\, Botanická 63 Brno - Ponava
SUMMARY:1-M-B: Brno-Kojetín
END:VEVENT
BEGIN:VEVENT
UID:32353837-6638-4839-a461-386365646266
DTSTAMP:20260425T183002Z
DESCRIPTION:4/12069 Brno - Bučovice 1:3 (-19\,23\,-20\,-20)
DTSTART;TZID=Europe/Berlin:20241011T190000
DTEND;TZID=Europe/Berlin:20241011T210000
LOCATION:Sportovní gymnázium Ludvíka Daňka\, Botanická 63 Brno - Ponava
SUMMARY:1-M-B: Brno-Bučovice
END:VEVENT
BEGIN:VEVENT
UID:62626436-6164-4037-a235-306432663630
DTSTAMP:20260425T183002Z
DESCRIPTION:6/12077 Brno - Hradec Králové 2:3 (23\,21\,-21\,-22\,-9)
DTSTART;TZID=Europe/Berlin:20241018T190000
DTEND;TZID=Europe/Berlin:20241018T210000
LOCATION:Sportovní gymnázium Ludvíka Daňka\, Botanická 63 Brno - Ponava
SUMMARY:1-M-B: Brno-Hradec Králové
END:VEVENT
BEGIN:VEVENT
UID:35656166-3235-4463-b631-333764386163
DTSTAMP:20260425T183002Z
DESCRIPTION:7/12081 Brno - Velké Meziříčí 3:2 (16\,23\,-30\,-17\,15)
DTSTART;TZID=Europe/Berlin:20241025T190000
DTEND;TZID=Europe/Berlin:20241025T210000
LOCATION:Sportovní gymnázium Ludvíka Daňka\, Botanická 63 Brno - Ponava
SUMMARY:1-M-B: Brno-Velké Meziříčí
END:VEVENT
BEGIN:VEVENT
UID:33323564-3363-4832-a364-613762303662
DTSTAMP:20260425T183002Z
DESCRIPTION:10/12093 Brno - Holubice 3:0 (20\,20\,18)
DTSTART;TZID=Europe/Berlin:20241108T190000
DTEND;TZID=Europe/Berlin:20241108T210000
LOCATION:Sportovní gymnázium Ludvíka Daňka\, Botanická 63 Brno - Ponava
SUMMARY:1-M-B: Brno-Holubice
END:VEVENT
BEGIN:VEVENT
UID:64663735-3135-4763-b836-633336303339
DTSTAMP:20260425T183002Z
DESCRIPTION:12/12101 Brno - Blue Ostrava B 3:0 (26\,23\,18)
DTSTART;TZID=Europe/Berlin:20241116T153000
DTEND;TZID=Europe/Berlin:20241116T173000
LOCATION:TJ Tesla Brno\, Halasovo náměstí 826 Brno - Lesná
SUMMARY:1-M-B: Brno-Blue Ostrava B
END:VEVENT
BEGIN:VEVENT
UID:66326130-3938-4839-b265-636439613233
DTSTAMP:20260425T183002Z
DESCRIPTION:3/12065 Holubice - Brno 1:3 (-23\,-17\,21\,-22)
DTSTART;TZID=Europe/Berlin:20241004T190000
DTEND;TZID=Europe/Berlin:20241004T210000
LOCATION:Sportovní hala Holubice\,  Holubice299
SUMMARY:1-M-B: Holubice-Brno
END:VEVENT
BEGIN:VEVENT
UID:33383035-6630-4461-b265-353232306562
DTSTAMP:20260425T183002Z
DESCRIPTION:5/12073 Blue Ostrava B - Brno 0:3 (-23\,-21\,-18)
DTSTART;TZID=Europe/Berlin:20241012T130000
DTEND;TZID=Europe/Berlin:20241012T150000
LOCATION:Sportovní hala Ostrava -Třebovice\, 5. května 5649 Ostrava - Třebo
 vice
SUMMARY:1-M-B: Blue Ostrava B-Brno
END:VEVENT
BEGIN:VEVENT
UID:63643939-3064-4335-b333-316465646265
DTSTAMP:20260425T183002Z
DESCRIPTION:9/12089 Kojetín - Brno 3:2 (-20\,-12\,19\,20\,11)
DTSTART;TZID=Europe/Berlin:20241101T190000
DTEND;TZID=Europe/Berlin:20241101T210000
LOCATION:Městská sportovní hala\, Hanusíkova 1476 Kojetín - Kojetín I-Město
SUMMARY:1-M-B: Kojetín-Brno
END:VEVENT
BEGIN:VEVENT
UID:65386565-3664-4231-b136-383539383438
DTSTAMP:20260425T183002Z
DESCRIPTION:11/12097 Bučovice - Brno 3:2 (15\,9\,-21\,-23\,11)
DTSTART;TZID=Europe/Berlin:20241115T190000
DTEND;TZID=Europe/Berlin:20241115T210000
LOCATION:ZŠ Bučovice 710\, Školní 710 Bučovice
SUMMARY:1-M-B: Bučovice-Brno
END:VEVENT
BEGIN:VEVENT
UID:37393839-3465-4536-b937-633762313732
DTSTAMP:20260425T183002Z
DESCRIPTION:13/12105 Hradec Králové - Brno 3:0 (19\,14\,19)
DTSTART;TZID=Europe/Berlin:20241122T190000
DTEND;TZID=Europe/Berlin:20241122T210000
LOCATION:TJ Slavia Hradec Králové\, Víta Nejedlého 1216 Hradec Králové
SUMMARY:1-M-B: Hradec Králové-Brno
END:VEVENT
BEGIN:VEVENT
UID:61346335-3236-4563-b937-663936313034
DTSTAMP:20260425T183002Z
DESCRIPTION:14/12109 Velké Meziříčí - Brno 2:3 (-16\,-12\,19\,17\,-10)
DTSTART;TZID=Europe/Berlin:20241129T193000
DTEND;TZID=Europe/Berlin:20241129T213000
LOCATION:ZŠ Komenského\, Komenského 1 Velké Meziříčí
SUMMARY:1-M-B: Velké Meziříčí-Brno
END:VEVENT
BEGIN:VEVENT
UID:66656435-6164-4361-b433-323635626430
DTSTAMP:20260425T183002Z
DESCRIPTION:2/12116 Brno - České Budějovice B 0:3 (-11\,-23\,-27)
DTSTART;TZID=Europe/Berlin:20241213T190000
DTEND;TZID=Europe/Berlin:20241213T210000
LOCATION:Sportovní gymnázium Ludvíka Daňka\, Botanická 63 Brno - Ponava
SUMMARY:1-M-I: Brno-České Budějovice B
END:VEVENT
BEGIN:VEVENT
UID:64363834-6236-4635-b937-373230323730
DTSTAMP:20260425T183002Z
DESCRIPTION:3/12121 Brno - ČZU Praha 3:0 (23\,19\,22)
DTSTART;TZID=Europe/Berlin:20241214T130000
DTEND;TZID=Europe/Berlin:20241214T150000
LOCATION:Sportovní gymnázium Ludvíka Daňka\, Botanická 63 Brno - Ponava
SUMMARY:1-M-I: Brno-ČZU Praha
END:VEVENT
BEGIN:VEVENT
UID:35303636-3330-4466-b734-326339623861
DTSTAMP:20260425T183002Z
DESCRIPTION:4/12123 Brno - Dobřichovice 0:3 (-24\,-20\,-18)
DTSTART;TZID=Europe/Berlin:20250110T190000
DTEND;TZID=Europe/Berlin:20250110T210000
LOCATION:Sportovní gymnázium Ludvíka Daňka\, Botanická 63 Brno - Ponava
SUMMARY:1-M-I: Brno-Dobřichovice
END:VEVENT
BEGIN:VEVENT
UID:35373237-3336-4231-a661-663062393534
DTSTAMP:20260425T183002Z
DESCRIPTION:1/12114 Dobřichovice - Brno 3:1 (19\,-22\,13\,17)
DTSTART;TZID=Europe/Berlin:20241206T170000
DTEND;TZID=Europe/Berlin:20241206T190000
LOCATION:BIOS\, Pražská 375 Dobřichovice
SUMMARY:1-M-I: Dobřichovice-Brno
END:VEVENT
BEGIN:VEVENT
UID:37333962-6132-4264-b962-323034373236
DTSTAMP:20260425T183002Z
DESCRIPTION:5/12125 České Budějovice B - Brno 3:2 (22\,-15\,22\,-22\,14)
DTSTART;TZID=Europe/Berlin:20250117T190000
DTEND;TZID=Europe/Berlin:20250117T210000
LOCATION:ZŠ Oskara Nedbala České Budějovice\, O. Nedbala 882 České Budějovi
 ce - České Budějovice 2
SUMMARY:1-M-I: České Budějovice B-Brno
END:VEVENT
BEGIN:VEVENT
UID:64343663-3762-4637-a664-666639636364
DTSTAMP:20260425T183002Z
DESCRIPTION:6/12130 ČZU Praha - Brno 3:0 (22\,19\,25)
DTSTART;TZID=Europe/Berlin:20250124T190000
DTEND;TZID=Europe/Berlin:20250124T210000
LOCATION:Sportcentrum Suchdol ČZU\, Sídlištní 1167 Praha - Suchdol
SUMMARY:1-M-I: ČZU Praha-Brno
END:VEVENT
BEGIN:VEVENT
UID:64313562-6635-4164-b265-333265333539
DTSTAMP:20260425T183002Z
DESCRIPTION:1/12203 Brno - Dobřichovice 0:3 (-19\,-15\,-15)\n1. kolo
DTSTART;TZID=Europe/Berlin:20250207T190000
DTEND;TZID=Europe/Berlin:20250207T210000
LOCATION:Sportovní gymnázium Ludvíka Daňka\, Botanická 63 Brno - Ponava
SUMMARY:1-M-III: Brno-Dobřichovice
END:VEVENT
BEGIN:VEVENT
UID:36666534-3736-4139-a138-333236646666
DTSTAMP:20260425T183002Z
DESCRIPTION:1/12195 Dobřichovice - Brno 3:0 (21\,9\,20)\n1. kolo
DTSTART;TZID=Europe/Berlin:20250131T190000
DTEND;TZID=Europe/Berlin:20250131T210000
LOCATION:BIOS\, Pražská 375 Dobřichovice
SUMMARY:1-M-III: Dobřichovice-Brno
END:VEVENT
BEGIN:VEVENT
UID:66333437-3137-4536-b638-313135343133
DTSTAMP:20260425T183002Z
DESCRIPTION:1/12199 Dobřichovice - Brno 3:0 (17\,15\,20)\n1. kolo
DTSTART;TZID=Europe/Berlin:20250201T170000
DTEND;TZID=Europe/Berlin:20250201T190000
LOCATION:BIOS\, Pražská 375 Dobřichovice
SUMMARY:1-M-III: Dobřichovice-Brno
END:VEVENT
END:VCALENDAR
