BEGIN:VCALENDAR
VERSION:2.0
PRODID:-//VK Lvice Praha85831//NONSGML kigkonsult.se iCalcreator 2.41.80//
CALSCALE:GREGORIAN
UID:35623436-3532-4737-b066-356533366532
BEGIN:VEVENT
UID:65323961-3864-4334-b637-316463323631
DTSTAMP:20260423T000346Z
DESCRIPTION:2/22063 Lvice Praha - Nusle 3:1 (-19\,17\,14\,20)
DTSTART;TZID=Europe/Berlin:20240914T170000
DTEND;TZID=Europe/Berlin:20240914T190000
LOCATION:ZŠ Balabenka\, náměstí Na Balabence 800 Praha - Libeň
SUMMARY:1-Z-B: Lvice Praha-Nusle
END:VEVENT
BEGIN:VEVENT
UID:37623666-6436-4034-a138-326233633732
DTSTAMP:20260423T000346Z
DESCRIPTION:4/22070 Lvice Praha - Prostějov B 3:0 (22\,23\,18)
DTSTART;TZID=Europe/Berlin:20240921T150000
DTEND;TZID=Europe/Berlin:20240921T170000
LOCATION:ZŠ Balabenka\, náměstí Na Balabence 800 Praha - Libeň
SUMMARY:1-Z-B: Lvice Praha-Prostějov B
END:VEVENT
BEGIN:VEVENT
UID:63316133-3131-4330-a431-306137316639
DTSTAMP:20260423T000346Z
DESCRIPTION:7/22084 Lvice Praha - KP Brno 3:0 (16\,24\,18)
DTSTART;TZID=Europe/Berlin:20241011T190000
DTEND;TZID=Europe/Berlin:20241011T210000
LOCATION:ZŠ Balabenka\, náměstí Na Balabence 800 Praha - Libeň
SUMMARY:1-Z-B: Lvice Praha-KP Brno
END:VEVENT
BEGIN:VEVENT
UID:36343661-3365-4631-b530-663030613563
DTSTAMP:20260423T000346Z
DESCRIPTION:8/22086 Lvice Praha - České Budějovice 1:3 (23\,-20\,-23\,-25)
DTSTART;TZID=Europe/Berlin:20241018T190000
DTEND;TZID=Europe/Berlin:20241018T210000
LOCATION:ZŠ Balabenka\, náměstí Na Balabence 800 Praha - Libeň
SUMMARY:1-Z-B: Lvice Praha-České Budějovice
END:VEVENT
BEGIN:VEVENT
UID:35393366-6464-4131-b163-343335306538
DTSTAMP:20260423T000346Z
DESCRIPTION:10/22095 Lvice Praha - Rudolfov 3:1 (-28\,19\,17\,24)
DTSTART;TZID=Europe/Berlin:20241101T190000
DTEND;TZID=Europe/Berlin:20241101T210000
LOCATION:ZŠ Balabenka\, náměstí Na Balabence 800 Praha - Libeň
SUMMARY:1-Z-B: Lvice Praha-Rudolfov
END:VEVENT
BEGIN:VEVENT
UID:37376432-3834-4262-a637-666536373164
DTSTAMP:20260423T000346Z
DESCRIPTION:13/22105 Lvice Praha - Orion Praha 3:0 (13\,17\,20)
DTSTART;TZID=Europe/Berlin:20241122T190000
DTEND;TZID=Europe/Berlin:20241122T210000
LOCATION:ZŠ Balabenka\, náměstí Na Balabence 800 Praha - Libeň
SUMMARY:1-Z-B: Lvice Praha-Orion Praha
END:VEVENT
BEGIN:VEVENT
UID:38366631-3366-4065-b437-396132343831
DTSTAMP:20260423T000346Z
DESCRIPTION:1/22058 České Budějovice - Lvice Praha 2:3 (-22\,19\,21\,-14\,-
 10)
DTSTART;TZID=Europe/Berlin:20240913T190000
DTEND;TZID=Europe/Berlin:20240913T210000
LOCATION:Sportovní hala\, Stromovka 1216 České Budějovice - České Budějovic
 e 2
SUMMARY:1-Z-B: České Budějovice-Lvice Praha
END:VEVENT
BEGIN:VEVENT
UID:31383566-3533-4035-b834-613566303030
DTSTAMP:20260423T000346Z
DESCRIPTION:3/22067 Rudolfov - Lvice Praha 0:3 (-21\,-20\,-14)
DTSTART;TZID=Europe/Berlin:20240920T190000
DTEND;TZID=Europe/Berlin:20240920T210000
LOCATION:Sportovní hala Rudolfov\, Adamovská 511 Rudolfov
SUMMARY:1-Z-B: Rudolfov-Lvice Praha
END:VEVENT
BEGIN:VEVENT
UID:36376532-3365-4031-a139-333130346336
DTSTAMP:20260423T000346Z
DESCRIPTION:6/22077 Orion Praha - Lvice Praha 3:1 (17\,16\,-20\,20)
DTSTART;TZID=Europe/Berlin:20241004T194500
DTEND;TZID=Europe/Berlin:20241004T214500
LOCATION:ZŠ Dolní Břežany\, Na Vršku 290 Dolní Břežany
SUMMARY:1-Z-B: Orion Praha-Lvice Praha
END:VEVENT
BEGIN:VEVENT
UID:30656238-3237-4530-a631-646138643565
DTSTAMP:20260423T000346Z
DESCRIPTION:9/22091 Nusle - Lvice Praha 2:3 (-15\,-20\,17\,24\,-9)
DTSTART;TZID=Europe/Berlin:20241025T180000
DTEND;TZID=Europe/Berlin:20241025T200000
LOCATION:TJ Sokol Nusle\, Na květnici 700 Praha - Nusle
SUMMARY:1-Z-B: Nusle-Lvice Praha
END:VEVENT
BEGIN:VEVENT
UID:33306364-3437-4137-a633-613337333566
DTSTAMP:20260423T000346Z
DESCRIPTION:11/22098 Prostějov B - Lvice Praha 3:1 (21\,-18\,23\,21)
DTSTART;TZID=Europe/Berlin:20241108T183000
DTEND;TZID=Europe/Berlin:20241108T203000
LOCATION:Národní sportovní centrum\, Za velodromem 4187 Prostějov
SUMMARY:1-Z-B: Prostějov B-Lvice Praha
END:VEVENT
BEGIN:VEVENT
UID:61336232-6263-4937-b664-626238613931
DTSTAMP:20260423T000346Z
DESCRIPTION:14/22112 KP Brno - Lvice Praha 3:2 (25\,-26\,-22\,25\,7)
DTSTART;TZID=Europe/Berlin:20241129T193000
DTEND;TZID=Europe/Berlin:20241129T213000
LOCATION:Sportovní gymnázium Ludvíka Daňka\, Botanická 63 Brno - Ponava
SUMMARY:1-Z-B: KP Brno-Lvice Praha
END:VEVENT
BEGIN:VEVENT
UID:35376464-3361-4637-b566-356335356135
DTSTAMP:20260423T000346Z
DESCRIPTION:2/20003 Lvice Praha - Šelmy 0:3 (-28\,-23\,-10)
DTSTART;TZID=Europe/Berlin:20241001T190000
DTEND;TZID=Europe/Berlin:20241001T210000
LOCATION:ZŠ Balabenka\, náměstí Na Balabence 800 Praha - Libeň
SUMMARY:CP-Z: Lvice Praha-Šelmy
END:VEVENT
BEGIN:VEVENT
UID:62323466-3333-4136-b735-623137643838
DTSTAMP:20260423T000346Z
DESCRIPTION:1/2 Plzeň - Lvice Praha 1:3 (22\,-21\,-15\,-16)
DTSTART;TZID=Europe/Berlin:20240907T133000
DTEND;TZID=Europe/Berlin:20240907T153000
LOCATION:Kladenská sportovní hala\, Sportovců 817 Kladno - Rozdělov
SUMMARY:CP-Z-A: Plzeň-Lvice Praha
END:VEVENT
BEGIN:VEVENT
UID:32393433-3339-4430-b538-303766653438
DTSTAMP:20260423T000346Z
DESCRIPTION:1/3 Kladno - Lvice Praha 1:3 (-23\,-20\,22\,-17)
DTSTART;TZID=Europe/Berlin:20240907T170000
DTEND;TZID=Europe/Berlin:20240907T190000
LOCATION:Kladenská sportovní hala\, Sportovců 817 Kladno - Rozdělov
SUMMARY:CP-Z-A: Kladno-Lvice Praha
END:VEVENT
BEGIN:VEVENT
UID:30386465-3466-4637-a434-303533366132
DTSTAMP:20260423T000346Z
DESCRIPTION:2/22118 Lvice Praha - Liberec B 0:3 (-22\,-24\,-19)
DTSTART;TZID=Europe/Berlin:20241213T190000
DTEND;TZID=Europe/Berlin:20241213T210000
LOCATION:ZŠ Balabenka\, náměstí Na Balabence 800 Praha - Libeň
SUMMARY:1-Z-I: Lvice Praha-Liberec B
END:VEVENT
BEGIN:VEVENT
UID:34633963-3666-4437-a164-373763643038
DTSTAMP:20260423T000346Z
DESCRIPTION:4/22122 Lvice Praha - NVC ČVS 0:3 (-19\,-21\,-14)
DTSTART;TZID=Europe/Berlin:20250122T183000
DTEND;TZID=Europe/Berlin:20250122T203000
LOCATION:Hala BIOS\, Jana Palacha 1840 Kladno
SUMMARY:1-Z-I: Lvice Praha-NVC ČVS
END:VEVENT
BEGIN:VEVENT
UID:31653235-3030-4365-b939-303134383766
DTSTAMP:20260423T000346Z
DESCRIPTION:6/22129 Lvice Praha - Plzeň 3:2 (21\,-23\,-22\,23\,10)
DTSTART;TZID=Europe/Berlin:20250124T190000
DTEND;TZID=Europe/Berlin:20250124T210000
LOCATION:ZŠ Balabenka\, náměstí Na Balabence 800 Praha - Libeň
SUMMARY:1-Z-I: Lvice Praha-Plzeň
END:VEVENT
BEGIN:VEVENT
UID:61616330-6663-4936-b063-633730646137
DTSTAMP:20260423T000346Z
DESCRIPTION:1/22113 NVC ČVS - Lvice Praha 3:2 (14\,-20\,15\,-20\,10)
DTSTART;TZID=Europe/Berlin:20250110T183000
DTEND;TZID=Europe/Berlin:20250110T203000
LOCATION:Hala BIOS\, Jana Palacha 1840 Kladno
SUMMARY:1-Z-I: NVC ČVS-Lvice Praha
END:VEVENT
BEGIN:VEVENT
UID:65623331-3630-4663-a366-306162313834
DTSTAMP:20260423T000346Z
DESCRIPTION:3/22120 Plzeň - Lvice Praha 1:3 (21\,-10\,-18\,-22)
DTSTART;TZID=Europe/Berlin:20241220T180000
DTEND;TZID=Europe/Berlin:20241220T200000
LOCATION:Městská sportovní hala  -  hala 2\, Úslavská 2357 Plzeň - Východní
  Předměstí
SUMMARY:1-Z-I: Plzeň-Lvice Praha
END:VEVENT
BEGIN:VEVENT
UID:37653565-3035-4935-a431-623931313461
DTSTAMP:20260423T000346Z
DESCRIPTION:5/22127 Liberec B - Lvice Praha 3:2 (17\,19\,-20\,-20\,9)
DTSTART;TZID=Europe/Berlin:20250117T190000
DTEND;TZID=Europe/Berlin:20250117T210000
LOCATION:Dukla Liberec\, Jeronýmova 558 Liberec - Liberec VII-Horní Růžodol
SUMMARY:1-Z-I: Liberec B-Lvice Praha
END:VEVENT
BEGIN:VEVENT
UID:33346634-3039-4162-b061-643538313634
DTSTAMP:20260423T000346Z
DESCRIPTION:1/22196 Lvice Praha - Nusle 3:0 (18\,23\,15)\n1. kolo
DTSTART;TZID=Europe/Berlin:20250207T190000
DTEND;TZID=Europe/Berlin:20250207T210000
LOCATION:ZŠ Balabenka\, náměstí Na Balabence 800 Praha - Libeň
SUMMARY:1-Z-III: Lvice Praha-Nusle
END:VEVENT
BEGIN:VEVENT
UID:66313138-3338-4933-a562-653030666262
DTSTAMP:20260423T000346Z
DESCRIPTION:1/22200 Lvice Praha - Nusle 3:1 (17\,17\,-16\,19)\n1. kolo
DTSTART;TZID=Europe/Berlin:20250208T180000
DTEND;TZID=Europe/Berlin:20250208T200000
LOCATION:ZŠ Balabenka\, náměstí Na Balabence 800 Praha - Libeň
SUMMARY:1-Z-III: Lvice Praha-Nusle
END:VEVENT
BEGIN:VEVENT
UID:61643537-3563-4039-a138-306535383632
DTSTAMP:20260423T000346Z
DESCRIPTION:2/22214 Lvice Praha - Hradec Králové 3:1 (-23\,22\,26\,29)\n2. 
 kolo
DTSTART;TZID=Europe/Berlin:20250228T190000
DTEND;TZID=Europe/Berlin:20250228T210000
LOCATION:ZŠ Balabenka\, náměstí Na Balabence 800 Praha - Libeň
SUMMARY:1-Z-III: Lvice Praha-Hradec Králové
END:VEVENT
BEGIN:VEVENT
UID:30316430-3135-4136-b230-306131323333
DTSTAMP:20260423T000346Z
DESCRIPTION:2/22216 Lvice Praha - Hradec Králové 3:1 (20\,13\,-23\,23)\n2. 
 kolo
DTSTART;TZID=Europe/Berlin:20250301T150000
DTEND;TZID=Europe/Berlin:20250301T170000
LOCATION:ZŠ Balabenka\, náměstí Na Balabence 800 Praha - Libeň
SUMMARY:1-Z-III: Lvice Praha-Hradec Králové
END:VEVENT
BEGIN:VEVENT
UID:64653036-3437-4166-a564-366131633038
DTSTAMP:20260423T000346Z
DESCRIPTION:3/22226 Lvice Praha - České Budějovice 3:0 (20\,22\,23)\nFinále
DTSTART;TZID=Europe/Berlin:20250328T190000
DTEND;TZID=Europe/Berlin:20250328T210000
LOCATION:ZŠ Balabenka\, náměstí Na Balabence 800 Praha - Libeň
SUMMARY:1-Z-III: Lvice Praha-České Budějovice
END:VEVENT
BEGIN:VEVENT
UID:38306465-6433-4539-a333-366164333732
DTSTAMP:20260423T000346Z
DESCRIPTION:3/22227 Lvice Praha - České Budějovice 3:0 (26\,21\,15)\nFinále
DTSTART;TZID=Europe/Berlin:20250329T170000
DTEND;TZID=Europe/Berlin:20250329T190000
LOCATION:ZŠ Balabenka\, náměstí Na Balabence 800 Praha - Libeň
SUMMARY:1-Z-III: Lvice Praha-České Budějovice
END:VEVENT
BEGIN:VEVENT
UID:64343239-3930-4438-a334-396664613136
DTSTAMP:20260423T000346Z
DESCRIPTION:1/22204 Nusle - Lvice Praha 2:3 (-24\,-21\,19\,21\,-10)\n1. kol
 o
DTSTART;TZID=Europe/Berlin:20250214T180000
DTEND;TZID=Europe/Berlin:20250214T200000
LOCATION:TJ Sokol Nusle\, Na květnici 700 Praha - Nusle
SUMMARY:1-Z-III: Nusle-Lvice Praha
END:VEVENT
BEGIN:VEVENT
UID:63636534-6462-4230-a438-346433346164
DTSTAMP:20260423T000346Z
DESCRIPTION:2/22218 Hradec Králové - Lvice Praha 2:3 (-22\,23\,-23\,16\,-12
 )\n2. kolo
DTSTART;TZID=Europe/Berlin:20250307T180000
DTEND;TZID=Europe/Berlin:20250307T200000
LOCATION:TJ Slavia Hradec Králové\, Víta Nejedlého 1216 Hradec Králové
SUMMARY:1-Z-III: Hradec Králové-Lvice Praha
END:VEVENT
BEGIN:VEVENT
UID:39393938-3332-4732-a337-633037623163
DTSTAMP:20260423T000346Z
DESCRIPTION:3/22223 České Budějovice - Lvice Praha 3:1 (17\,22\,-20\,26)\nF
 inále
DTSTART;TZID=Europe/Berlin:20250321T190000
DTEND;TZID=Europe/Berlin:20250321T210000
LOCATION:Sportovní hala\, Stromovka 1216 České Budějovice - České Budějovic
 e 2
SUMMARY:1-Z-III: České Budějovice-Lvice Praha
END:VEVENT
BEGIN:VEVENT
UID:66346533-3166-4262-b761-613433343539
DTSTAMP:20260423T000346Z
DESCRIPTION:3/22225 České Budějovice - Lvice Praha 0:3 (-26\,-21\,-22)\nFin
 ále
DTSTART;TZID=Europe/Berlin:20250322T130000
DTEND;TZID=Europe/Berlin:20250322T150000
LOCATION:Sportovní hala\, Stromovka 1216 České Budějovice - České Budějovic
 e 2
SUMMARY:1-Z-III: České Budějovice-Lvice Praha
END:VEVENT
BEGIN:VEVENT
UID:31653733-3762-4463-b030-656261316231
DTSTAMP:20260423T000346Z
DESCRIPTION:1/21176 Lvice Praha - Šternberk 0:3 (-25\,-25\,-21)
DTSTART;TZID=Europe/Berlin:20250411T190000
DTEND;TZID=Europe/Berlin:20250411T210000
LOCATION:Sportovní hala Lužiny\, Bellušova 1877 Praha - Stodůlky
SUMMARY:EX-Z-K: Lvice Praha-Šternberk
END:VEVENT
BEGIN:VEVENT
UID:38363734-3365-4034-a161-383538353863
DTSTAMP:20260423T000346Z
DESCRIPTION:1/21174 Šternberk - Lvice Praha 3:0 (17\,23\,16)
DTSTART;TZID=Europe/Berlin:20250404T190000
DTEND;TZID=Europe/Berlin:20250404T210000
LOCATION:Ecce Homo Šternberk\, Dvorská 2515 Šternberk
SUMMARY:EX-Z-K: Šternberk-Lvice Praha
END:VEVENT
BEGIN:VEVENT
UID:64326462-3865-4232-b461-396632326139
DTSTAMP:20260423T000346Z
DESCRIPTION:1/21175 Šternberk - Lvice Praha 3:0 (23\,23\,10)
DTSTART;TZID=Europe/Berlin:20250405T180000
DTEND;TZID=Europe/Berlin:20250405T200000
LOCATION:Ecce Homo Šternberk\, Dvorská 2515 Šternberk
SUMMARY:EX-Z-K: Šternberk-Lvice Praha
END:VEVENT
END:VCALENDAR
