BEGIN:VCALENDAR
VERSION:2.0
PRODID:-//VK Prostějov B85836//NONSGML kigkonsult.se iCalcreator 2.41.80//
CALSCALE:GREGORIAN
UID:36656131-6466-4366-b565-373134343364
BEGIN:VEVENT
UID:38623863-3264-4363-b761-613332386632
DTSTAMP:20260422T183050Z
DESCRIPTION:5/22075 Prostějov B - KP Brno 3:2 (14\,-20\,-13\,23\,8)
DTSTART;TZID=Europe/Berlin:20240927T180000
DTEND;TZID=Europe/Berlin:20240927T200000
LOCATION:Národní sportovní centrum\, Za velodromem 4187 Prostějov
SUMMARY:1-Z-B: Prostějov B-KP Brno
END:VEVENT
BEGIN:VEVENT
UID:31343464-6665-4362-b832-373261623130
DTSTAMP:20260422T183050Z
DESCRIPTION:7/22082 Prostějov B - Nusle 0:3 (-21\,-19\,-14)
DTSTART;TZID=Europe/Berlin:20241011T183000
DTEND;TZID=Europe/Berlin:20241011T203000
LOCATION:Národní sportovní centrum\, Za velodromem 4187 Prostějov
SUMMARY:1-Z-B: Prostějov B-Nusle
END:VEVENT
BEGIN:VEVENT
UID:35663239-3636-4165-b433-646330663361
DTSTAMP:20260422T183050Z
DESCRIPTION:8/22088 Prostějov B - Rudolfov 0:3 (-16\,-22\,-21)
DTSTART;TZID=Europe/Berlin:20241018T184500
DTEND;TZID=Europe/Berlin:20241018T204500
LOCATION:Národní sportovní centrum\, Za velodromem 4187 Prostějov
SUMMARY:1-Z-B: Prostějov B-Rudolfov
END:VEVENT
BEGIN:VEVENT
UID:63393264-3966-4565-b163-616535376538
DTSTAMP:20260422T183050Z
DESCRIPTION:9/22089 Prostějov B - Orion Praha 1:3 (23\,-23\,-20\,-17)
DTSTART;TZID=Europe/Berlin:20241025T183000
DTEND;TZID=Europe/Berlin:20241025T203000
LOCATION:Národní sportovní centrum\, Za velodromem 4187 Prostějov
SUMMARY:1-Z-B: Prostějov B-Orion Praha
END:VEVENT
BEGIN:VEVENT
UID:30373363-6665-4839-b232-366264643836
DTSTAMP:20260422T183050Z
DESCRIPTION:11/22098 Prostějov B - Lvice Praha 3:1 (21\,-18\,23\,21)
DTSTART;TZID=Europe/Berlin:20241108T183000
DTEND;TZID=Europe/Berlin:20241108T203000
LOCATION:Národní sportovní centrum\, Za velodromem 4187 Prostějov
SUMMARY:1-Z-B: Prostějov B-Lvice Praha
END:VEVENT
BEGIN:VEVENT
UID:34303530-6439-4331-a265-363862353265
DTSTAMP:20260422T183050Z
DESCRIPTION:13/22107 Prostějov B - České Budějovice 0:3 (-18\,-19\,-20)
DTSTART;TZID=Europe/Berlin:20241122T200000
DTEND;TZID=Europe/Berlin:20241122T220000
LOCATION:Národní sportovní centrum\, Za velodromem 4187 Prostějov
SUMMARY:1-Z-B: Prostějov B-České Budějovice
END:VEVENT
BEGIN:VEVENT
UID:31313433-3538-4233-a463-373032633265
DTSTAMP:20260422T183050Z
DESCRIPTION:1/22060 Rudolfov - Prostějov B 3:0 (17\,24\,22)
DTSTART;TZID=Europe/Berlin:20240913T190000
DTEND;TZID=Europe/Berlin:20240913T210000
LOCATION:Sportovní hala Rudolfov\, Adamovská 511 Rudolfov
SUMMARY:1-Z-B: Rudolfov-Prostějov B
END:VEVENT
BEGIN:VEVENT
UID:32323939-3334-4032-b738-366339613439
DTSTAMP:20260422T183050Z
DESCRIPTION:2/22061 Orion Praha - Prostějov B 0:3 (-20\,-19\,-16)
DTSTART;TZID=Europe/Berlin:20240914T130000
DTEND;TZID=Europe/Berlin:20240914T150000
LOCATION:ZŠ Dolní Břežany\, Na Vršku 290 Dolní Břežany
SUMMARY:1-Z-B: Orion Praha-Prostějov B
END:VEVENT
BEGIN:VEVENT
UID:30373761-3761-4738-b561-343834633931
DTSTAMP:20260422T183050Z
DESCRIPTION:4/22070 Lvice Praha - Prostějov B 3:0 (22\,23\,18)
DTSTART;TZID=Europe/Berlin:20240921T150000
DTEND;TZID=Europe/Berlin:20240921T170000
LOCATION:ZŠ Balabenka\, náměstí Na Balabence 800 Praha - Libeň
SUMMARY:1-Z-B: Lvice Praha-Prostějov B
END:VEVENT
BEGIN:VEVENT
UID:65333966-3564-4437-b036-333231353430
DTSTAMP:20260422T183050Z
DESCRIPTION:6/22079 České Budějovice - Prostějov B 3:0 (18\,9\,11)
DTSTART;TZID=Europe/Berlin:20241004T190000
DTEND;TZID=Europe/Berlin:20241004T210000
LOCATION:Sportovní hala\, Stromovka 1216 České Budějovice - České Budějovic
 e 2
SUMMARY:1-Z-B: České Budějovice-Prostějov B
END:VEVENT
BEGIN:VEVENT
UID:66613531-3535-4465-a136-343062306130
DTSTAMP:20260422T183050Z
DESCRIPTION:12/22103 KP Brno - Prostějov B 3:0 (17\,15\,10)
DTSTART;TZID=Europe/Berlin:20241115T193000
DTEND;TZID=Europe/Berlin:20241115T213000
LOCATION:Sportovní gymnázium Ludvíka Daňka\, Botanická 63 Brno - Ponava
SUMMARY:1-Z-B: KP Brno-Prostějov B
END:VEVENT
BEGIN:VEVENT
UID:30666539-3137-4164-b564-653961646630
DTSTAMP:20260422T183050Z
DESCRIPTION:14/22110 Nusle - Prostějov B 3:0 (20\,23\,11)
DTSTART;TZID=Europe/Berlin:20241129T180000
DTEND;TZID=Europe/Berlin:20241129T200000
LOCATION:TJ Sokol Nusle\, Na květnici 700 Praha - Nusle
SUMMARY:1-Z-B: Nusle-Prostějov B
END:VEVENT
BEGIN:VEVENT
UID:65666530-3430-4065-a633-613139373161
DTSTAMP:20260422T183050Z
DESCRIPTION:2/22137 Prostějov B - Hronov 1:3 (-27\,-18\,20\,-21)
DTSTART;TZID=Europe/Berlin:20241213T190000
DTEND;TZID=Europe/Berlin:20241213T210000
LOCATION:Sportcentrum - dům dětí a mládeže Prostějov\, Olympijská 4228 Pros
 tějov
SUMMARY:1-Z-II: Prostějov B-Hronov
END:VEVENT
BEGIN:VEVENT
UID:34376632-3834-4366-b432-663530633634
DTSTAMP:20260422T183050Z
DESCRIPTION:4/22143 Prostějov B - Střešovice 0:3 (-21\,-23\,-17)
DTSTART;TZID=Europe/Berlin:20241221T180000
DTEND;TZID=Europe/Berlin:20241221T200000
LOCATION:Sportcentrum - dům dětí a mládeže Prostějov\, Olympijská 4228 Pros
 tějov
SUMMARY:1-Z-II: Prostějov B-Střešovice
END:VEVENT
BEGIN:VEVENT
UID:39633264-6662-4161-b937-643062326239
DTSTAMP:20260422T183050Z
DESCRIPTION:5/22148 Prostějov B - Kladno 0:3 (-18\,-15\,-17)
DTSTART;TZID=Europe/Berlin:20250110T170000
DTEND;TZID=Europe/Berlin:20250110T190000
LOCATION:Kladenská sportovní hala\, Sportovců 817 Kladno - Rozdělov
SUMMARY:1-Z-II: Prostějov B-Kladno
END:VEVENT
BEGIN:VEVENT
UID:35656363-3165-4032-b732-666430306530
DTSTAMP:20260422T183050Z
DESCRIPTION:7/22158 Prostějov B - Hradec Králové 0:3 (-16\,-14\,-11)
DTSTART;TZID=Europe/Berlin:20250124T180000
DTEND;TZID=Europe/Berlin:20250124T200000
LOCATION:Národní sportovní centrum\, Za velodromem 4187 Prostějov
SUMMARY:1-Z-II: Prostějov B-Hradec Králové
END:VEVENT
BEGIN:VEVENT
UID:66613135-6235-4965-b035-636461386139
DTSTAMP:20260422T183050Z
DESCRIPTION:1/22132 Kladno - Prostějov B 3:0 (16\,25\,18)
DTSTART;TZID=Europe/Berlin:20250109T183000
DTEND;TZID=Europe/Berlin:20250109T203000
LOCATION:Kladenská sportovní hala\, Sportovců 817 Kladno - Rozdělov
SUMMARY:1-Z-II: Kladno-Prostějov B
END:VEVENT
BEGIN:VEVENT
UID:66373437-3839-4362-a230-333839656330
DTSTAMP:20260422T183050Z
DESCRIPTION:3/22142 Hradec Králové - Prostějov B 3:1 (-20\,22\,17\,16)
DTSTART;TZID=Europe/Berlin:20241220T190000
DTEND;TZID=Europe/Berlin:20241220T210000
LOCATION:TJ Slavia Hradec Králové\, Víta Nejedlého 1216 Hradec Králové
SUMMARY:1-Z-II: Hradec Králové-Prostějov B
END:VEVENT
BEGIN:VEVENT
UID:39356133-6638-4439-a164-643566343336
DTSTAMP:20260422T183050Z
DESCRIPTION:6/22153 Hronov - Prostějov B 3:0 (14\,18\,18)
DTSTART;TZID=Europe/Berlin:20250117T190000
DTEND;TZID=Europe/Berlin:20250117T210000
LOCATION:ZŠ Hronov\, Palackého 162 Hronov
SUMMARY:1-Z-II: Hronov-Prostějov B
END:VEVENT
BEGIN:VEVENT
UID:33356464-3033-4531-a638-323262393539
DTSTAMP:20260422T183050Z
DESCRIPTION:8/22159 Střešovice - Prostějov B 3:0 (17\,17\,20)
DTSTART;TZID=Europe/Berlin:20250131T180000
DTEND;TZID=Europe/Berlin:20250131T200000
LOCATION:TJ Tatran Střešovice\, Sibeliova 368 Praha - Střešovice
SUMMARY:1-Z-II: Střešovice-Prostějov B
END:VEVENT
BEGIN:VEVENT
UID:61336161-3266-4263-b937-396466666239
DTSTAMP:20260422T183050Z
DESCRIPTION:2/22167 Prostějov B - Rudolfov 3:0 (14\,25\,23)
DTSTART;TZID=Europe/Berlin:20250308T123000
DTEND;TZID=Europe/Berlin:20250308T143000
LOCATION:Národní sportovní centrum\, Za velodromem 4187 Prostějov
SUMMARY:1-Z-IV: Prostějov B-Rudolfov
END:VEVENT
BEGIN:VEVENT
UID:63313732-6266-4437-a136-356336313365
DTSTAMP:20260422T183050Z
DESCRIPTION:5/22177 Prostějov B - Hronov 1:3 (-21\,19\,-16\,-22)
DTSTART;TZID=Europe/Berlin:20250301T133000
DTEND;TZID=Europe/Berlin:20250301T153000
LOCATION:Národní sportovní centrum\, Za velodromem 4187 Prostějov
SUMMARY:1-Z-IV: Prostějov B-Hronov
END:VEVENT
BEGIN:VEVENT
UID:32616639-3535-4637-a330-323036316631
DTSTAMP:20260422T183050Z
DESCRIPTION:6/22179 Prostějov B - Orion Praha 3:0 (23\,26\,18)
DTSTART;TZID=Europe/Berlin:20250307T180000
DTEND;TZID=Europe/Berlin:20250307T200000
LOCATION:Národní sportovní centrum\, Za velodromem 4187 Prostějov
SUMMARY:1-Z-IV: Prostějov B-Orion Praha
END:VEVENT
BEGIN:VEVENT
UID:32643331-3336-4332-b032-663734366666
DTSTAMP:20260422T183050Z
DESCRIPTION:8/22186 Prostějov B - KP Brno 0:3 (-14\,-22\,-19)
DTSTART;TZID=Europe/Berlin:20250322T150000
DTEND;TZID=Europe/Berlin:20250322T170000
LOCATION:Národní sportovní centrum\, Za velodromem 4187 Prostějov
SUMMARY:1-Z-IV: Prostějov B-KP Brno
END:VEVENT
BEGIN:VEVENT
UID:34313935-6134-4831-a363-303365303262
DTSTAMP:20260422T183050Z
DESCRIPTION:1/22164 Orion Praha - Prostějov B 3:0 (23\,24\,19)
DTSTART;TZID=Europe/Berlin:20250207T181500
DTEND;TZID=Europe/Berlin:20250207T201500
LOCATION:ZŠ Dolní Břežany\, Na Vršku 290 Dolní Břežany
SUMMARY:1-Z-IV: Orion Praha-Prostějov B
END:VEVENT
BEGIN:VEVENT
UID:66356535-6663-4430-a365-313864656235
DTSTAMP:20260422T183050Z
DESCRIPTION:3/22171 KP Brno - Prostějov B 3:0 (20\,9\,15)
DTSTART;TZID=Europe/Berlin:20250311T193000
DTEND;TZID=Europe/Berlin:20250311T213000
LOCATION:Sportovní gymnázium Ludvíka Daňka\, Botanická 63 Brno - Ponava
SUMMARY:1-Z-IV: KP Brno-Prostějov B
END:VEVENT
BEGIN:VEVENT
UID:37343266-6363-4437-b633-343937303630
DTSTAMP:20260422T183050Z
DESCRIPTION:7/22182 Rudolfov - Prostějov B 3:1 (23\,15\,-22\,18)
DTSTART;TZID=Europe/Berlin:20250321T190000
DTEND;TZID=Europe/Berlin:20250321T210000
LOCATION:Sportovní hala Rudolfov\, Adamovská 511 Rudolfov
SUMMARY:1-Z-IV: Rudolfov-Prostějov B
END:VEVENT
BEGIN:VEVENT
UID:30376366-3636-4939-b638-353865303164
DTSTAMP:20260422T183050Z
DESCRIPTION:10/22192 Hronov - Prostějov B 2:3 (21\,-21\,-24\,14\,-12)
DTSTART;TZID=Europe/Berlin:20250329T173000
DTEND;TZID=Europe/Berlin:20250329T193000
LOCATION:ZŠ Hronov\, Palackého 162 Hronov
SUMMARY:1-Z-IV: Hronov-Prostějov B
END:VEVENT
BEGIN:VEVENT
UID:61393664-3630-4062-a637-373031623436
DTSTAMP:20260422T183050Z
DESCRIPTION:1/2 Prostějov B - Junior 0:3 (-23\,-9\,-22)
DTSTART;TZID=Europe/Berlin:20250412T110000
DTEND;TZID=Europe/Berlin:20250412T130000
LOCATION:ZŠ Dolní Břežany\, Na Vršku 290 Dolní Břežany
SUMMARY:1-Z-K: Prostějov B-Junior
END:VEVENT
BEGIN:VEVENT
UID:30303337-3938-4664-b735-653666326431
DTSTAMP:20260422T183050Z
DESCRIPTION:2/9 Prostějov B - Stará Bělá 3:1 (31\,-22\,14\,18)
DTSTART;TZID=Europe/Berlin:20250413T150000
DTEND;TZID=Europe/Berlin:20250413T170000
LOCATION:ZŠ Dolní Břežany\, Na Vršku 290 Dolní Břežany
SUMMARY:1-Z-K: Prostějov B-Stará Bělá
END:VEVENT
BEGIN:VEVENT
UID:62363638-3236-4233-b436-616465663036
DTSTAMP:20260422T183050Z
DESCRIPTION:1/4 Orion Praha - Prostějov B 3:1 (23\,18\,-20\,17)
DTSTART;TZID=Europe/Berlin:20250412T150000
DTEND;TZID=Europe/Berlin:20250412T170000
LOCATION:ZŠ Dolní Břežany\, Na Vršku 290 Dolní Břežany
SUMMARY:1-Z-K: Orion Praha-Prostějov B
END:VEVENT
BEGIN:VEVENT
UID:33663038-3164-4664-b066-346137343139
DTSTAMP:20260422T183050Z
DESCRIPTION:2/6 Kralupy - Prostějov B 0:3 (-23\,-24\,-11)
DTSTART;TZID=Europe/Berlin:20250413T090000
DTEND;TZID=Europe/Berlin:20250413T110000
LOCATION:ZŠ Dolní Břežany\, Na Vršku 290 Dolní Břežany
SUMMARY:1-Z-K: Kralupy-Prostějov B
END:VEVENT
END:VCALENDAR
