BEGIN:VCALENDAR
VERSION:2.0
PRODID:-//VSK VŠB - TU Ostrava85839//NONSGML kigkonsult.se iCalcreator 2.41.80//
CALSCALE:GREGORIAN
UID:66643165-3736-4663-a466-306330303133
BEGIN:VEVENT
UID:38346435-6330-4639-b266-336434366162
DTSTAMP:20260422T183132Z
DESCRIPTION:1/4 VŠB-TU Ostrava - Volejbal Ostrava 1:3 (-17\,-22\,22\,-17)
DTSTART;TZID=Europe/Berlin:20240928T100000
DTEND;TZID=Europe/Berlin:20240928T120000
LOCATION:Sportovní hala VŠB-TUO\, Studentská 6175 Ostrava - Poruba
SUMMARY:2-M-C: VŠB-TU Ostrava-Volejbal Ostrava
END:VEVENT
BEGIN:VEVENT
UID:62666533-6235-4532-a432-666366396234
DTSTAMP:20260422T183132Z
DESCRIPTION:2/9 VŠB-TU Ostrava - Volejbal Ostrava 3:2 (24\,21\,-20\,-20\,18
 )
DTSTART;TZID=Europe/Berlin:20240928T140000
DTEND;TZID=Europe/Berlin:20240928T160000
LOCATION:Sportovní hala VŠB-TUO\, Studentská 6175 Ostrava - Poruba
SUMMARY:2-M-C: VŠB-TU Ostrava-Volejbal Ostrava
END:VEVENT
BEGIN:VEVENT
UID:37316665-6630-4239-a237-623664336461
DTSTAMP:20260422T183132Z
DESCRIPTION:5/23 VŠB-TU Ostrava - Nový Jičín 0:3 (-17\,-20\,-18)
DTSTART;TZID=Europe/Berlin:20241019T110000
DTEND;TZID=Europe/Berlin:20241019T130000
LOCATION:Sportovní hala VŠB-TUO\, Studentská 6175 Ostrava - Poruba
SUMMARY:2-M-C: VŠB-TU Ostrava-Nový Jičín
END:VEVENT
BEGIN:VEVENT
UID:30353736-3938-4635-a239-643433343066
DTSTAMP:20260422T183132Z
DESCRIPTION:6/28 VŠB-TU Ostrava - Nový Jičín 3:2 (-23\,23\,22\,-26\,9)
DTSTART;TZID=Europe/Berlin:20241019T150000
DTEND;TZID=Europe/Berlin:20241019T170000
LOCATION:Sportovní hala VŠB-TUO\, Studentská 6175 Ostrava - Poruba
SUMMARY:2-M-C: VŠB-TU Ostrava-Nový Jičín
END:VEVENT
BEGIN:VEVENT
UID:38633765-3136-4137-b131-356363613135
DTSTAMP:20260422T183132Z
DESCRIPTION:9/42 VŠB-TU Ostrava - Šlapanice 0:3 (-18\,-19\,-12)
DTSTART;TZID=Europe/Berlin:20241109T110000
DTEND;TZID=Europe/Berlin:20241109T130000
LOCATION:Sportovní hala VŠB-TUO\, Studentská 6175 Ostrava - Poruba
SUMMARY:2-M-C: VŠB-TU Ostrava-Šlapanice
END:VEVENT
BEGIN:VEVENT
UID:38316434-6534-4762-b831-636665616133
DTSTAMP:20260422T183132Z
DESCRIPTION:10/47 VŠB-TU Ostrava - Šlapanice 0:3 (-20\,-14\,-16)
DTSTART;TZID=Europe/Berlin:20241109T150000
DTEND;TZID=Europe/Berlin:20241109T170000
LOCATION:Sportovní hala VŠB-TUO\, Studentská 6175 Ostrava - Poruba
SUMMARY:2-M-C: VŠB-TU Ostrava-Šlapanice
END:VEVENT
BEGIN:VEVENT
UID:37633835-3863-4434-a161-333831386663
DTSTAMP:20260422T183132Z
DESCRIPTION:13/61 VŠB-TU Ostrava - Drásov 2:3 (-21\,27\,21\,-21\,-15)
DTSTART;TZID=Europe/Berlin:20250223T100000
DTEND;TZID=Europe/Berlin:20250223T120000
LOCATION:Sportovní hala VŠB-TUO\, Studentská 6175 Ostrava - Poruba
SUMMARY:2-M-C: VŠB-TU Ostrava-Drásov
END:VEVENT
BEGIN:VEVENT
UID:34356632-3431-4536-b461-326330376131
DTSTAMP:20260422T183132Z
DESCRIPTION:14/66 VŠB-TU Ostrava - Drásov 1:3 (23\,-26\,-20\,-22)
DTSTART;TZID=Europe/Berlin:20250223T140000
DTEND;TZID=Europe/Berlin:20250223T160000
LOCATION:Sportovní hala VŠB-TUO\, Studentská 6175 Ostrava - Poruba
SUMMARY:2-M-C: VŠB-TU Ostrava-Drásov
END:VEVENT
BEGIN:VEVENT
UID:36623964-6166-4238-a264-643837663333
DTSTAMP:20260422T183132Z
DESCRIPTION:15/75 VŠB-TU Ostrava - Kojetín B 3:1 (-19\,20\,20\,19)
DTSTART;TZID=Europe/Berlin:20241207T100000
DTEND;TZID=Europe/Berlin:20241207T120000
LOCATION:Sportovní hala VŠB-TUO\, Studentská 6175 Ostrava - Poruba
SUMMARY:2-M-C: VŠB-TU Ostrava-Kojetín B
END:VEVENT
BEGIN:VEVENT
UID:61303738-3262-4764-a634-313932646636
DTSTAMP:20260422T183132Z
DESCRIPTION:16/80 VŠB-TU Ostrava - Kojetín B 3:2 (14\,-13\,-22\,13\,6)
DTSTART;TZID=Europe/Berlin:20241207T140000
DTEND;TZID=Europe/Berlin:20241207T160000
LOCATION:Sportovní hala VŠB-TUO\, Studentská 6175 Ostrava - Poruba
SUMMARY:2-M-C: VŠB-TU Ostrava-Kojetín B
END:VEVENT
BEGIN:VEVENT
UID:62613237-3062-4366-a635-653566646130
DTSTAMP:20260422T183132Z
DESCRIPTION:21/103 VŠB-TU Ostrava - Letovice 0:3 (-17\,-22\,-21)
DTSTART;TZID=Europe/Berlin:20250118T100000
DTEND;TZID=Europe/Berlin:20250118T120000
LOCATION:Sportovní hala VŠB-TUO\, Studentská 6175 Ostrava - Poruba
SUMMARY:2-M-C: VŠB-TU Ostrava-Letovice
END:VEVENT
BEGIN:VEVENT
UID:35356139-3466-4161-b235-336434663535
DTSTAMP:20260422T183132Z
DESCRIPTION:22/108 VŠB-TU Ostrava - Letovice 0:3 (-19\,-14\,-21)
DTSTART;TZID=Europe/Berlin:20250118T140000
DTEND;TZID=Europe/Berlin:20250118T160000
LOCATION:Sportovní hala VŠB-TUO\, Studentská 6175 Ostrava - Poruba
SUMMARY:2-M-C: VŠB-TU Ostrava-Letovice
END:VEVENT
BEGIN:VEVENT
UID:62373034-3934-4039-b166-366561633465
DTSTAMP:20260422T183132Z
DESCRIPTION:25/124 VŠB-TU Ostrava - Staré Město 1:3 (-14\,-15\,19\,-20)
DTSTART;TZID=Europe/Berlin:20250201T110000
DTEND;TZID=Europe/Berlin:20250201T130000
LOCATION:Sportovní hala VŠB-TUO\, Studentská 6175 Ostrava - Poruba
SUMMARY:2-M-C: VŠB-TU Ostrava-Staré Město
END:VEVENT
BEGIN:VEVENT
UID:31343263-3836-4533-a333-366434313230
DTSTAMP:20260422T183132Z
DESCRIPTION:26/129 VŠB-TU Ostrava - Staré Město 0:3 (-20\,-15\,-20)
DTSTART;TZID=Europe/Berlin:20250201T150000
DTEND;TZID=Europe/Berlin:20250201T170000
LOCATION:Sportovní hala VŠB-TUO\, Studentská 6175 Ostrava - Poruba
SUMMARY:2-M-C: VŠB-TU Ostrava-Staré Město
END:VEVENT
BEGIN:VEVENT
UID:30633762-6538-4363-b435-666261623532
DTSTAMP:20260422T183132Z
DESCRIPTION:29/145 VŠB-TU Ostrava - Brno - jih 0:3 (-18\,-16\,-20)
DTSTART;TZID=Europe/Berlin:20250215T110000
DTEND;TZID=Europe/Berlin:20250215T130000
LOCATION:Sportovní hala VŠB-TUO\, Studentská 6175 Ostrava - Poruba
SUMMARY:2-M-C: VŠB-TU Ostrava-Brno - jih
END:VEVENT
BEGIN:VEVENT
UID:62383830-3434-4137-b132-623765663861
DTSTAMP:20260422T183132Z
DESCRIPTION:30/150 VŠB-TU Ostrava - Brno - jih 0:3 (-21\,-24\,-16)
DTSTART;TZID=Europe/Berlin:20250215T150000
DTEND;TZID=Europe/Berlin:20250215T170000
LOCATION:Sportovní hala VŠB-TUO\, Studentská 6175 Ostrava - Poruba
SUMMARY:2-M-C: VŠB-TU Ostrava-Brno - jih
END:VEVENT
BEGIN:VEVENT
UID:33613064-6138-4063-b032-366362326161
DTSTAMP:20260422T183132Z
DESCRIPTION:35/172 VŠB-TU Ostrava - Kometa 0:3 (-18\,-20\,-21)
DTSTART;TZID=Europe/Berlin:20250315T110000
DTEND;TZID=Europe/Berlin:20250315T130000
LOCATION:Sportovní hala VŠB-TUO\, Studentská 6175 Ostrava - Poruba
SUMMARY:2-M-C: VŠB-TU Ostrava-Kometa
END:VEVENT
BEGIN:VEVENT
UID:31313066-6362-4161-b537-613439323632
DTSTAMP:20260422T183132Z
DESCRIPTION:36/177 VŠB-TU Ostrava - Kometa 0:3 (-14\,-18\,-17)
DTSTART;TZID=Europe/Berlin:20250315T150000
DTEND;TZID=Europe/Berlin:20250315T170000
LOCATION:Sportovní hala VŠB-TUO\, Studentská 6175 Ostrava - Poruba
SUMMARY:2-M-C: VŠB-TU Ostrava-Kometa
END:VEVENT
BEGIN:VEVENT
UID:35316132-6139-4766-a132-626566383236
DTSTAMP:20260422T183132Z
DESCRIPTION:3/13 Letovice - VŠB-TU Ostrava 2:3 (-21\,-20\,27\,18\,-8)
DTSTART;TZID=Europe/Berlin:20241012T100000
DTEND;TZID=Europe/Berlin:20241012T120000
LOCATION:Sportovní hala Letovice\, V zahradách 831 Letovice
SUMMARY:2-M-C: Letovice-VŠB-TU Ostrava
END:VEVENT
BEGIN:VEVENT
UID:37666232-6439-4663-b338-373036633163
DTSTAMP:20260422T183132Z
DESCRIPTION:4/18 Letovice - VŠB-TU Ostrava 0:3 (-18\,-23\,-20)
DTSTART;TZID=Europe/Berlin:20241012T140000
DTEND;TZID=Europe/Berlin:20241012T160000
LOCATION:Sportovní hala Letovice\, V zahradách 831 Letovice
SUMMARY:2-M-C: Letovice-VŠB-TU Ostrava
END:VEVENT
BEGIN:VEVENT
UID:38386435-6665-4664-a534-393831366239
DTSTAMP:20260422T183132Z
DESCRIPTION:7/34 Staré Město - VŠB-TU Ostrava 3:0 (18\,21\,29)
DTSTART;TZID=Europe/Berlin:20241102T090000
DTEND;TZID=Europe/Berlin:20241102T110000
LOCATION:Městská sportovní hala Širůch\, Nad Hřištěm 1921 Staré Město
SUMMARY:2-M-C: Staré Město-VŠB-TU Ostrava
END:VEVENT
BEGIN:VEVENT
UID:62613435-6332-4638-b861-363563303138
DTSTAMP:20260422T183132Z
DESCRIPTION:8/39 Staré Město - VŠB-TU Ostrava 3:1 (19\,16\,-13\,22)
DTSTART;TZID=Europe/Berlin:20241102T120000
DTEND;TZID=Europe/Berlin:20241102T140000
LOCATION:Městská sportovní hala Širůch\, Nad Hřištěm 1921 Staré Město
SUMMARY:2-M-C: Staré Město-VŠB-TU Ostrava
END:VEVENT
BEGIN:VEVENT
UID:65356133-6566-4735-b436-616666396561
DTSTAMP:20260422T183132Z
DESCRIPTION:11/55 Brno - jih - VŠB-TU Ostrava 3:0 (26\,17\,22)
DTSTART;TZID=Europe/Berlin:20241116T110000
DTEND;TZID=Europe/Berlin:20241116T130000
LOCATION:ZŠ Tuháčkova\, Tuháčkova 23 Brno - Komárov
SUMMARY:2-M-C: Brno - jih-VŠB-TU Ostrava
END:VEVENT
BEGIN:VEVENT
UID:64346236-6162-4531-a266-646430346635
DTSTAMP:20260422T183132Z
DESCRIPTION:12/60 Brno - jih - VŠB-TU Ostrava 3:0 (14\,21\,13)
DTSTART;TZID=Europe/Berlin:20241116T150000
DTEND;TZID=Europe/Berlin:20241116T170000
LOCATION:ZŠ Tuháčkova\, Tuháčkova 23 Brno - Komárov
SUMMARY:2-M-C: Brno - jih-VŠB-TU Ostrava
END:VEVENT
BEGIN:VEVENT
UID:66333834-3364-4531-b330-376265646439
DTSTAMP:20260422T183132Z
DESCRIPTION:17/82 Kometa - VŠB-TU Ostrava 3:0 (9\,18\,14)
DTSTART;TZID=Europe/Berlin:20241214T100000
DTEND;TZID=Europe/Berlin:20241214T120000
LOCATION:SKP Kometa Brno\, Bauerova 321 Brno - Pisárky
SUMMARY:2-M-C: Kometa-VŠB-TU Ostrava
END:VEVENT
BEGIN:VEVENT
UID:32343438-3630-4135-a235-303337386439
DTSTAMP:20260422T183132Z
DESCRIPTION:18/87 Kometa - VŠB-TU Ostrava 3:1 (-25\,18\,18\,20)
DTSTART;TZID=Europe/Berlin:20241214T140000
DTEND;TZID=Europe/Berlin:20241214T160000
LOCATION:SKP Kometa Brno\, Bauerova 321 Brno - Pisárky
SUMMARY:2-M-C: Kometa-VŠB-TU Ostrava
END:VEVENT
BEGIN:VEVENT
UID:39363838-6339-4136-a532-356531393263
DTSTAMP:20260422T183132Z
DESCRIPTION:19/94 Volejbal Ostrava - VŠB-TU Ostrava 3:0 (22\,18\,15)
DTSTART;TZID=Europe/Berlin:20250111T100000
DTEND;TZID=Europe/Berlin:20250111T120000
LOCATION:Campus Ostravské univerzity\,  Ostrava - Moravská Ostrava3397
SUMMARY:2-M-C: Volejbal Ostrava-VŠB-TU Ostrava
END:VEVENT
BEGIN:VEVENT
UID:35306261-6162-4865-b635-376234326535
DTSTAMP:20260422T183132Z
DESCRIPTION:20/99 Volejbal Ostrava - VŠB-TU Ostrava 3:0 (14\,21\,17)
DTSTART;TZID=Europe/Berlin:20250111T140000
DTEND;TZID=Europe/Berlin:20250111T160000
LOCATION:Campus Ostravské univerzity\,  Ostrava - Moravská Ostrava3397
SUMMARY:2-M-C: Volejbal Ostrava-VŠB-TU Ostrava
END:VEVENT
BEGIN:VEVENT
UID:38353564-6264-4466-b762-363833336537
DTSTAMP:20260422T183132Z
DESCRIPTION:23/113 Nový Jičín - VŠB-TU Ostrava 3:0 (20\,15\,18)
DTSTART;TZID=Europe/Berlin:20250125T100000
DTEND;TZID=Europe/Berlin:20250125T120000
LOCATION:Hala ABC\, Purkyňova 116 Nový Jičín
SUMMARY:2-M-C: Nový Jičín-VŠB-TU Ostrava
END:VEVENT
BEGIN:VEVENT
UID:61643336-3132-4632-b433-666636313437
DTSTAMP:20260422T183132Z
DESCRIPTION:24/118 Nový Jičín - VŠB-TU Ostrava 3:0 (19\,16\,19)
DTSTART;TZID=Europe/Berlin:20250125T140000
DTEND;TZID=Europe/Berlin:20250125T160000
LOCATION:Hala ABC\, Purkyňova 116 Nový Jičín
SUMMARY:2-M-C: Nový Jičín-VŠB-TU Ostrava
END:VEVENT
BEGIN:VEVENT
UID:34363964-3337-4435-a135-313033633164
DTSTAMP:20260422T183132Z
DESCRIPTION:27/132 Šlapanice - VŠB-TU Ostrava 3:0 (23\,10\,17)
DTSTART;TZID=Europe/Berlin:20250208T110000
DTEND;TZID=Europe/Berlin:20250208T130000
LOCATION:Hala TJ Sokol Šlapanice\, Smetanova 1662 Šlapanice
SUMMARY:2-M-C: Šlapanice-VŠB-TU Ostrava
END:VEVENT
BEGIN:VEVENT
UID:30363237-3139-4731-b435-646339333361
DTSTAMP:20260422T183132Z
DESCRIPTION:28/137 Šlapanice - VŠB-TU Ostrava 3:0 (15\,10\,23)
DTSTART;TZID=Europe/Berlin:20250208T150000
DTEND;TZID=Europe/Berlin:20250208T170000
LOCATION:Hala TJ Sokol Šlapanice\, Smetanova 1662 Šlapanice
SUMMARY:2-M-C: Šlapanice-VŠB-TU Ostrava
END:VEVENT
BEGIN:VEVENT
UID:39653765-6638-4239-b232-646237333064
DTSTAMP:20260422T183132Z
DESCRIPTION:31/151 Drásov - VŠB-TU Ostrava 3:0 (20\,20\,22)
DTSTART;TZID=Europe/Berlin:20250301T100000
DTEND;TZID=Europe/Berlin:20250301T120000
LOCATION:Hala u ZŠ TGM Drásov\, Školní 167 Drásov
SUMMARY:2-M-C: Drásov-VŠB-TU Ostrava
END:VEVENT
BEGIN:VEVENT
UID:38623935-3939-4763-b265-656465393631
DTSTAMP:20260422T183132Z
DESCRIPTION:32/156 Drásov - VŠB-TU Ostrava 3:2 (17\,-21\,-20\,16\,14)
DTSTART;TZID=Europe/Berlin:20250301T140000
DTEND;TZID=Europe/Berlin:20250301T160000
LOCATION:Hala u ZŠ TGM Drásov\, Školní 167 Drásov
SUMMARY:2-M-C: Drásov-VŠB-TU Ostrava
END:VEVENT
BEGIN:VEVENT
UID:33313864-3439-4165-a434-353237336239
DTSTAMP:20260422T183132Z
DESCRIPTION:33/165 Kojetín B - VŠB-TU Ostrava 3:1 (27\,-24\,19\,18)
DTSTART;TZID=Europe/Berlin:20250308T100000
DTEND;TZID=Europe/Berlin:20250308T120000
LOCATION:Tělocvična ZŠ\, Velká Dlážka 914 Přerov - Přerov I-Město
SUMMARY:2-M-C: Kojetín B-VŠB-TU Ostrava
END:VEVENT
BEGIN:VEVENT
UID:64306365-3163-4437-a333-373935363537
DTSTAMP:20260422T183132Z
DESCRIPTION:34/170 Kojetín B - VŠB-TU Ostrava 3:0 (19\,13\,22)
DTSTART;TZID=Europe/Berlin:20250308T140000
DTEND;TZID=Europe/Berlin:20250308T160000
LOCATION:Tělocvična ZŠ\, Velká Dlážka 914 Přerov - Přerov I-Město
SUMMARY:2-M-C: Kojetín B-VŠB-TU Ostrava
END:VEVENT
END:VCALENDAR
