BEGIN:VCALENDAR
VERSION:2.0
PRODID:-//TJ Kralupy85877//NONSGML kigkonsult.se iCalcreator 2.41.80//
CALSCALE:GREGORIAN
UID:65646136-3233-4931-b937-663730616464
BEGIN:VEVENT
UID:66303734-3932-4637-a433-653533343662
DTSTAMP:20260422T183209Z
DESCRIPTION:1/2 Kralupy - NVC ČVS 3:0 (20\,19\,22)
DTSTART;TZID=Europe/Berlin:20241005T090000
DTEND;TZID=Europe/Berlin:20241005T110000
LOCATION:TJ KRALUPY\, z.s.\, Gen. Klapálka 1029 Kralupy nad Vltavou
SUMMARY:2-Z-A: Kralupy-NVC ČVS
END:VEVENT
BEGIN:VEVENT
UID:66316332-3762-4433-b238-383830666563
DTSTAMP:20260422T183209Z
DESCRIPTION:2/7 Kralupy - NVC ČVS 3:1 (-19\,16\,21\,22)
DTSTART;TZID=Europe/Berlin:20241005T130000
DTEND;TZID=Europe/Berlin:20241005T150000
LOCATION:TJ KRALUPY\, z.s.\, Gen. Klapálka 1029 Kralupy nad Vltavou
SUMMARY:2-Z-A: Kralupy-NVC ČVS
END:VEVENT
BEGIN:VEVENT
UID:35643066-3132-4238-a465-336538353562
DTSTAMP:20260422T183209Z
DESCRIPTION:5/21 Kralupy - Bižuterie 3:0 (17\,23\,20)
DTSTART;TZID=Europe/Berlin:20241019T110000
DTEND;TZID=Europe/Berlin:20241019T130000
LOCATION:TJ KRALUPY\, z.s.\, Gen. Klapálka 1029 Kralupy nad Vltavou
SUMMARY:2-Z-A: Kralupy-Bižuterie
END:VEVENT
BEGIN:VEVENT
UID:63646461-3562-4762-b563-306531623538
DTSTAMP:20260422T183209Z
DESCRIPTION:6/26 Kralupy - Bižuterie 3:0 (16\,23\,12)
DTSTART;TZID=Europe/Berlin:20241019T150000
DTEND;TZID=Europe/Berlin:20241019T170000
LOCATION:TJ KRALUPY\, z.s.\, Gen. Klapálka 1029 Kralupy nad Vltavou
SUMMARY:2-Z-A: Kralupy-Bižuterie
END:VEVENT
BEGIN:VEVENT
UID:38323431-6463-4161-b264-353931356532
DTSTAMP:20260422T183209Z
DESCRIPTION:7/35 Kralupy - Chabařovice 3:1 (23\,-19\,23\,10)
DTSTART;TZID=Europe/Berlin:20241102T100000
DTEND;TZID=Europe/Berlin:20241102T120000
LOCATION:TJ KRALUPY\, z.s.\, Gen. Klapálka 1029 Kralupy nad Vltavou
SUMMARY:2-Z-A: Kralupy-Chabařovice
END:VEVENT
BEGIN:VEVENT
UID:37663530-6535-4565-b661-623566653336
DTSTAMP:20260422T183209Z
DESCRIPTION:8/40 Kralupy - Chabařovice 3:2 (-20\,-23\,21\,12\,8)
DTSTART;TZID=Europe/Berlin:20241102T140000
DTEND;TZID=Europe/Berlin:20241102T160000
LOCATION:TJ KRALUPY\, z.s.\, Gen. Klapálka 1029 Kralupy nad Vltavou
SUMMARY:2-Z-A: Kralupy-Chabařovice
END:VEVENT
BEGIN:VEVENT
UID:63653437-3537-4230-b736-393231653035
DTSTAMP:20260422T183209Z
DESCRIPTION:11/54 Kralupy - Děčín-Rumburk 3:0 (17\,22\,15)
DTSTART;TZID=Europe/Berlin:20241116T100000
DTEND;TZID=Europe/Berlin:20241116T120000
LOCATION:TJ KRALUPY\, z.s.\, Gen. Klapálka 1029 Kralupy nad Vltavou
SUMMARY:2-Z-A: Kralupy-Děčín-Rumburk
END:VEVENT
BEGIN:VEVENT
UID:36653737-3961-4666-b564-323338313638
DTSTAMP:20260422T183209Z
DESCRIPTION:12/59 Kralupy - Děčín-Rumburk 3:0 (12\,22\,14)
DTSTART;TZID=Europe/Berlin:20241116T140000
DTEND;TZID=Europe/Berlin:20241116T160000
LOCATION:TJ KRALUPY\, z.s.\, Gen. Klapálka 1029 Kralupy nad Vltavou
SUMMARY:2-Z-A: Kralupy-Děčín-Rumburk
END:VEVENT
BEGIN:VEVENT
UID:62363462-3465-4637-b161-663536396566
DTSTAMP:20260422T183209Z
DESCRIPTION:15/73 Kralupy - Plzeň B 3:0 (17\,11\,26)
DTSTART;TZID=Europe/Berlin:20241207T100000
DTEND;TZID=Europe/Berlin:20241207T120000
LOCATION:TJ KRALUPY\, z.s.\, Gen. Klapálka 1029 Kralupy nad Vltavou
SUMMARY:2-Z-A: Kralupy-Plzeň B
END:VEVENT
BEGIN:VEVENT
UID:36666638-3965-4236-b234-363136316262
DTSTAMP:20260422T183209Z
DESCRIPTION:16/78 Kralupy - Plzeň B 3:0 (16\,20\,21)
DTSTART;TZID=Europe/Berlin:20241207T140000
DTEND;TZID=Europe/Berlin:20241207T160000
LOCATION:TJ KRALUPY\, z.s.\, Gen. Klapálka 1029 Kralupy nad Vltavou
SUMMARY:2-Z-A: Kralupy-Plzeň B
END:VEVENT
BEGIN:VEVENT
UID:62343336-3532-4362-b564-363334303261
DTSTAMP:20260422T183209Z
DESCRIPTION:21/105 Kralupy - Tuchlovice 1:3 (-20\,19\,-23\,-18)
DTSTART;TZID=Europe/Berlin:20250118T100000
DTEND;TZID=Europe/Berlin:20250118T120000
LOCATION:TJ KRALUPY\, z.s.\, Gen. Klapálka 1029 Kralupy nad Vltavou
SUMMARY:2-Z-A: Kralupy-Tuchlovice
END:VEVENT
BEGIN:VEVENT
UID:63346633-3766-4465-b739-313465306662
DTSTAMP:20260422T183209Z
DESCRIPTION:22/110 Kralupy - Tuchlovice 1:3 (-14\,-21\,19\,-21)
DTSTART;TZID=Europe/Berlin:20250118T140000
DTEND;TZID=Europe/Berlin:20250118T160000
LOCATION:TJ KRALUPY\, z.s.\, Gen. Klapálka 1029 Kralupy nad Vltavou
SUMMARY:2-Z-A: Kralupy-Tuchlovice
END:VEVENT
BEGIN:VEVENT
UID:62353865-3237-4163-a337-396634383032
DTSTAMP:20260422T183209Z
DESCRIPTION:27/132 Kralupy - Mnichovo Hradiště 3:1 (14\,18\,-9\,22)
DTSTART;TZID=Europe/Berlin:20250208T110000
DTEND;TZID=Europe/Berlin:20250208T130000
LOCATION:TJ KRALUPY\, z.s.\, Gen. Klapálka 1029 Kralupy nad Vltavou
SUMMARY:2-Z-A: Kralupy-Mnichovo Hradiště
END:VEVENT
BEGIN:VEVENT
UID:33633564-3332-4464-b939-346430303031
DTSTAMP:20260422T183209Z
DESCRIPTION:28/137 Kralupy - Mnichovo Hradiště 3:0 (17\,14\,8)
DTSTART;TZID=Europe/Berlin:20250208T150000
DTEND;TZID=Europe/Berlin:20250208T170000
LOCATION:TJ KRALUPY\, z.s.\, Gen. Klapálka 1029 Kralupy nad Vltavou
SUMMARY:2-Z-A: Kralupy-Mnichovo Hradiště
END:VEVENT
BEGIN:VEVENT
UID:66393366-3963-4635-a630-333334626539
DTSTAMP:20260422T183209Z
DESCRIPTION:31/153 Kralupy - S V B C 0:3 (-15\,-18\,-15)
DTSTART;TZID=Europe/Berlin:20250301T100000
DTEND;TZID=Europe/Berlin:20250301T120000
LOCATION:TJ KRALUPY\, z.s.\, Gen. Klapálka 1029 Kralupy nad Vltavou
SUMMARY:2-Z-A: Kralupy-S V B C
END:VEVENT
BEGIN:VEVENT
UID:31653032-3839-4532-b431-653836343933
DTSTAMP:20260422T183209Z
DESCRIPTION:32/158 Kralupy - S V B C 3:1 (18\,-23\,21\,12)
DTSTART;TZID=Europe/Berlin:20250301T140000
DTEND;TZID=Europe/Berlin:20250301T160000
LOCATION:TJ KRALUPY\, z.s.\, Gen. Klapálka 1029 Kralupy nad Vltavou
SUMMARY:2-Z-A: Kralupy-S V B C
END:VEVENT
BEGIN:VEVENT
UID:64346531-6138-4530-b463-666362646137
DTSTAMP:20260422T183209Z
DESCRIPTION:35/174 Kralupy - Liberec 3:2 (21\,-19\,22\,-19\,13)
DTSTART;TZID=Europe/Berlin:20250315T110000
DTEND;TZID=Europe/Berlin:20250315T130000
LOCATION:TJ KRALUPY\, z.s.\, Gen. Klapálka 1029 Kralupy nad Vltavou
SUMMARY:2-Z-A: Kralupy-Liberec
END:VEVENT
BEGIN:VEVENT
UID:38616464-6666-4236-b131-643334323030
DTSTAMP:20260422T183209Z
DESCRIPTION:36/179 Kralupy - Liberec 1:3 (23\,-15\,-22\,-15)
DTSTART;TZID=Europe/Berlin:20250315T150000
DTEND;TZID=Europe/Berlin:20250315T170000
LOCATION:TJ KRALUPY\, z.s.\, Gen. Klapálka 1029 Kralupy nad Vltavou
SUMMARY:2-Z-A: Kralupy-Liberec
END:VEVENT
BEGIN:VEVENT
UID:63316234-6536-4533-a133-353333326231
DTSTAMP:20260422T183209Z
DESCRIPTION:3/15 Tuchlovice - Kralupy 3:1 (-21\,22\,18\,20)
DTSTART;TZID=Europe/Berlin:20241012T090000
DTEND;TZID=Europe/Berlin:20241012T110000
LOCATION:Sportovní hala - Doksy\, Sokolská 230 Doksy
SUMMARY:2-Z-A: Tuchlovice-Kralupy
END:VEVENT
BEGIN:VEVENT
UID:37303564-3337-4537-b933-313433363638
DTSTAMP:20260422T183209Z
DESCRIPTION:4/20 Tuchlovice - Kralupy 3:2 (-18\,24\,-23\,25\,9)
DTSTART;TZID=Europe/Berlin:20241012T130000
DTEND;TZID=Europe/Berlin:20241012T150000
LOCATION:Sportovní hala - Doksy\, Sokolská 230 Doksy
SUMMARY:2-Z-A: Tuchlovice-Kralupy
END:VEVENT
BEGIN:VEVENT
UID:31316339-6364-4639-b631-633361653334
DTSTAMP:20260422T183209Z
DESCRIPTION:9/42 Mnichovo Hradiště - Kralupy 2:3 (-25\,23\,11\,-22\,-12)
DTSTART;TZID=Europe/Berlin:20241109T090000
DTEND;TZID=Europe/Berlin:20241109T110000
LOCATION:Sportovní hala BIOS\, Sokolovská 254 Mnichovo Hradiště
SUMMARY:2-Z-A: Mnichovo Hradiště-Kralupy
END:VEVENT
BEGIN:VEVENT
UID:30646236-3332-4439-a238-636665623134
DTSTAMP:20260422T183209Z
DESCRIPTION:10/47 Mnichovo Hradiště - Kralupy 3:0 (18\,26\,15)
DTSTART;TZID=Europe/Berlin:20241109T130000
DTEND;TZID=Europe/Berlin:20241109T150000
LOCATION:Sportovní hala BIOS\, Sokolovská 254 Mnichovo Hradiště
SUMMARY:2-Z-A: Mnichovo Hradiště-Kralupy
END:VEVENT
BEGIN:VEVENT
UID:64323339-3762-4065-b939-303464336466
DTSTAMP:20260422T183209Z
DESCRIPTION:13/63 S V B C - Kralupy 2:3 (-20\,-18\,18\,21\,-12)
DTSTART;TZID=Europe/Berlin:20241130T090000
DTEND;TZID=Europe/Berlin:20241130T110000
LOCATION:Sportovní hala Řevnice \, Školní 600 Řevnice
SUMMARY:2-Z-A: S V B C-Kralupy
END:VEVENT
BEGIN:VEVENT
UID:34336237-3336-4430-a362-326362386561
DTSTAMP:20260422T183209Z
DESCRIPTION:14/68 S V B C - Kralupy 2:3 (26\,23\,-17\,-19\,-15)
DTSTART;TZID=Europe/Berlin:20241130T130000
DTEND;TZID=Europe/Berlin:20241130T150000
LOCATION:Sportovní hala Řevnice \, Školní 600 Řevnice
SUMMARY:2-Z-A: S V B C-Kralupy
END:VEVENT
BEGIN:VEVENT
UID:66303436-3664-4531-a139-636562356563
DTSTAMP:20260422T183209Z
DESCRIPTION:17/84 Liberec - Kralupy 3:2 (-16\,20\,12\,-22\,12)
DTSTART;TZID=Europe/Berlin:20241214T100000
DTEND;TZID=Europe/Berlin:20241214T120000
LOCATION:TJ Lokomotiva Liberec 1.\, z.s.\, Jablonecká 562 Liberec - Liberec
  I-Staré Město
SUMMARY:2-Z-A: Liberec-Kralupy
END:VEVENT
BEGIN:VEVENT
UID:61383039-6435-4731-b434-626131393066
DTSTAMP:20260422T183209Z
DESCRIPTION:18/89 Liberec - Kralupy 1:3 (-18\,22\,-17\,-14)
DTSTART;TZID=Europe/Berlin:20241214T140000
DTEND;TZID=Europe/Berlin:20241214T160000
LOCATION:TJ Lokomotiva Liberec 1.\, z.s.\, Jablonecká 562 Liberec - Liberec
  I-Staré Město
SUMMARY:2-Z-A: Liberec-Kralupy
END:VEVENT
BEGIN:VEVENT
UID:33343064-3435-4632-b236-323236363133
DTSTAMP:20260422T183209Z
DESCRIPTION:19/92 NVC ČVS - Kralupy 2:3 (-20\,18\,19\,-17\,-10)
DTSTART;TZID=Europe/Berlin:20250202T100000
DTEND;TZID=Europe/Berlin:20250202T120000
LOCATION:Hala BIOS\, Jana Palacha 1840 Kladno
SUMMARY:2-Z-A: NVC ČVS-Kralupy
END:VEVENT
BEGIN:VEVENT
UID:66643237-6138-4466-a635-653632343565
DTSTAMP:20260422T183209Z
DESCRIPTION:20/97 NVC ČVS - Kralupy 0:3 (-16\,-19\,-16)
DTSTART;TZID=Europe/Berlin:20250202T140000
DTEND;TZID=Europe/Berlin:20250202T160000
LOCATION:Hala BIOS\, Jana Palacha 1840 Kladno
SUMMARY:2-Z-A: NVC ČVS-Kralupy
END:VEVENT
BEGIN:VEVENT
UID:62636562-3436-4235-b763-303337336137
DTSTAMP:20260422T183209Z
DESCRIPTION:23/111 Bižuterie - Kralupy 3:1 (19\,-15\,23\,21)
DTSTART;TZID=Europe/Berlin:20250125T090000
DTEND;TZID=Europe/Berlin:20250125T110000
LOCATION:Městská sportovní hala\, U Přehrady 4747 Jablonec nad Nisou
SUMMARY:2-Z-A: Bižuterie-Kralupy
END:VEVENT
BEGIN:VEVENT
UID:66636434-3737-4537-b133-616465396135
DTSTAMP:20260422T183209Z
DESCRIPTION:24/116 Bižuterie - Kralupy 0:3 (-18\,-13\,-20)
DTSTART;TZID=Europe/Berlin:20250125T130000
DTEND;TZID=Europe/Berlin:20250125T150000
LOCATION:Městská sportovní hala\, U Přehrady 4747 Jablonec nad Nisou
SUMMARY:2-Z-A: Bižuterie-Kralupy
END:VEVENT
BEGIN:VEVENT
UID:34613063-6466-4064-a531-353565336333
DTSTAMP:20260422T183209Z
DESCRIPTION:25/125 Chabařovice - Kralupy 3:2 (18\,20\,-20\,-17\,9)
DTSTART;TZID=Europe/Berlin:20250201T110000
DTEND;TZID=Europe/Berlin:20250201T130000
LOCATION:Sportovní hala Chabařovice\, V Aleji 400 Chabařovice
SUMMARY:2-Z-A: Chabařovice-Kralupy
END:VEVENT
BEGIN:VEVENT
UID:62653461-6666-4965-b736-663631356432
DTSTAMP:20260422T183209Z
DESCRIPTION:26/130 Chabařovice - Kralupy 3:1 (14\,21\,-16\,22)
DTSTART;TZID=Europe/Berlin:20250201T150000
DTEND;TZID=Europe/Berlin:20250201T170000
LOCATION:Sportovní hala Chabařovice\, V Aleji 400 Chabařovice
SUMMARY:2-Z-A: Chabařovice-Kralupy
END:VEVENT
BEGIN:VEVENT
UID:34666164-6464-4438-a237-653032316539
DTSTAMP:20260422T183209Z
DESCRIPTION:29/144 Děčín-Rumburk - Kralupy 1:3 (-11\,-12\,22\,-19)
DTSTART;TZID=Europe/Berlin:20250215T100000
DTEND;TZID=Europe/Berlin:20250215T120000
LOCATION:Tělocvična OA Rumburk\, Komenského 927 Rumburk - Rumburk 1
SUMMARY:2-Z-A: Děčín-Rumburk-Kralupy
END:VEVENT
BEGIN:VEVENT
UID:32636565-3937-4335-b332-663965633961
DTSTAMP:20260422T183209Z
DESCRIPTION:30/149 Děčín-Rumburk - Kralupy 0:3 (-17\,-18\,-9)
DTSTART;TZID=Europe/Berlin:20250215T140000
DTEND;TZID=Europe/Berlin:20250215T160000
LOCATION:Tělocvična OA Rumburk\, Komenského 927 Rumburk - Rumburk 1
SUMMARY:2-Z-A: Děčín-Rumburk-Kralupy
END:VEVENT
BEGIN:VEVENT
UID:37643333-3930-4637-a239-646532326461
DTSTAMP:20260422T183209Z
DESCRIPTION:33/163 Plzeň B - Kralupy 1:3 (-14\,-22\,22\,-23)
DTSTART;TZID=Europe/Berlin:20250308T090000
DTEND;TZID=Europe/Berlin:20250308T110000
LOCATION:Městská sportovní hala  -  hala 1\, Úslavská 2357 Plzeň - Východní
  Předměstí
SUMMARY:2-Z-A: Plzeň B-Kralupy
END:VEVENT
BEGIN:VEVENT
UID:64643239-6438-4938-b239-663764363936
DTSTAMP:20260422T183209Z
DESCRIPTION:34/168 Plzeň B - Kralupy 1:3 (17\,-20\,-21\,-18)
DTSTART;TZID=Europe/Berlin:20250308T130000
DTEND;TZID=Europe/Berlin:20250308T150000
LOCATION:Městská sportovní hala  -  hala 1\, Úslavská 2357 Plzeň - Východní
  Předměstí
SUMMARY:2-Z-A: Plzeň B-Kralupy
END:VEVENT
BEGIN:VEVENT
UID:61663063-3764-4064-a238-326232353961
DTSTAMP:20260422T183209Z
DESCRIPTION:1/1 Kralupy - Orion Praha 2:3 (-21\,22\,22\,-21\,-10)
DTSTART;TZID=Europe/Berlin:20250412T090000
DTEND;TZID=Europe/Berlin:20250412T110000
LOCATION:ZŠ Dolní Břežany\, Na Vršku 290 Dolní Břežany
SUMMARY:1-Z-K: Kralupy-Orion Praha
END:VEVENT
BEGIN:VEVENT
UID:31326365-6231-4738-b364-383935303532
DTSTAMP:20260422T183209Z
DESCRIPTION:2/6 Kralupy - Prostějov B 0:3 (-23\,-24\,-11)
DTSTART;TZID=Europe/Berlin:20250413T090000
DTEND;TZID=Europe/Berlin:20250413T110000
LOCATION:ZŠ Dolní Břežany\, Na Vršku 290 Dolní Břežany
SUMMARY:1-Z-K: Kralupy-Prostějov B
END:VEVENT
BEGIN:VEVENT
UID:37313965-6235-4664-b831-643139396637
DTSTAMP:20260422T183209Z
DESCRIPTION:1/3 Stará Bělá - Kralupy 1:3 (21\,-22\,-21\,-20)
DTSTART;TZID=Europe/Berlin:20250412T130000
DTEND;TZID=Europe/Berlin:20250412T150000
LOCATION:ZŠ Dolní Břežany\, Na Vršku 290 Dolní Břežany
SUMMARY:1-Z-K: Stará Bělá-Kralupy
END:VEVENT
BEGIN:VEVENT
UID:65383332-6130-4230-b038-343565303538
DTSTAMP:20260422T183209Z
DESCRIPTION:2/8 Junior - Kralupy 3:0 (17\,13\,15)
DTSTART;TZID=Europe/Berlin:20250413T130000
DTEND;TZID=Europe/Berlin:20250413T150000
LOCATION:ZŠ Dolní Břežany\, Na Vršku 290 Dolní Břežany
SUMMARY:1-Z-K: Junior-Kralupy
END:VEVENT
END:VCALENDAR
