BEGIN:VCALENDAR
VERSION:2.0
PRODID:-//TJ Sokol Brno - Juliánov85882//NONSGML kigkonsult.se iCalcreator 2.41.80//
CALSCALE:GREGORIAN
UID:31393138-6565-4335-b832-643332653366
BEGIN:VEVENT
UID:38633364-6331-4336-b739-336563663261
DTSTAMP:20260422T162858Z
DESCRIPTION:3/12 Brno - Juliánov - Stará Bělá 1:3 (-19\,-21\,23\,-10)
DTSTART;TZID=Europe/Berlin:20241012T100000
DTEND;TZID=Europe/Berlin:20241012T120000
LOCATION:Salesiánské středisko mládeže - dům dětí a mládeže\, Kotlanova 266
 0 Brno - Líšeň
SUMMARY:2-Z-C: Brno - Juliánov-Stará Bělá
END:VEVENT
BEGIN:VEVENT
UID:30653438-6132-4463-a436-356461633263
DTSTAMP:20260422T162858Z
DESCRIPTION:4/17 Brno - Juliánov - Stará Bělá 0:3 (-19\,-24\,-26)
DTSTART;TZID=Europe/Berlin:20241012T140000
DTEND;TZID=Europe/Berlin:20241012T160000
LOCATION:Salesiánské středisko mládeže - dům dětí a mládeže\, Kotlanova 266
 0 Brno - Líšeň
SUMMARY:2-Z-C: Brno - Juliánov-Stará Bělá
END:VEVENT
BEGIN:VEVENT
UID:34313763-3261-4533-b835-303261323765
DTSTAMP:20260422T162858Z
DESCRIPTION:9/45 Brno - Juliánov - Kroměříž 3:0 (14\,18\,18)
DTSTART;TZID=Europe/Berlin:20241109T100000
DTEND;TZID=Europe/Berlin:20241109T120000
LOCATION:Salesiánské středisko mládeže - dům dětí a mládeže\, Kotlanova 266
 0 Brno - Líšeň
SUMMARY:2-Z-C: Brno - Juliánov-Kroměříž
END:VEVENT
BEGIN:VEVENT
UID:66653034-6365-4630-b762-396433313435
DTSTAMP:20260422T162858Z
DESCRIPTION:10/50 Brno - Juliánov - Kroměříž 0:3 (-26\,-19\,-20)
DTSTART;TZID=Europe/Berlin:20241109T140000
DTEND;TZID=Europe/Berlin:20241109T160000
LOCATION:Salesiánské středisko mládeže - dům dětí a mládeže\, Kotlanova 266
 0 Brno - Líšeň
SUMMARY:2-Z-C: Brno - Juliánov-Kroměříž
END:VEVENT
BEGIN:VEVENT
UID:38376462-6531-4436-b531-343936336466
DTSTAMP:20260422T162858Z
DESCRIPTION:13/64 Brno - Juliánov - Přerov B 3:0 (21\,26\,17)
DTSTART;TZID=Europe/Berlin:20241130T100000
DTEND;TZID=Europe/Berlin:20241130T120000
LOCATION:Tělocvična ZŠ Bílovice nad Svitavou\, Komenského 151 Bílovice nad 
 Svitavou
SUMMARY:2-Z-C: Brno - Juliánov-Přerov B
END:VEVENT
BEGIN:VEVENT
UID:35333230-3066-4233-a234-663261326133
DTSTAMP:20260422T162858Z
DESCRIPTION:14/69 Brno - Juliánov - Přerov B 0:3 (-23\,-21\,-24)
DTSTART;TZID=Europe/Berlin:20241130T140000
DTEND;TZID=Europe/Berlin:20241130T160000
LOCATION:Tělocvična ZŠ Bílovice nad Svitavou\, Komenského 151 Bílovice nad 
 Svitavou
SUMMARY:2-Z-C: Brno - Juliánov-Přerov B
END:VEVENT
BEGIN:VEVENT
UID:64396131-3638-4138-b038-613166366130
DTSTAMP:20260422T162858Z
DESCRIPTION:17/83 Brno - Juliánov - Opava 0:3 (-18\,-17\,-20)
DTSTART;TZID=Europe/Berlin:20241214T100000
DTEND;TZID=Europe/Berlin:20241214T120000
LOCATION:Salesiánské středisko mládeže - dům dětí a mládeže\, Kotlanova 266
 0 Brno - Líšeň
SUMMARY:2-Z-C: Brno - Juliánov-Opava
END:VEVENT
BEGIN:VEVENT
UID:30366535-3061-4531-b430-616564626139
DTSTAMP:20260422T162858Z
DESCRIPTION:18/88 Brno - Juliánov - Opava 0:3 (-21\,-19\,-23)
DTSTART;TZID=Europe/Berlin:20241214T140000
DTEND;TZID=Europe/Berlin:20241214T160000
LOCATION:Salesiánské středisko mládeže - dům dětí a mládeže\, Kotlanova 266
 0 Brno - Líšeň
SUMMARY:2-Z-C: Brno - Juliánov-Opava
END:VEVENT
BEGIN:VEVENT
UID:33643965-3161-4266-a463-343738336465
DTSTAMP:20260422T162858Z
DESCRIPTION:19/94 Brno - Juliánov - Ostrava B 1:3 (-20\,21\,-19\,-22)
DTSTART;TZID=Europe/Berlin:20250111T100000
DTEND;TZID=Europe/Berlin:20250111T120000
LOCATION:Salesiánské středisko mládeže - dům dětí a mládeže\, Kotlanova 266
 0 Brno - Líšeň
SUMMARY:2-Z-C: Brno - Juliánov-Ostrava B
END:VEVENT
BEGIN:VEVENT
UID:35633133-3061-4536-b430-343539623431
DTSTAMP:20260422T162858Z
DESCRIPTION:20/99 Brno - Juliánov - Ostrava B 3:2 (21\,-23\,-14\,19\,13)
DTSTART;TZID=Europe/Berlin:20250111T140000
DTEND;TZID=Europe/Berlin:20250111T160000
LOCATION:Salesiánské středisko mládeže - dům dětí a mládeže\, Kotlanova 266
 0 Brno - Líšeň
SUMMARY:2-Z-C: Brno - Juliánov-Ostrava B
END:VEVENT
BEGIN:VEVENT
UID:33306437-6339-4938-b638-656238396162
DTSTAMP:20260422T162858Z
DESCRIPTION:23/115 Brno - Juliánov - Břeclav 3:1 (18\,-17\,23\,15)
DTSTART;TZID=Europe/Berlin:20250125T100000
DTEND;TZID=Europe/Berlin:20250125T120000
LOCATION:Salesiánské středisko mládeže - dům dětí a mládeže\, Kotlanova 266
 0 Brno - Líšeň
SUMMARY:2-Z-C: Brno - Juliánov-Břeclav
END:VEVENT
BEGIN:VEVENT
UID:32343865-3565-4536-a437-653862633935
DTSTAMP:20260422T162858Z
DESCRIPTION:24/120 Brno - Juliánov - Břeclav 3:1 (-18\,16\,19\,19)
DTSTART;TZID=Europe/Berlin:20250125T140000
DTEND;TZID=Europe/Berlin:20250125T160000
LOCATION:Salesiánské středisko mládeže - dům dětí a mládeže\, Kotlanova 266
 0 Brno - Líšeň
SUMMARY:2-Z-C: Brno - Juliánov-Břeclav
END:VEVENT
BEGIN:VEVENT
UID:61653165-3138-4333-b632-316134616536
DTSTAMP:20260422T162858Z
DESCRIPTION:25/121 Brno - Juliánov - Uherské Hradiště 3:0 (19\,17\,19)
DTSTART;TZID=Europe/Berlin:20250201T100000
DTEND;TZID=Europe/Berlin:20250201T120000
LOCATION:Salesiánské středisko mládeže - dům dětí a mládeže\, Kotlanova 266
 0 Brno - Líšeň
SUMMARY:2-Z-C: Brno - Juliánov-Uherské Hradiště
END:VEVENT
BEGIN:VEVENT
UID:34306439-3235-4639-b462-303362653630
DTSTAMP:20260422T162858Z
DESCRIPTION:26/126 Brno - Juliánov - Uherské Hradiště 3:0 (13\,23\,21)
DTSTART;TZID=Europe/Berlin:20250201T140000
DTEND;TZID=Europe/Berlin:20250201T160000
LOCATION:Salesiánské středisko mládeže - dům dětí a mládeže\, Kotlanova 266
 0 Brno - Líšeň
SUMMARY:2-Z-C: Brno - Juliánov-Uherské Hradiště
END:VEVENT
BEGIN:VEVENT
UID:39363839-3065-4161-b366-633464656235
DTSTAMP:20260422T162858Z
DESCRIPTION:29/142 Brno - Juliánov - Bílovec 1:3 (15\,-18\,-9\,-20)
DTSTART;TZID=Europe/Berlin:20250215T100000
DTEND;TZID=Europe/Berlin:20250215T120000
LOCATION:Salesiánské středisko mládeže - dům dětí a mládeže\, Kotlanova 266
 0 Brno - Líšeň
SUMMARY:2-Z-C: Brno - Juliánov-Bílovec
END:VEVENT
BEGIN:VEVENT
UID:62343763-3933-4637-a633-333431373838
DTSTAMP:20260422T162858Z
DESCRIPTION:30/147 Brno - Juliánov - Bílovec 1:3 (-19\,-19\,17\,-17)
DTSTART;TZID=Europe/Berlin:20250215T140000
DTEND;TZID=Europe/Berlin:20250215T160000
LOCATION:Salesiánské středisko mládeže - dům dětí a mládeže\, Kotlanova 266
 0 Brno - Líšeň
SUMMARY:2-Z-C: Brno - Juliánov-Bílovec
END:VEVENT
BEGIN:VEVENT
UID:31326230-3331-4634-a534-363736643564
DTSTAMP:20260422T162858Z
DESCRIPTION:33/163 Brno - Juliánov - Šlapanice 3:0 (23\,15\,18)
DTSTART;TZID=Europe/Berlin:20250308T100000
DTEND;TZID=Europe/Berlin:20250308T120000
LOCATION:Salesiánské středisko mládeže - dům dětí a mládeže\, Kotlanova 266
 0 Brno - Líšeň
SUMMARY:2-Z-C: Brno - Juliánov-Šlapanice
END:VEVENT
BEGIN:VEVENT
UID:65323037-3637-4661-b533-623634376434
DTSTAMP:20260422T162858Z
DESCRIPTION:34/168 Brno - Juliánov - Šlapanice 0:3 (-22\,-22\,-18)
DTSTART;TZID=Europe/Berlin:20250308T140000
DTEND;TZID=Europe/Berlin:20250308T160000
LOCATION:Salesiánské středisko mládeže - dům dětí a mládeže\, Kotlanova 266
 0 Brno - Líšeň
SUMMARY:2-Z-C: Brno - Juliánov-Šlapanice
END:VEVENT
BEGIN:VEVENT
UID:62653566-6263-4563-b761-663863376134
DTSTAMP:20260422T162858Z
DESCRIPTION:1/4 Ostrava B - Brno - Juliánov 3:2 (20\,-24\,21\,-20\,8)
DTSTART;TZID=Europe/Berlin:20241005T100000
DTEND;TZID=Europe/Berlin:20241005T120000
LOCATION:Hala mládeže\, Gajdošova 1893 Ostrava - Moravská Ostrava
SUMMARY:2-Z-C: Ostrava B-Brno - Juliánov
END:VEVENT
BEGIN:VEVENT
UID:64366630-3637-4865-b762-373761336633
DTSTAMP:20260422T162858Z
DESCRIPTION:2/9 Ostrava B - Brno - Juliánov 1:3 (-20\,-22\,11\,-25)
DTSTART;TZID=Europe/Berlin:20241005T140000
DTEND;TZID=Europe/Berlin:20241005T160000
LOCATION:Hala mládeže\, Gajdošova 1893 Ostrava - Moravská Ostrava
SUMMARY:2-Z-C: Ostrava B-Brno - Juliánov
END:VEVENT
BEGIN:VEVENT
UID:36383364-3339-4166-b732-646261343261
DTSTAMP:20260422T162858Z
DESCRIPTION:5/25 Břeclav - Brno - Juliánov 0:3 (-23\,-15\,-22)
DTSTART;TZID=Europe/Berlin:20241019T100000
DTEND;TZID=Europe/Berlin:20241019T120000
LOCATION:TJ Lokomotiva Břeclav\, Veslařská 2753 Břeclav
SUMMARY:2-Z-C: Břeclav-Brno - Juliánov
END:VEVENT
BEGIN:VEVENT
UID:36663063-6331-4637-b135-643634333564
DTSTAMP:20260422T162858Z
DESCRIPTION:6/30 Břeclav - Brno - Juliánov 2:3 (-24\,-22\,15\,23\,-11)
DTSTART;TZID=Europe/Berlin:20241019T140000
DTEND;TZID=Europe/Berlin:20241019T160000
LOCATION:TJ Lokomotiva Břeclav\, Veslařská 2753 Břeclav
SUMMARY:2-Z-C: Břeclav-Brno - Juliánov
END:VEVENT
BEGIN:VEVENT
UID:62363934-3661-4936-a465-353536303032
DTSTAMP:20260422T162858Z
DESCRIPTION:7/31 Uherské Hradiště - Brno - Juliánov 3:2 (-19\,23\,-24\,23\,
 10)
DTSTART;TZID=Europe/Berlin:20241102T100000
DTEND;TZID=Europe/Berlin:20241102T120000
LOCATION:Městská sportovní hala\, Stonky 860 Uherské Hradiště
SUMMARY:2-Z-C: Uherské Hradiště-Brno - Juliánov
END:VEVENT
BEGIN:VEVENT
UID:61393164-3963-4432-b238-663931656134
DTSTAMP:20260422T162858Z
DESCRIPTION:8/36 Uherské Hradiště - Brno - Juliánov 0:3 (-21\,-17\,-13)
DTSTART;TZID=Europe/Berlin:20241102T140000
DTEND;TZID=Europe/Berlin:20241102T160000
LOCATION:Městská sportovní hala\, Stonky 860 Uherské Hradiště
SUMMARY:2-Z-C: Uherské Hradiště-Brno - Juliánov
END:VEVENT
BEGIN:VEVENT
UID:64393833-3163-4363-b362-343334373265
DTSTAMP:20260422T162858Z
DESCRIPTION:11/52 Bílovec - Brno - Juliánov 3:0 (13\,22\,21)
DTSTART;TZID=Europe/Berlin:20241116T100000
DTEND;TZID=Europe/Berlin:20241116T120000
LOCATION:Tělocvična GMK Bílovec\, 17. listopadu 526 Bílovec
SUMMARY:2-Z-C: Bílovec-Brno - Juliánov
END:VEVENT
BEGIN:VEVENT
UID:35656233-3337-4362-b061-656434613033
DTSTAMP:20260422T162858Z
DESCRIPTION:12/57 Bílovec - Brno - Juliánov 3:0 (19\,13\,19)
DTSTART;TZID=Europe/Berlin:20241116T140000
DTEND;TZID=Europe/Berlin:20241116T160000
LOCATION:Tělocvična GMK Bílovec\, 17. listopadu 526 Bílovec
SUMMARY:2-Z-C: Bílovec-Brno - Juliánov
END:VEVENT
BEGIN:VEVENT
UID:62363839-3762-4638-b864-343533656161
DTSTAMP:20260422T162858Z
DESCRIPTION:15/73 Šlapanice - Brno - Juliánov 3:1 (-22\,22\,20\,8)
DTSTART;TZID=Europe/Berlin:20241207T090000
DTEND;TZID=Europe/Berlin:20241207T110000
LOCATION:Hala TJ Sokol Šlapanice\, Smetanova 1662 Šlapanice
SUMMARY:2-Z-C: Šlapanice-Brno - Juliánov
END:VEVENT
BEGIN:VEVENT
UID:66363362-3165-4665-b939-633239393535
DTSTAMP:20260422T162858Z
DESCRIPTION:16/78 Šlapanice - Brno - Juliánov 3:0 (20\,16\,21)
DTSTART;TZID=Europe/Berlin:20241207T110000
DTEND;TZID=Europe/Berlin:20241207T130000
LOCATION:Hala TJ Sokol Šlapanice\, Smetanova 1662 Šlapanice
SUMMARY:2-Z-C: Šlapanice-Brno - Juliánov
END:VEVENT
BEGIN:VEVENT
UID:39393533-3438-4137-a365-396636363839
DTSTAMP:20260422T162858Z
DESCRIPTION:21/102 Stará Bělá - Brno - Juliánov 3:0 (19\,12\,11)
DTSTART;TZID=Europe/Berlin:20250118T100000
DTEND;TZID=Europe/Berlin:20250118T120000
LOCATION:Sportovní hala Nová Bělá\, Krmelínská 750 Ostrava - Nová Bělá
SUMMARY:2-Z-C: Stará Bělá-Brno - Juliánov
END:VEVENT
BEGIN:VEVENT
UID:63383539-6631-4337-b331-353365623537
DTSTAMP:20260422T162858Z
DESCRIPTION:22/107 Stará Bělá - Brno - Juliánov 2:3 (-26\,15\,-18\,18\,-13)
DTSTART;TZID=Europe/Berlin:20250118T140000
DTEND;TZID=Europe/Berlin:20250118T160000
LOCATION:Sportovní hala Nová Bělá\, Krmelínská 750 Ostrava - Nová Bělá
SUMMARY:2-Z-C: Stará Bělá-Brno - Juliánov
END:VEVENT
BEGIN:VEVENT
UID:33356536-3136-4834-a531-626563353938
DTSTAMP:20260422T162858Z
DESCRIPTION:27/135 Kroměříž - Brno - Juliánov 3:2 (-21\,22\,12\,-21\,10)
DTSTART;TZID=Europe/Berlin:20250208T100000
DTEND;TZID=Europe/Berlin:20250208T120000
LOCATION:ZŠ Slovan\, Zeyerova 3354 Kroměříž
SUMMARY:2-Z-C: Kroměříž-Brno - Juliánov
END:VEVENT
BEGIN:VEVENT
UID:64366430-6239-4632-b336-306164663063
DTSTAMP:20260422T162858Z
DESCRIPTION:28/140 Kroměříž - Brno - Juliánov 2:3 (-23\,-23\,21\,24\,-6)
DTSTART;TZID=Europe/Berlin:20250208T140000
DTEND;TZID=Europe/Berlin:20250208T160000
LOCATION:ZŠ Slovan\, Zeyerova 3354 Kroměříž
SUMMARY:2-Z-C: Kroměříž-Brno - Juliánov
END:VEVENT
BEGIN:VEVENT
UID:62656231-3462-4061-b164-376635383731
DTSTAMP:20260422T162858Z
DESCRIPTION:31/154 Přerov B - Brno - Juliánov 3:1 (18\,-20\,25\,18)
DTSTART;TZID=Europe/Berlin:20250301T100000
DTEND;TZID=Europe/Berlin:20250301T120000
LOCATION:Městská sportovní hala\, Petřivalského 2884 Přerov - Přerov I-Měst
 o
SUMMARY:2-Z-C: Přerov B-Brno - Juliánov
END:VEVENT
BEGIN:VEVENT
UID:62613836-3865-4837-b234-643931623839
DTSTAMP:20260422T162858Z
DESCRIPTION:32/159 Přerov B - Brno - Juliánov 3:1 (-20\,15\,15\,16)
DTSTART;TZID=Europe/Berlin:20250301T140000
DTEND;TZID=Europe/Berlin:20250301T160000
LOCATION:Městská sportovní hala\, Petřivalského 2884 Přerov - Přerov I-Měst
 o
SUMMARY:2-Z-C: Přerov B-Brno - Juliánov
END:VEVENT
BEGIN:VEVENT
UID:33303638-3837-4334-b831-633537373536
DTSTAMP:20260422T162858Z
DESCRIPTION:35/173 Opava - Brno - Juliánov 3:0 (13\,10\,23)
DTSTART;TZID=Europe/Berlin:20250315T100000
DTEND;TZID=Europe/Berlin:20250315T120000
LOCATION:Základní škola Opava\, Otická 18\, Otická 722 Opava - Předměstí
SUMMARY:2-Z-C: Opava-Brno - Juliánov
END:VEVENT
BEGIN:VEVENT
UID:38306330-3962-4332-b165-643266333032
DTSTAMP:20260422T162858Z
DESCRIPTION:36/178 Opava - Brno - Juliánov 3:2 (-23\,15\,-14\,14\,8)
DTSTART;TZID=Europe/Berlin:20250315T140000
DTEND;TZID=Europe/Berlin:20250315T160000
LOCATION:Základní škola Opava\, Otická 18\, Otická 722 Opava - Předměstí
SUMMARY:2-Z-C: Opava-Brno - Juliánov
END:VEVENT
END:VCALENDAR
