BEGIN:VCALENDAR
VERSION:2.0
PRODID:-//Fosfa Lokomotiva Břeclav85886//NONSGML kigkonsult.se iCalcreator 2.41.80//
CALSCALE:GREGORIAN
UID:30643432-3036-4631-a330-303732336339
BEGIN:VEVENT
UID:65656533-6236-4133-a530-663832386133
DTSTAMP:20260422T162920Z
DESCRIPTION:5/25 Břeclav - Brno - Juliánov 0:3 (-23\,-15\,-22)
DTSTART;TZID=Europe/Berlin:20241019T100000
DTEND;TZID=Europe/Berlin:20241019T120000
LOCATION:TJ Lokomotiva Břeclav\, Veslařská 2753 Břeclav
SUMMARY:2-Z-C: Břeclav-Brno - Juliánov
END:VEVENT
BEGIN:VEVENT
UID:66653565-6439-4665-b531-663832643630
DTSTAMP:20260422T162920Z
DESCRIPTION:6/30 Břeclav - Brno - Juliánov 2:3 (-24\,-22\,15\,23\,-11)
DTSTART;TZID=Europe/Berlin:20241019T140000
DTEND;TZID=Europe/Berlin:20241019T160000
LOCATION:TJ Lokomotiva Břeclav\, Veslařská 2753 Břeclav
SUMMARY:2-Z-C: Břeclav-Brno - Juliánov
END:VEVENT
BEGIN:VEVENT
UID:32346465-3439-4361-a134-303631356163
DTSTAMP:20260422T162920Z
DESCRIPTION:9/44 Břeclav - Bílovec 2:3 (22\,-21\,-24\,16\,-14)
DTSTART;TZID=Europe/Berlin:20241109T100000
DTEND;TZID=Europe/Berlin:20241109T120000
LOCATION:TJ Lokomotiva Břeclav\, Veslařská 2753 Břeclav
SUMMARY:2-Z-C: Břeclav-Bílovec
END:VEVENT
BEGIN:VEVENT
UID:36643438-6638-4234-b733-343132313135
DTSTAMP:20260422T162920Z
DESCRIPTION:10/49 Břeclav - Bílovec 3:2 (-23\,-14\,15\,20\,10)
DTSTART;TZID=Europe/Berlin:20241109T140000
DTEND;TZID=Europe/Berlin:20241109T160000
LOCATION:TJ Lokomotiva Břeclav\, Veslařská 2753 Břeclav
SUMMARY:2-Z-C: Břeclav-Bílovec
END:VEVENT
BEGIN:VEVENT
UID:39353038-6235-4665-a637-333266653130
DTSTAMP:20260422T162920Z
DESCRIPTION:13/63 Břeclav - Šlapanice 3:0 (18\,21\,20)
DTSTART;TZID=Europe/Berlin:20241130T100000
DTEND;TZID=Europe/Berlin:20241130T120000
LOCATION:TJ Lokomotiva Břeclav\, Veslařská 2753 Břeclav
SUMMARY:2-Z-C: Břeclav-Šlapanice
END:VEVENT
BEGIN:VEVENT
UID:32356230-3735-4061-a334-393135386632
DTSTAMP:20260422T162920Z
DESCRIPTION:14/68 Břeclav - Šlapanice 3:0 (22\,22\,21)
DTSTART;TZID=Europe/Berlin:20241130T140000
DTEND;TZID=Europe/Berlin:20241130T160000
LOCATION:TJ Lokomotiva Břeclav\, Veslařská 2753 Břeclav
SUMMARY:2-Z-C: Břeclav-Šlapanice
END:VEVENT
BEGIN:VEVENT
UID:66656533-6331-4362-b062-326132343162
DTSTAMP:20260422T162920Z
DESCRIPTION:17/82 Břeclav - Ostrava B 0:3 (-18\,-21\,-13)
DTSTART;TZID=Europe/Berlin:20241214T100000
DTEND;TZID=Europe/Berlin:20241214T120000
LOCATION:TJ Lokomotiva Břeclav\, Veslařská 2753 Břeclav
SUMMARY:2-Z-C: Břeclav-Ostrava B
END:VEVENT
BEGIN:VEVENT
UID:64316264-3033-4439-b836-313634623465
DTSTAMP:20260422T162920Z
DESCRIPTION:18/87 Břeclav - Ostrava B 0:3 (-21\,-25\,-12)
DTSTART;TZID=Europe/Berlin:20241214T140000
DTEND;TZID=Europe/Berlin:20241214T160000
LOCATION:TJ Lokomotiva Břeclav\, Veslařská 2753 Břeclav
SUMMARY:2-Z-C: Břeclav-Ostrava B
END:VEVENT
BEGIN:VEVENT
UID:33313730-6266-4830-a634-303664653666
DTSTAMP:20260422T162920Z
DESCRIPTION:19/95 Břeclav - Stará Bělá 0:3 (-23\,-14\,-19)
DTSTART;TZID=Europe/Berlin:20250111T100000
DTEND;TZID=Europe/Berlin:20250111T120000
LOCATION:TJ Lokomotiva Břeclav\, Veslařská 2753 Břeclav
SUMMARY:2-Z-C: Břeclav-Stará Bělá
END:VEVENT
BEGIN:VEVENT
UID:35363331-3563-4562-b330-633065323863
DTSTAMP:20260422T162920Z
DESCRIPTION:20/100 Břeclav - Stará Bělá 0:3 (-13\,-18\,-23)
DTSTART;TZID=Europe/Berlin:20250111T140000
DTEND;TZID=Europe/Berlin:20250111T160000
LOCATION:TJ Lokomotiva Břeclav\, Veslařská 2753 Břeclav
SUMMARY:2-Z-C: Břeclav-Stará Bělá
END:VEVENT
BEGIN:VEVENT
UID:30616463-6132-4532-b161-383033386364
DTSTAMP:20260422T162920Z
DESCRIPTION:21/101 Břeclav - Uherské Hradiště 3:1 (23\,-11\,23\,12)
DTSTART;TZID=Europe/Berlin:20250118T100000
DTEND;TZID=Europe/Berlin:20250118T120000
LOCATION:TJ Lokomotiva Břeclav\, Veslařská 2753 Břeclav
SUMMARY:2-Z-C: Břeclav-Uherské Hradiště
END:VEVENT
BEGIN:VEVENT
UID:39653630-3239-4335-b361-613162383038
DTSTAMP:20260422T162920Z
DESCRIPTION:22/106 Břeclav - Uherské Hradiště 3:1 (-25\,16\,22\,8)
DTSTART;TZID=Europe/Berlin:20250118T130000
DTEND;TZID=Europe/Berlin:20250118T150000
LOCATION:TJ Lokomotiva Břeclav\, Veslařská 2753 Břeclav
SUMMARY:2-Z-C: Břeclav-Uherské Hradiště
END:VEVENT
BEGIN:VEVENT
UID:32616232-6531-4432-a530-376432333266
DTSTAMP:20260422T162920Z
DESCRIPTION:25/122 Břeclav - Kroměříž 3:0 (28\,23\,20)
DTSTART;TZID=Europe/Berlin:20250201T100000
DTEND;TZID=Europe/Berlin:20250201T120000
LOCATION:TJ Lokomotiva Břeclav\, Veslařská 2753 Břeclav
SUMMARY:2-Z-C: Břeclav-Kroměříž
END:VEVENT
BEGIN:VEVENT
UID:66333635-6135-4130-b764-336464373833
DTSTAMP:20260422T162920Z
DESCRIPTION:26/127 Břeclav - Kroměříž 3:1 (-18\,23\,22\,23)
DTSTART;TZID=Europe/Berlin:20250201T140000
DTEND;TZID=Europe/Berlin:20250201T160000
LOCATION:TJ Lokomotiva Břeclav\, Veslařská 2753 Břeclav
SUMMARY:2-Z-C: Břeclav-Kroměříž
END:VEVENT
BEGIN:VEVENT
UID:65386565-6562-4261-b031-653463616432
DTSTAMP:20260422T162920Z
DESCRIPTION:29/143 Břeclav - Přerov B 3:0 (25\,17\,21)
DTSTART;TZID=Europe/Berlin:20250215T100000
DTEND;TZID=Europe/Berlin:20250215T120000
LOCATION:TJ Lokomotiva Břeclav\, Veslařská 2753 Břeclav
SUMMARY:2-Z-C: Břeclav-Přerov B
END:VEVENT
BEGIN:VEVENT
UID:38666439-3436-4664-b834-313338343862
DTSTAMP:20260422T162920Z
DESCRIPTION:30/148 Břeclav - Přerov B 3:1 (-16\,20\,14\,14)
DTSTART;TZID=Europe/Berlin:20250215T140000
DTEND;TZID=Europe/Berlin:20250215T160000
LOCATION:TJ Lokomotiva Břeclav\, Veslařská 2753 Břeclav
SUMMARY:2-Z-C: Břeclav-Přerov B
END:VEVENT
BEGIN:VEVENT
UID:35626431-6334-4638-a130-363133636138
DTSTAMP:20260422T162920Z
DESCRIPTION:33/164 Břeclav - Opava 1:3 (-21\,19\,-24\,-16)
DTSTART;TZID=Europe/Berlin:20250308T100000
DTEND;TZID=Europe/Berlin:20250308T120000
LOCATION:TJ Lokomotiva Břeclav\, Veslařská 2753 Břeclav
SUMMARY:2-Z-C: Břeclav-Opava
END:VEVENT
BEGIN:VEVENT
UID:61393031-3333-4631-b935-633362346434
DTSTAMP:20260422T162920Z
DESCRIPTION:34/169 Břeclav - Opava 0:3 (-24\,-18\,-18)
DTSTART;TZID=Europe/Berlin:20250308T140000
DTEND;TZID=Europe/Berlin:20250308T160000
LOCATION:TJ Lokomotiva Břeclav\, Veslařská 2753 Břeclav
SUMMARY:2-Z-C: Břeclav-Opava
END:VEVENT
BEGIN:VEVENT
UID:36356533-3034-4437-b433-666134373366
DTSTAMP:20260422T162920Z
DESCRIPTION:1/5 Stará Bělá - Břeclav 2:3 (15\,12\,-19\,-19\,-11)
DTSTART;TZID=Europe/Berlin:20241005T100000
DTEND;TZID=Europe/Berlin:20241005T120000
LOCATION:Sportovní hala Nová Bělá\, Krmelínská 750 Ostrava - Nová Bělá
SUMMARY:2-Z-C: Stará Bělá-Břeclav
END:VEVENT
BEGIN:VEVENT
UID:65626535-6632-4434-a437-353066353066
DTSTAMP:20260422T162920Z
DESCRIPTION:2/10 Stará Bělá - Břeclav 3:0 (22\,20\,19)
DTSTART;TZID=Europe/Berlin:20241005T140000
DTEND;TZID=Europe/Berlin:20241005T160000
LOCATION:Sportovní hala Nová Bělá\, Krmelínská 750 Ostrava - Nová Bělá
SUMMARY:2-Z-C: Stará Bělá-Břeclav
END:VEVENT
BEGIN:VEVENT
UID:37643034-3662-4239-a233-363462313531
DTSTAMP:20260422T162920Z
DESCRIPTION:3/11 Uherské Hradiště - Břeclav 1:3 (-16\,20\,-12\,-16)
DTSTART;TZID=Europe/Berlin:20241012T100000
DTEND;TZID=Europe/Berlin:20241012T120000
LOCATION:Městská sportovní hala\, Stonky 860 Uherské Hradiště
SUMMARY:2-Z-C: Uherské Hradiště-Břeclav
END:VEVENT
BEGIN:VEVENT
UID:36316462-3731-4233-b365-633236356263
DTSTAMP:20260422T162920Z
DESCRIPTION:4/16 Uherské Hradiště - Břeclav 0:3 (-13\,-16\,-22)
DTSTART;TZID=Europe/Berlin:20241012T140000
DTEND;TZID=Europe/Berlin:20241012T160000
LOCATION:Městská sportovní hala\, Stonky 860 Uherské Hradiště
SUMMARY:2-Z-C: Uherské Hradiště-Břeclav
END:VEVENT
BEGIN:VEVENT
UID:34343666-3363-4530-a339-323737663764
DTSTAMP:20260422T162920Z
DESCRIPTION:7/32 Kroměříž - Břeclav 3:1 (23\,-20\,23\,23)
DTSTART;TZID=Europe/Berlin:20241102T100000
DTEND;TZID=Europe/Berlin:20241102T120000
LOCATION:ZŠ Slovan\, Zeyerova 3354 Kroměříž
SUMMARY:2-Z-C: Kroměříž-Břeclav
END:VEVENT
BEGIN:VEVENT
UID:33323838-6237-4639-a137-386530343639
DTSTAMP:20260422T162920Z
DESCRIPTION:8/37 Kroměříž - Břeclav 1:3 (-22\,-15\,19\,-14)
DTSTART;TZID=Europe/Berlin:20241102T140000
DTEND;TZID=Europe/Berlin:20241102T160000
LOCATION:ZŠ Slovan\, Zeyerova 3354 Kroměříž
SUMMARY:2-Z-C: Kroměříž-Břeclav
END:VEVENT
BEGIN:VEVENT
UID:31356238-3334-4266-b930-313063663637
DTSTAMP:20260422T162920Z
DESCRIPTION:11/53 Přerov B - Břeclav 2:3 (-23\,-19\,20\,9\,-12)
DTSTART;TZID=Europe/Berlin:20241116T100000
DTEND;TZID=Europe/Berlin:20241116T120000
LOCATION:Městská sportovní hala\, Petřivalského 2884 Přerov - Přerov I-Měst
 o
SUMMARY:2-Z-C: Přerov B-Břeclav
END:VEVENT
BEGIN:VEVENT
UID:39623338-6638-4634-a433-333032396336
DTSTAMP:20260422T162920Z
DESCRIPTION:12/58 Přerov B - Břeclav 2:3 (-19\,-15\,17\,23\,-13)
DTSTART;TZID=Europe/Berlin:20241116T140000
DTEND;TZID=Europe/Berlin:20241116T160000
LOCATION:Městská sportovní hala\, Petřivalského 2884 Přerov - Přerov I-Měst
 o
SUMMARY:2-Z-C: Přerov B-Břeclav
END:VEVENT
BEGIN:VEVENT
UID:64383930-6432-4066-a336-656234323436
DTSTAMP:20260422T162920Z
DESCRIPTION:15/74 Opava - Břeclav 3:0 (13\,7\,14)
DTSTART;TZID=Europe/Berlin:20241207T100000
DTEND;TZID=Europe/Berlin:20241207T120000
LOCATION:Základní škola Opava\, Otická 18\, Otická 722 Opava - Předměstí
SUMMARY:2-Z-C: Opava-Břeclav
END:VEVENT
BEGIN:VEVENT
UID:63313336-6362-4465-a361-316665303139
DTSTAMP:20260422T162920Z
DESCRIPTION:16/79 Opava - Břeclav 3:0 (19\,24\,11)
DTSTART;TZID=Europe/Berlin:20241207T140000
DTEND;TZID=Europe/Berlin:20241207T160000
LOCATION:Základní škola Opava\, Otická 18\, Otická 722 Opava - Předměstí
SUMMARY:2-Z-C: Opava-Břeclav
END:VEVENT
BEGIN:VEVENT
UID:65303330-3364-4731-b339-313661313962
DTSTAMP:20260422T162920Z
DESCRIPTION:23/115 Brno - Juliánov - Břeclav 3:1 (18\,-17\,23\,15)
DTSTART;TZID=Europe/Berlin:20250125T100000
DTEND;TZID=Europe/Berlin:20250125T120000
LOCATION:Salesiánské středisko mládeže - dům dětí a mládeže\, Kotlanova 266
 0 Brno - Líšeň
SUMMARY:2-Z-C: Brno - Juliánov-Břeclav
END:VEVENT
BEGIN:VEVENT
UID:61633465-3131-4835-b433-383165666439
DTSTAMP:20260422T162920Z
DESCRIPTION:24/120 Brno - Juliánov - Břeclav 3:1 (-18\,16\,19\,19)
DTSTART;TZID=Europe/Berlin:20250125T140000
DTEND;TZID=Europe/Berlin:20250125T160000
LOCATION:Salesiánské středisko mládeže - dům dětí a mládeže\, Kotlanova 266
 0 Brno - Líšeň
SUMMARY:2-Z-C: Brno - Juliánov-Břeclav
END:VEVENT
BEGIN:VEVENT
UID:33323765-3238-4866-b137-303932346339
DTSTAMP:20260422T162920Z
DESCRIPTION:27/134 Bílovec - Břeclav 0:3 (-9\,-21\,-15)
DTSTART;TZID=Europe/Berlin:20250208T100000
DTEND;TZID=Europe/Berlin:20250208T120000
LOCATION:Tělocvična GMK Bílovec\, 17. listopadu 526 Bílovec
SUMMARY:2-Z-C: Bílovec-Břeclav
END:VEVENT
BEGIN:VEVENT
UID:62636565-3865-4963-b134-343563393734
DTSTAMP:20260422T162920Z
DESCRIPTION:28/139 Bílovec - Břeclav 2:3 (23\,-16\,-16\,16\,-13)
DTSTART;TZID=Europe/Berlin:20250208T140000
DTEND;TZID=Europe/Berlin:20250208T160000
LOCATION:Tělocvična GMK Bílovec\, 17. listopadu 526 Bílovec
SUMMARY:2-Z-C: Bílovec-Břeclav
END:VEVENT
BEGIN:VEVENT
UID:65303865-6431-4261-b762-313530643835
DTSTAMP:20260422T162920Z
DESCRIPTION:31/153 Šlapanice - Břeclav 1:3 (16\,-20\,-13\,-14)
DTSTART;TZID=Europe/Berlin:20250301T090000
DTEND;TZID=Europe/Berlin:20250301T110000
LOCATION:Hala TJ Sokol Šlapanice\, Smetanova 1662 Šlapanice
SUMMARY:2-Z-C: Šlapanice-Břeclav
END:VEVENT
BEGIN:VEVENT
UID:31356566-6531-4533-b236-623835313466
DTSTAMP:20260422T162920Z
DESCRIPTION:32/158 Šlapanice - Břeclav 0:3 (-18\,-22\,-14)
DTSTART;TZID=Europe/Berlin:20250301T130000
DTEND;TZID=Europe/Berlin:20250301T150000
LOCATION:Hala TJ Sokol Šlapanice\, Smetanova 1662 Šlapanice
SUMMARY:2-Z-C: Šlapanice-Břeclav
END:VEVENT
BEGIN:VEVENT
UID:64313438-3863-4431-b139-623566666366
DTSTAMP:20260422T162920Z
DESCRIPTION:35/172 Ostrava B - Břeclav 3:0 (21\,9\,16)
DTSTART;TZID=Europe/Berlin:20250315T110000
DTEND;TZID=Europe/Berlin:20250315T130000
LOCATION:Hala mládeže\, Gajdošova 1893 Ostrava - Moravská Ostrava
SUMMARY:2-Z-C: Ostrava B-Břeclav
END:VEVENT
BEGIN:VEVENT
UID:32353261-3337-4162-b564-343563663638
DTSTAMP:20260422T162920Z
DESCRIPTION:36/177 Ostrava B - Břeclav 3:0 (23\,9\,24)
DTSTART;TZID=Europe/Berlin:20250315T150000
DTEND;TZID=Europe/Berlin:20250315T170000
LOCATION:Hala mládeže\, Gajdošova 1893 Ostrava - Moravská Ostrava
SUMMARY:2-Z-C: Ostrava B-Břeclav
END:VEVENT
END:VCALENDAR
