BEGIN:VCALENDAR
VERSION:2.0
PRODID:-//Volejbal Plzeň B85887//NONSGML kigkonsult.se iCalcreator 2.41.80//
CALSCALE:GREGORIAN
UID:30386165-3730-4864-a235-336337623736
BEGIN:VEVENT
UID:31333561-3665-4638-b564-636230323164
DTSTAMP:20260423T000347Z
DESCRIPTION:3/12 Plzeň B - Děčín-Rumburk 3:2 (-22\,-17\,13\,17\,8)
DTSTART;TZID=Europe/Berlin:20241012T100000
DTEND;TZID=Europe/Berlin:20241012T120000
LOCATION:Městská sportovní hala  -  hala 1\, Úslavská 2357 Plzeň - Východní
  Předměstí
SUMMARY:2-Z-A: Plzeň B-Děčín-Rumburk
END:VEVENT
BEGIN:VEVENT
UID:33323335-3637-4338-a430-386534323862
DTSTAMP:20260423T000347Z
DESCRIPTION:4/17 Plzeň B - Děčín-Rumburk 3:1 (24\,-23\,15\,18)
DTSTART;TZID=Europe/Berlin:20241012T140000
DTEND;TZID=Europe/Berlin:20241012T160000
LOCATION:Městská sportovní hala  -  hala 1\, Úslavská 2357 Plzeň - Východní
  Předměstí
SUMMARY:2-Z-A: Plzeň B-Děčín-Rumburk
END:VEVENT
BEGIN:VEVENT
UID:61626333-6166-4565-b663-626233343839
DTSTAMP:20260423T000347Z
DESCRIPTION:9/45 Plzeň B - Liberec 3:0 (25\,21\,11)
DTSTART;TZID=Europe/Berlin:20241109T110000
DTEND;TZID=Europe/Berlin:20241109T130000
LOCATION:Městská sportovní hala  -  hala 1\, Úslavská 2357 Plzeň - Východní
  Předměstí
SUMMARY:2-Z-A: Plzeň B-Liberec
END:VEVENT
BEGIN:VEVENT
UID:34313939-3163-4237-b639-366335663233
DTSTAMP:20260423T000347Z
DESCRIPTION:10/50 Plzeň B - Liberec 3:2 (-14\,20\,-13\,21\,9)
DTSTART;TZID=Europe/Berlin:20241109T150000
DTEND;TZID=Europe/Berlin:20241109T170000
LOCATION:Městská sportovní hala  -  hala 1\, Úslavská 2357 Plzeň - Východní
  Předměstí
SUMMARY:2-Z-A: Plzeň B-Liberec
END:VEVENT
BEGIN:VEVENT
UID:30323263-3638-4638-b736-313932346364
DTSTAMP:20260423T000347Z
DESCRIPTION:13/64 Plzeň B - Tuchlovice 0:3 (-18\,-23\,-22)
DTSTART;TZID=Europe/Berlin:20241130T090000
DTEND;TZID=Europe/Berlin:20241130T110000
LOCATION:Hala PF ZČU Plzeň\, Klatovská třída 1736 Plzeň - Jižní Předměstí
SUMMARY:2-Z-A: Plzeň B-Tuchlovice
END:VEVENT
BEGIN:VEVENT
UID:38633463-3466-4335-b562-303638393161
DTSTAMP:20260423T000347Z
DESCRIPTION:14/69 Plzeň B - Tuchlovice 2:3 (12\,24\,-23\,-22\,-15)
DTSTART;TZID=Europe/Berlin:20241130T130000
DTEND;TZID=Europe/Berlin:20241130T150000
LOCATION:Hala PF ZČU Plzeň\, Klatovská třída 1736 Plzeň - Jižní Předměstí
SUMMARY:2-Z-A: Plzeň B-Tuchlovice
END:VEVENT
BEGIN:VEVENT
UID:62323130-6638-4237-a236-653438346366
DTSTAMP:20260423T000347Z
DESCRIPTION:17/83 Plzeň B - Chabařovice 3:1 (-23\,14\,20\,15)
DTSTART;TZID=Europe/Berlin:20241214T100000
DTEND;TZID=Europe/Berlin:20241214T120000
LOCATION:Hala ZČU Plzeň Univerzitní 14\, Univerzitní 2765 Plzeň - Jižní Pře
 dměstí
SUMMARY:2-Z-A: Plzeň B-Chabařovice
END:VEVENT
BEGIN:VEVENT
UID:64333664-6436-4239-a166-323664353138
DTSTAMP:20260423T000347Z
DESCRIPTION:18/88 Plzeň B - Chabařovice 2:3 (-15\,25\,19\,-25\,-12)
DTSTART;TZID=Europe/Berlin:20241214T140000
DTEND;TZID=Europe/Berlin:20241214T160000
LOCATION:Hala ZČU Plzeň Univerzitní 14\, Univerzitní 2765 Plzeň - Jižní Pře
 dměstí
SUMMARY:2-Z-A: Plzeň B-Chabařovice
END:VEVENT
BEGIN:VEVENT
UID:32393962-3437-4335-b163-643831636663
DTSTAMP:20260423T000347Z
DESCRIPTION:19/94 Plzeň B - Mnichovo Hradiště 2:3 (20\,-20\,23\,-25\,-15)
DTSTART;TZID=Europe/Berlin:20250111T110000
DTEND;TZID=Europe/Berlin:20250111T130000
LOCATION:Městská sportovní hala  -  hala 1\, Úslavská 2357 Plzeň - Východní
  Předměstí
SUMMARY:2-Z-A: Plzeň B-Mnichovo Hradiště
END:VEVENT
BEGIN:VEVENT
UID:37356661-6535-4434-a163-613331363038
DTSTAMP:20260423T000347Z
DESCRIPTION:20/99 Plzeň B - Mnichovo Hradiště 3:0 (21\,14\,22)
DTSTART;TZID=Europe/Berlin:20250111T150000
DTEND;TZID=Europe/Berlin:20250111T170000
LOCATION:Městská sportovní hala  -  hala 1\, Úslavská 2357 Plzeň - Východní
  Předměstí
SUMMARY:2-Z-A: Plzeň B-Mnichovo Hradiště
END:VEVENT
BEGIN:VEVENT
UID:38636562-6534-4639-a263-363837613663
DTSTAMP:20260423T000347Z
DESCRIPTION:23/115 Plzeň B - S V B C 3:1 (-22\,23\,19\,9)
DTSTART;TZID=Europe/Berlin:20250125T090000
DTEND;TZID=Europe/Berlin:20250125T110000
LOCATION:Hala PF ZČU Plzeň\, Klatovská třída 1736 Plzeň - Jižní Předměstí
SUMMARY:2-Z-A: Plzeň B-S V B C
END:VEVENT
BEGIN:VEVENT
UID:37396133-6161-4238-a331-396630323334
DTSTAMP:20260423T000347Z
DESCRIPTION:24/120 Plzeň B - S V B C 3:1 (21\,-17\,22\,24)
DTSTART;TZID=Europe/Berlin:20250125T130000
DTEND;TZID=Europe/Berlin:20250125T150000
LOCATION:Hala PF ZČU Plzeň\, Klatovská třída 1736 Plzeň - Jižní Předměstí
SUMMARY:2-Z-A: Plzeň B-S V B C
END:VEVENT
BEGIN:VEVENT
UID:62303830-6232-4761-b866-363664353832
DTSTAMP:20260423T000347Z
DESCRIPTION:25/121 Plzeň B - Bižuterie 3:2 (-23\,22\,16\,-19\,7)
DTSTART;TZID=Europe/Berlin:20250201T100000
DTEND;TZID=Europe/Berlin:20250201T120000
LOCATION:Městská sportovní hala  -  hala 2\, Úslavská 2357 Plzeň - Východní
  Předměstí
SUMMARY:2-Z-A: Plzeň B-Bižuterie
END:VEVENT
BEGIN:VEVENT
UID:33623162-3962-4531-b666-333331623564
DTSTAMP:20260423T000347Z
DESCRIPTION:26/126 Plzeň B - Bižuterie 3:0 (18\,15\,10)
DTSTART;TZID=Europe/Berlin:20250201T140000
DTEND;TZID=Europe/Berlin:20250201T160000
LOCATION:Městská sportovní hala  -  hala 2\, Úslavská 2357 Plzeň - Východní
  Předměstí
SUMMARY:2-Z-A: Plzeň B-Bižuterie
END:VEVENT
BEGIN:VEVENT
UID:30393939-6634-4666-b838-613736323530
DTSTAMP:20260423T000347Z
DESCRIPTION:29/142 Plzeň B - NVC ČVS 3:1 (21\,-22\,17\,16)
DTSTART;TZID=Europe/Berlin:20250215T090000
DTEND;TZID=Europe/Berlin:20250215T110000
LOCATION:Městská sportovní hala  -  hala 1\, Úslavská 2357 Plzeň - Východní
  Předměstí
SUMMARY:2-Z-A: Plzeň B-NVC ČVS
END:VEVENT
BEGIN:VEVENT
UID:30663263-6266-4235-a630-336663613365
DTSTAMP:20260423T000347Z
DESCRIPTION:30/147 Plzeň B - NVC ČVS 3:1 (17\,5\,-22\,14)
DTSTART;TZID=Europe/Berlin:20250215T130000
DTEND;TZID=Europe/Berlin:20250215T150000
LOCATION:Městská sportovní hala  -  hala 1\, Úslavská 2357 Plzeň - Východní
  Předměstí
SUMMARY:2-Z-A: Plzeň B-NVC ČVS
END:VEVENT
BEGIN:VEVENT
UID:62346166-6439-4565-b664-383833323738
DTSTAMP:20260423T000347Z
DESCRIPTION:33/163 Plzeň B - Kralupy 1:3 (-14\,-22\,22\,-23)
DTSTART;TZID=Europe/Berlin:20250308T090000
DTEND;TZID=Europe/Berlin:20250308T110000
LOCATION:Městská sportovní hala  -  hala 1\, Úslavská 2357 Plzeň - Východní
  Předměstí
SUMMARY:2-Z-A: Plzeň B-Kralupy
END:VEVENT
BEGIN:VEVENT
UID:61306530-3462-4466-b965-323061643863
DTSTAMP:20260423T000347Z
DESCRIPTION:34/168 Plzeň B - Kralupy 1:3 (17\,-20\,-21\,-18)
DTSTART;TZID=Europe/Berlin:20250308T130000
DTEND;TZID=Europe/Berlin:20250308T150000
LOCATION:Městská sportovní hala  -  hala 1\, Úslavská 2357 Plzeň - Východní
  Předměstí
SUMMARY:2-Z-A: Plzeň B-Kralupy
END:VEVENT
BEGIN:VEVENT
UID:38336534-3237-4636-b238-303336646166
DTSTAMP:20260423T000347Z
DESCRIPTION:1/4 Mnichovo Hradiště - Plzeň B 1:3 (-16\,21\,-20\,-6)
DTSTART;TZID=Europe/Berlin:20241005T110000
DTEND;TZID=Europe/Berlin:20241005T130000
LOCATION:Sportovní hala BIOS\, Sokolovská 254 Mnichovo Hradiště
SUMMARY:2-Z-A: Mnichovo Hradiště-Plzeň B
END:VEVENT
BEGIN:VEVENT
UID:64663962-3961-4166-a665-346533303831
DTSTAMP:20260423T000347Z
DESCRIPTION:2/9 Mnichovo Hradiště - Plzeň B 3:2 (-21\,-25\,20\,17\,13)
DTSTART;TZID=Europe/Berlin:20241005T150000
DTEND;TZID=Europe/Berlin:20241005T170000
LOCATION:Sportovní hala BIOS\, Sokolovská 254 Mnichovo Hradiště
SUMMARY:2-Z-A: Mnichovo Hradiště-Plzeň B
END:VEVENT
BEGIN:VEVENT
UID:65366264-3035-4935-b962-346136326632
DTSTAMP:20260423T000347Z
DESCRIPTION:5/25 S V B C - Plzeň B 3:0 (23\,24\,19)
DTSTART;TZID=Europe/Berlin:20241019T100000
DTEND;TZID=Europe/Berlin:20241019T120000
LOCATION:Sportovní hala Řevnice \, Školní 600 Řevnice
SUMMARY:2-Z-A: S V B C-Plzeň B
END:VEVENT
BEGIN:VEVENT
UID:37316438-3233-4766-b233-363038326138
DTSTAMP:20260423T000347Z
DESCRIPTION:6/30 S V B C - Plzeň B 3:1 (24\,12\,-28\,18)
DTSTART;TZID=Europe/Berlin:20241019T140000
DTEND;TZID=Europe/Berlin:20241019T160000
LOCATION:Sportovní hala Řevnice \, Školní 600 Řevnice
SUMMARY:2-Z-A: S V B C-Plzeň B
END:VEVENT
BEGIN:VEVENT
UID:38313139-3061-4332-b866-383164653430
DTSTAMP:20260423T000347Z
DESCRIPTION:7/31 Bižuterie - Plzeň B 3:2 (-23\,24\,-19\,22\,12)
DTSTART;TZID=Europe/Berlin:20241102T090000
DTEND;TZID=Europe/Berlin:20241102T110000
LOCATION:Sokolovna Jablonec nad Nisou\, Fügnerova 1054 Jablonec nad Nisou
SUMMARY:2-Z-A: Bižuterie-Plzeň B
END:VEVENT
BEGIN:VEVENT
UID:35313633-3134-4564-b265-363266323235
DTSTAMP:20260423T000347Z
DESCRIPTION:8/36 Bižuterie - Plzeň B 2:3 (21\,-17\,-14\,22\,-16)
DTSTART;TZID=Europe/Berlin:20241102T130000
DTEND;TZID=Europe/Berlin:20241102T150000
LOCATION:Sokolovna Jablonec nad Nisou\, Fügnerova 1054 Jablonec nad Nisou
SUMMARY:2-Z-A: Bižuterie-Plzeň B
END:VEVENT
BEGIN:VEVENT
UID:38373564-3466-4439-b364-353363623562
DTSTAMP:20260423T000347Z
DESCRIPTION:11/52 NVC ČVS - Plzeň B 0:3 (-17\,-20\,-17)
DTSTART;TZID=Europe/Berlin:20241116T100000
DTEND;TZID=Europe/Berlin:20241116T120000
LOCATION:Městská hala\, Smetanova 1302 Unhošť
SUMMARY:2-Z-A: NVC ČVS-Plzeň B
END:VEVENT
BEGIN:VEVENT
UID:39636365-6135-4233-a530-633439666164
DTSTAMP:20260423T000347Z
DESCRIPTION:12/57 NVC ČVS - Plzeň B 3:0 (20\,19\,23)
DTSTART;TZID=Europe/Berlin:20241116T140000
DTEND;TZID=Europe/Berlin:20241116T160000
LOCATION:Městská hala\, Smetanova 1302 Unhošť
SUMMARY:2-Z-A: NVC ČVS-Plzeň B
END:VEVENT
BEGIN:VEVENT
UID:63356164-3366-4639-b665-643263653537
DTSTAMP:20260423T000347Z
DESCRIPTION:15/73 Kralupy - Plzeň B 3:0 (17\,11\,26)
DTSTART;TZID=Europe/Berlin:20241207T100000
DTEND;TZID=Europe/Berlin:20241207T120000
LOCATION:TJ KRALUPY\, z.s.\, Gen. Klapálka 1029 Kralupy nad Vltavou
SUMMARY:2-Z-A: Kralupy-Plzeň B
END:VEVENT
BEGIN:VEVENT
UID:38366239-6638-4536-b964-386333313866
DTSTAMP:20260423T000347Z
DESCRIPTION:16/78 Kralupy - Plzeň B 3:0 (16\,20\,21)
DTSTART;TZID=Europe/Berlin:20241207T140000
DTEND;TZID=Europe/Berlin:20241207T160000
LOCATION:TJ KRALUPY\, z.s.\, Gen. Klapálka 1029 Kralupy nad Vltavou
SUMMARY:2-Z-A: Kralupy-Plzeň B
END:VEVENT
BEGIN:VEVENT
UID:34623534-6636-4262-a330-353130356262
DTSTAMP:20260423T000347Z
DESCRIPTION:21/102 Děčín-Rumburk - Plzeň B 3:0 (23\,18\,22)
DTSTART;TZID=Europe/Berlin:20250118T100000
DTEND;TZID=Europe/Berlin:20250118T120000
LOCATION:Tělocvična OA Rumburk\, Komenského 927 Rumburk - Rumburk 1
SUMMARY:2-Z-A: Děčín-Rumburk-Plzeň B
END:VEVENT
BEGIN:VEVENT
UID:66633930-3836-4633-b961-313630343563
DTSTAMP:20260423T000347Z
DESCRIPTION:22/107 Děčín-Rumburk - Plzeň B 0:3 (-21\,-21\,-20)
DTSTART;TZID=Europe/Berlin:20250118T140000
DTEND;TZID=Europe/Berlin:20250118T160000
LOCATION:Tělocvična OA Rumburk\, Komenského 927 Rumburk - Rumburk 1
SUMMARY:2-Z-A: Děčín-Rumburk-Plzeň B
END:VEVENT
BEGIN:VEVENT
UID:66383066-3330-4439-b863-353064353464
DTSTAMP:20260423T000347Z
DESCRIPTION:27/135 Liberec - Plzeň B 1:3 (22\,-22\,-20\,-17)
DTSTART;TZID=Europe/Berlin:20250208T100000
DTEND;TZID=Europe/Berlin:20250208T120000
LOCATION:TJ Lokomotiva Liberec 1.\, z.s.\, Jablonecká 562 Liberec - Liberec
  I-Staré Město
SUMMARY:2-Z-A: Liberec-Plzeň B
END:VEVENT
BEGIN:VEVENT
UID:37613731-3665-4363-b635-643033616563
DTSTAMP:20260423T000347Z
DESCRIPTION:28/140 Liberec - Plzeň B 0:3 (-23\,-19\,-21)
DTSTART;TZID=Europe/Berlin:20250208T140000
DTEND;TZID=Europe/Berlin:20250208T160000
LOCATION:TJ Lokomotiva Liberec 1.\, z.s.\, Jablonecká 562 Liberec - Liberec
  I-Staré Město
SUMMARY:2-Z-A: Liberec-Plzeň B
END:VEVENT
BEGIN:VEVENT
UID:39396635-6265-4761-a535-666434373365
DTSTAMP:20260423T000347Z
DESCRIPTION:31/154 Tuchlovice - Plzeň B 1:3 (-22\,-18\,13\,-20)
DTSTART;TZID=Europe/Berlin:20250301T100000
DTEND;TZID=Europe/Berlin:20250301T120000
LOCATION:Sportovní hala - Doksy\, Sokolská 230 Doksy
SUMMARY:2-Z-A: Tuchlovice-Plzeň B
END:VEVENT
BEGIN:VEVENT
UID:34366238-3462-4561-a632-643435393435
DTSTAMP:20260423T000347Z
DESCRIPTION:32/159 Tuchlovice - Plzeň B 0:3 (-20\,-25\,-15)
DTSTART;TZID=Europe/Berlin:20250301T140000
DTEND;TZID=Europe/Berlin:20250301T160000
LOCATION:Sportovní hala - Doksy\, Sokolská 230 Doksy
SUMMARY:2-Z-A: Tuchlovice-Plzeň B
END:VEVENT
BEGIN:VEVENT
UID:38356131-3263-4864-a232-343932306161
DTSTAMP:20260423T000347Z
DESCRIPTION:35/173 Chabařovice - Plzeň B 1:3 (-22\,-9\,23\,-17)
DTSTART;TZID=Europe/Berlin:20250315T100000
DTEND;TZID=Europe/Berlin:20250315T120000
LOCATION:Sportovní hala Chabařovice\, V Aleji 400 Chabařovice
SUMMARY:2-Z-A: Chabařovice-Plzeň B
END:VEVENT
BEGIN:VEVENT
UID:36656539-3061-4036-b262-313839323061
DTSTAMP:20260423T000347Z
DESCRIPTION:36/178 Chabařovice - Plzeň B 0:3 (-21\,-23\,-20)
DTSTART;TZID=Europe/Berlin:20250315T140000
DTEND;TZID=Europe/Berlin:20250315T160000
LOCATION:Sportovní hala Chabařovice\, V Aleji 400 Chabařovice
SUMMARY:2-Z-A: Chabařovice-Plzeň B
END:VEVENT
END:VCALENDAR
