BEGIN:VCALENDAR
VERSION:2.0
PRODID:-//VK Tuchlovice85892//NONSGML kigkonsult.se iCalcreator 2.41.80//
CALSCALE:GREGORIAN
UID:32366438-3061-4130-b965-306261316538
BEGIN:VEVENT
UID:65326264-3463-4661-a539-663534323464
DTSTAMP:20260423T000402Z
DESCRIPTION:1/1 Tuchlovice - Bižuterie 3:0 (20\,16\,16)
DTSTART;TZID=Europe/Berlin:20241005T090000
DTEND;TZID=Europe/Berlin:20241005T110000
LOCATION:Sportovní hala - Doksy\, Sokolská 230 Doksy
SUMMARY:2-Z-A: Tuchlovice-Bižuterie
END:VEVENT
BEGIN:VEVENT
UID:65393662-3531-4631-b139-303034613666
DTSTAMP:20260423T000402Z
DESCRIPTION:2/6 Tuchlovice - Bižuterie 3:1 (-22\,17\,6\,21)
DTSTART;TZID=Europe/Berlin:20241005T130000
DTEND;TZID=Europe/Berlin:20241005T150000
LOCATION:Sportovní hala - Doksy\, Sokolská 230 Doksy
SUMMARY:2-Z-A: Tuchlovice-Bižuterie
END:VEVENT
BEGIN:VEVENT
UID:33376564-3136-4161-b762-626235356230
DTSTAMP:20260423T000402Z
DESCRIPTION:3/15 Tuchlovice - Kralupy 3:1 (-21\,22\,18\,20)
DTSTART;TZID=Europe/Berlin:20241012T090000
DTEND;TZID=Europe/Berlin:20241012T110000
LOCATION:Sportovní hala - Doksy\, Sokolská 230 Doksy
SUMMARY:2-Z-A: Tuchlovice-Kralupy
END:VEVENT
BEGIN:VEVENT
UID:31326135-3432-4265-a636-373139393164
DTSTAMP:20260423T000402Z
DESCRIPTION:4/20 Tuchlovice - Kralupy 3:2 (-18\,24\,-23\,25\,9)
DTSTART;TZID=Europe/Berlin:20241012T130000
DTEND;TZID=Europe/Berlin:20241012T150000
LOCATION:Sportovní hala - Doksy\, Sokolská 230 Doksy
SUMMARY:2-Z-A: Tuchlovice-Kralupy
END:VEVENT
BEGIN:VEVENT
UID:61666361-3365-4430-b434-656235653539
DTSTAMP:20260423T000402Z
DESCRIPTION:7/34 Tuchlovice - Mnichovo Hradiště 3:1 (19\,21\,-23\,22)
DTSTART;TZID=Europe/Berlin:20241102T090000
DTEND;TZID=Europe/Berlin:20241102T110000
LOCATION:Sportovní hala - Doksy\, Sokolská 230 Doksy
SUMMARY:2-Z-A: Tuchlovice-Mnichovo Hradiště
END:VEVENT
BEGIN:VEVENT
UID:30623661-6639-4637-b234-376439373437
DTSTAMP:20260423T000402Z
DESCRIPTION:8/39 Tuchlovice - Mnichovo Hradiště 3:1 (16\,20\,-17\,16)
DTSTART;TZID=Europe/Berlin:20241102T130000
DTEND;TZID=Europe/Berlin:20241102T150000
LOCATION:Sportovní hala - Doksy\, Sokolská 230 Doksy
SUMMARY:2-Z-A: Tuchlovice-Mnichovo Hradiště
END:VEVENT
BEGIN:VEVENT
UID:62303134-3165-4066-b437-633562383130
DTSTAMP:20260423T000402Z
DESCRIPTION:15/72 Tuchlovice - Liberec 2:3 (14\,-20\,-21\,19\,-11)
DTSTART;TZID=Europe/Berlin:20241207T100000
DTEND;TZID=Europe/Berlin:20241207T120000
LOCATION:Sportovní hala - Doksy\, Sokolská 230 Doksy
SUMMARY:2-Z-A: Tuchlovice-Liberec
END:VEVENT
BEGIN:VEVENT
UID:66396263-3431-4362-a634-343664363934
DTSTAMP:20260423T000402Z
DESCRIPTION:16/77 Tuchlovice - Liberec 0:3 (-15\,-24\,-15)
DTSTART;TZID=Europe/Berlin:20241207T140000
DTEND;TZID=Europe/Berlin:20241207T160000
LOCATION:Sportovní hala - Doksy\, Sokolská 230 Doksy
SUMMARY:2-Z-A: Tuchlovice-Liberec
END:VEVENT
BEGIN:VEVENT
UID:66353661-3238-4130-a339-373737316130
DTSTAMP:20260423T000402Z
DESCRIPTION:23/112 Tuchlovice - Chabařovice 3:0 (16\,23\,22)
DTSTART;TZID=Europe/Berlin:20250125T100000
DTEND;TZID=Europe/Berlin:20250125T120000
LOCATION:Sportovní hala - Doksy\, Sokolská 230 Doksy
SUMMARY:2-Z-A: Tuchlovice-Chabařovice
END:VEVENT
BEGIN:VEVENT
UID:65383264-6436-4163-b839-383036346533
DTSTAMP:20260423T000402Z
DESCRIPTION:24/117 Tuchlovice - Chabařovice 3:1 (22\,-24\,22\,19)
DTSTART;TZID=Europe/Berlin:20250125T140000
DTEND;TZID=Europe/Berlin:20250125T160000
LOCATION:Sportovní hala - Doksy\, Sokolská 230 Doksy
SUMMARY:2-Z-A: Tuchlovice-Chabařovice
END:VEVENT
BEGIN:VEVENT
UID:63613364-6162-4466-b831-643833613463
DTSTAMP:20260423T000402Z
DESCRIPTION:27/133 Tuchlovice - Děčín-Rumburk 3:1 (23\,13\,-20\,23)
DTSTART;TZID=Europe/Berlin:20250208T100000
DTEND;TZID=Europe/Berlin:20250208T120000
LOCATION:Sportovní hala - Doksy\, Sokolská 230 Doksy
SUMMARY:2-Z-A: Tuchlovice-Děčín-Rumburk
END:VEVENT
BEGIN:VEVENT
UID:33653362-3261-4137-b935-356563613561
DTSTAMP:20260423T000402Z
DESCRIPTION:28/138 Tuchlovice - Děčín-Rumburk 3:0 (16\,20\,15)
DTSTART;TZID=Europe/Berlin:20250208T140000
DTEND;TZID=Europe/Berlin:20250208T160000
LOCATION:Sportovní hala - Doksy\, Sokolská 230 Doksy
SUMMARY:2-Z-A: Tuchlovice-Děčín-Rumburk
END:VEVENT
BEGIN:VEVENT
UID:30366163-3035-4066-a330-626433343165
DTSTAMP:20260423T000402Z
DESCRIPTION:29/143 Tuchlovice - S V B C 3:1 (-17\,22\,25\,26)
DTSTART;TZID=Europe/Berlin:20250309T100000
DTEND;TZID=Europe/Berlin:20250309T120000
LOCATION:Sportovní hala - Doksy\, Sokolská 230 Doksy
SUMMARY:2-Z-A: Tuchlovice-S V B C
END:VEVENT
BEGIN:VEVENT
UID:66336636-3666-4230-b733-636663376531
DTSTAMP:20260423T000402Z
DESCRIPTION:30/148 Tuchlovice - S V B C 2:3 (-26\,12\,-23\,19\,-11)
DTSTART;TZID=Europe/Berlin:20250309T140000
DTEND;TZID=Europe/Berlin:20250309T160000
LOCATION:Sportovní hala - Doksy\, Sokolská 230 Doksy
SUMMARY:2-Z-A: Tuchlovice-S V B C
END:VEVENT
BEGIN:VEVENT
UID:30646335-3537-4239-b136-353931346162
DTSTAMP:20260423T000402Z
DESCRIPTION:31/154 Tuchlovice - Plzeň B 1:3 (-22\,-18\,13\,-20)
DTSTART;TZID=Europe/Berlin:20250301T100000
DTEND;TZID=Europe/Berlin:20250301T120000
LOCATION:Sportovní hala - Doksy\, Sokolská 230 Doksy
SUMMARY:2-Z-A: Tuchlovice-Plzeň B
END:VEVENT
BEGIN:VEVENT
UID:65376139-3733-4138-b161-303165336261
DTSTAMP:20260423T000402Z
DESCRIPTION:32/159 Tuchlovice - Plzeň B 0:3 (-20\,-25\,-15)
DTSTART;TZID=Europe/Berlin:20250301T140000
DTEND;TZID=Europe/Berlin:20250301T160000
LOCATION:Sportovní hala - Doksy\, Sokolská 230 Doksy
SUMMARY:2-Z-A: Tuchlovice-Plzeň B
END:VEVENT
BEGIN:VEVENT
UID:32653131-6634-4862-b235-373764663263
DTSTAMP:20260423T000402Z
DESCRIPTION:35/175 Tuchlovice - NVC ČVS 3:0 (26\,23\,23)
DTSTART;TZID=Europe/Berlin:20250315T090000
DTEND;TZID=Europe/Berlin:20250315T110000
LOCATION:Sportovní hala - Doksy\, Sokolská 230 Doksy
SUMMARY:2-Z-A: Tuchlovice-NVC ČVS
END:VEVENT
BEGIN:VEVENT
UID:31633063-3761-4565-b465-623061343039
DTSTAMP:20260423T000402Z
DESCRIPTION:36/180 Tuchlovice - NVC ČVS 3:0 (13\,22\,14)
DTSTART;TZID=Europe/Berlin:20250315T130000
DTEND;TZID=Europe/Berlin:20250315T150000
LOCATION:Sportovní hala - Doksy\, Sokolská 230 Doksy
SUMMARY:2-Z-A: Tuchlovice-NVC ČVS
END:VEVENT
BEGIN:VEVENT
UID:37633233-3335-4232-b763-343935393262
DTSTAMP:20260423T000402Z
DESCRIPTION:5/22 Chabařovice - Tuchlovice 3:1 (16\,15\,-12\,17)
DTSTART;TZID=Europe/Berlin:20241019T100000
DTEND;TZID=Europe/Berlin:20241019T120000
LOCATION:Sportovní hala Chabařovice\, V Aleji 400 Chabařovice
SUMMARY:2-Z-A: Chabařovice-Tuchlovice
END:VEVENT
BEGIN:VEVENT
UID:37366366-3664-4930-a436-333361393163
DTSTAMP:20260423T000402Z
DESCRIPTION:6/27 Chabařovice - Tuchlovice 3:0 (9\,12\,13)
DTSTART;TZID=Europe/Berlin:20241019T140000
DTEND;TZID=Europe/Berlin:20241019T160000
LOCATION:Sportovní hala Chabařovice\, V Aleji 400 Chabařovice
SUMMARY:2-Z-A: Chabařovice-Tuchlovice
END:VEVENT
BEGIN:VEVENT
UID:38663633-3331-4737-b062-633462616663
DTSTAMP:20260423T000402Z
DESCRIPTION:9/43 Děčín-Rumburk - Tuchlovice 0:3 (-17\,-18\,-22)
DTSTART;TZID=Europe/Berlin:20241109T100000
DTEND;TZID=Europe/Berlin:20241109T120000
LOCATION:Tělocvična OA Rumburk\, Komenského 927 Rumburk - Rumburk 1
SUMMARY:2-Z-A: Děčín-Rumburk-Tuchlovice
END:VEVENT
BEGIN:VEVENT
UID:61363862-3264-4339-b332-323631656366
DTSTAMP:20260423T000402Z
DESCRIPTION:10/48 Děčín-Rumburk - Tuchlovice 3:2 (-22\,16\,17\,-21\,16)
DTSTART;TZID=Europe/Berlin:20241109T140000
DTEND;TZID=Europe/Berlin:20241109T160000
LOCATION:Tělocvična OA Rumburk\, Komenského 927 Rumburk - Rumburk 1
SUMMARY:2-Z-A: Děčín-Rumburk-Tuchlovice
END:VEVENT
BEGIN:VEVENT
UID:65366365-3134-4638-a161-666437356430
DTSTAMP:20260423T000402Z
DESCRIPTION:11/53 S V B C - Tuchlovice 3:0 (12\,22\,13)
DTSTART;TZID=Europe/Berlin:20241116T100000
DTEND;TZID=Europe/Berlin:20241116T120000
LOCATION:Sportovní hala Řevnice \, Školní 600 Řevnice
SUMMARY:2-Z-A: S V B C-Tuchlovice
END:VEVENT
BEGIN:VEVENT
UID:61636134-3536-4362-b061-663935366231
DTSTAMP:20260423T000402Z
DESCRIPTION:12/58 S V B C - Tuchlovice 3:1 (18\,-24\,22\,23)
DTSTART;TZID=Europe/Berlin:20241116T140000
DTEND;TZID=Europe/Berlin:20241116T160000
LOCATION:Sportovní hala Řevnice \, Školní 600 Řevnice
SUMMARY:2-Z-A: S V B C-Tuchlovice
END:VEVENT
BEGIN:VEVENT
UID:64646138-6265-4633-b830-626462626365
DTSTAMP:20260423T000402Z
DESCRIPTION:13/64 Plzeň B - Tuchlovice 0:3 (-18\,-23\,-22)
DTSTART;TZID=Europe/Berlin:20241130T090000
DTEND;TZID=Europe/Berlin:20241130T110000
LOCATION:Hala PF ZČU Plzeň\, Klatovská třída 1736 Plzeň - Jižní Předměstí
SUMMARY:2-Z-A: Plzeň B-Tuchlovice
END:VEVENT
BEGIN:VEVENT
UID:34313061-3264-4037-b334-656238646635
DTSTAMP:20260423T000402Z
DESCRIPTION:14/69 Plzeň B - Tuchlovice 2:3 (12\,24\,-23\,-22\,-15)
DTSTART;TZID=Europe/Berlin:20241130T130000
DTEND;TZID=Europe/Berlin:20241130T150000
LOCATION:Hala PF ZČU Plzeň\, Klatovská třída 1736 Plzeň - Jižní Předměstí
SUMMARY:2-Z-A: Plzeň B-Tuchlovice
END:VEVENT
BEGIN:VEVENT
UID:39303739-3163-4364-b433-306133363933
DTSTAMP:20260423T000402Z
DESCRIPTION:17/85 NVC ČVS - Tuchlovice 1:3 (23\,-21\,-15\,-24)
DTSTART;TZID=Europe/Berlin:20241214T100000
DTEND;TZID=Europe/Berlin:20241214T120000
LOCATION:Městská hala\, Smetanova 1302 Unhošť
SUMMARY:2-Z-A: NVC ČVS-Tuchlovice
END:VEVENT
BEGIN:VEVENT
UID:35653835-3032-4039-b338-306433613033
DTSTAMP:20260423T000402Z
DESCRIPTION:18/90 NVC ČVS - Tuchlovice 1:3 (21\,-21\,-20\,-15)
DTSTART;TZID=Europe/Berlin:20241214T140000
DTEND;TZID=Europe/Berlin:20241214T160000
LOCATION:Městská hala\, Smetanova 1302 Unhošť
SUMMARY:2-Z-A: NVC ČVS-Tuchlovice
END:VEVENT
BEGIN:VEVENT
UID:32643631-3966-4131-a164-656537366235
DTSTAMP:20260423T000402Z
DESCRIPTION:19/91 Bižuterie - Tuchlovice 0:3 (-23\,-20\,-18)
DTSTART;TZID=Europe/Berlin:20250111T100000
DTEND;TZID=Europe/Berlin:20250111T120000
LOCATION:Městská sportovní hala\, U Přehrady 4747 Jablonec nad Nisou
SUMMARY:2-Z-A: Bižuterie-Tuchlovice
END:VEVENT
BEGIN:VEVENT
UID:65383262-3936-4331-b662-656339333931
DTSTAMP:20260423T000402Z
DESCRIPTION:20/96 Bižuterie - Tuchlovice 3:0 (15\,14\,26)
DTSTART;TZID=Europe/Berlin:20250111T140000
DTEND;TZID=Europe/Berlin:20250111T160000
LOCATION:Městská sportovní hala\, U Přehrady 4747 Jablonec nad Nisou
SUMMARY:2-Z-A: Bižuterie-Tuchlovice
END:VEVENT
BEGIN:VEVENT
UID:61383762-3136-4931-a261-376166303466
DTSTAMP:20260423T000402Z
DESCRIPTION:21/105 Kralupy - Tuchlovice 1:3 (-20\,19\,-23\,-18)
DTSTART;TZID=Europe/Berlin:20250118T100000
DTEND;TZID=Europe/Berlin:20250118T120000
LOCATION:TJ KRALUPY\, z.s.\, Gen. Klapálka 1029 Kralupy nad Vltavou
SUMMARY:2-Z-A: Kralupy-Tuchlovice
END:VEVENT
BEGIN:VEVENT
UID:38656633-3532-4462-b139-616136626239
DTSTAMP:20260423T000402Z
DESCRIPTION:22/110 Kralupy - Tuchlovice 1:3 (-14\,-21\,19\,-21)
DTSTART;TZID=Europe/Berlin:20250118T140000
DTEND;TZID=Europe/Berlin:20250118T160000
LOCATION:TJ KRALUPY\, z.s.\, Gen. Klapálka 1029 Kralupy nad Vltavou
SUMMARY:2-Z-A: Kralupy-Tuchlovice
END:VEVENT
BEGIN:VEVENT
UID:66316262-3133-4436-b436-326665343565
DTSTAMP:20260423T000402Z
DESCRIPTION:25/124 Mnichovo Hradiště - Tuchlovice 1:3 (-16\,-19\,23\,-9)
DTSTART;TZID=Europe/Berlin:20250201T110000
DTEND;TZID=Europe/Berlin:20250201T130000
LOCATION:Sportovní hala BIOS\, Sokolovská 254 Mnichovo Hradiště
SUMMARY:2-Z-A: Mnichovo Hradiště-Tuchlovice
END:VEVENT
BEGIN:VEVENT
UID:31656230-6233-4664-a561-653533353064
DTSTAMP:20260423T000402Z
DESCRIPTION:26/129 Mnichovo Hradiště - Tuchlovice 3:0 (25\,23\,18)
DTSTART;TZID=Europe/Berlin:20250201T143000
DTEND;TZID=Europe/Berlin:20250201T163000
LOCATION:Sportovní hala BIOS\, Sokolovská 254 Mnichovo Hradiště
SUMMARY:2-Z-A: Mnichovo Hradiště-Tuchlovice
END:VEVENT
BEGIN:VEVENT
UID:32353735-3962-4635-b561-356135653832
DTSTAMP:20260423T000402Z
DESCRIPTION:33/162 Liberec - Tuchlovice 3:0 (20\,13\,24)
DTSTART;TZID=Europe/Berlin:20250308T100000
DTEND;TZID=Europe/Berlin:20250308T120000
LOCATION:TJ Lokomotiva Liberec 1.\, z.s.\, Jablonecká 562 Liberec - Liberec
  I-Staré Město
SUMMARY:2-Z-A: Liberec-Tuchlovice
END:VEVENT
BEGIN:VEVENT
UID:39366335-6634-4764-a465-656164376566
DTSTAMP:20260423T000402Z
DESCRIPTION:34/167 Liberec - Tuchlovice 3:0 (16\,20\,24)
DTSTART;TZID=Europe/Berlin:20250308T140000
DTEND;TZID=Europe/Berlin:20250308T160000
LOCATION:TJ Lokomotiva Liberec 1.\, z.s.\, Jablonecká 562 Liberec - Liberec
  I-Staré Město
SUMMARY:2-Z-A: Liberec-Tuchlovice
END:VEVENT
END:VCALENDAR
