BEGIN:VCALENDAR
VERSION:2.0
PRODID:-//TJ Sokol Havlíčkův Brod85897//NONSGML kigkonsult.se iCalcreator 2.41.80//
CALSCALE:GREGORIAN
UID:38636639-3531-4132-b664-656632646666
BEGIN:VEVENT
UID:61366663-6434-4164-a663-373631326631
DTSTAMP:20260423T162021Z
DESCRIPTION:5/25 Sokol H. Brod - Žižkov 2:3 (-22\,23\,-19\,20\,-10)
DTSTART;TZID=Europe/Berlin:20241019T100000
DTEND;TZID=Europe/Berlin:20241019T120000
LOCATION:Střední zdravotnická škola Havlíčkův Brod\, Masarykova 2033 Havlíč
 kův Brod
SUMMARY:2-Z-B: Sokol H. Brod-Žižkov
END:VEVENT
BEGIN:VEVENT
UID:64373332-3338-4665-b465-343733666532
DTSTAMP:20260423T162021Z
DESCRIPTION:6/30 Sokol H. Brod - Žižkov 0:3 (-15\,-18\,-13)
DTSTART;TZID=Europe/Berlin:20241019T140000
DTEND;TZID=Europe/Berlin:20241019T160000
LOCATION:Střední zdravotnická škola Havlíčkův Brod\, Masarykova 2033 Havlíč
 kův Brod
SUMMARY:2-Z-B: Sokol H. Brod-Žižkov
END:VEVENT
BEGIN:VEVENT
UID:61323065-3164-4530-b331-383965303034
DTSTAMP:20260423T162021Z
DESCRIPTION:9/44 Sokol H. Brod - Nové Veselí 1:3 (-19\,-17\,18\,-17)
DTSTART;TZID=Europe/Berlin:20241109T090000
DTEND;TZID=Europe/Berlin:20241109T110000
LOCATION:Střední zdravotnická škola Havlíčkův Brod\, Masarykova 2033 Havlíč
 kův Brod
SUMMARY:2-Z-B: Sokol H. Brod-Nové Veselí
END:VEVENT
BEGIN:VEVENT
UID:62313463-6430-4165-a364-626335323364
DTSTAMP:20260423T162021Z
DESCRIPTION:10/49 Sokol H. Brod - Nové Veselí 0:3 (-17\,-19\,-20)
DTSTART;TZID=Europe/Berlin:20241109T130000
DTEND;TZID=Europe/Berlin:20241109T150000
LOCATION:Střední zdravotnická škola Havlíčkův Brod\, Masarykova 2033 Havlíč
 kův Brod
SUMMARY:2-Z-B: Sokol H. Brod-Nové Veselí
END:VEVENT
BEGIN:VEVENT
UID:32366564-3066-4362-b565-333961613364
DTSTAMP:20260423T162021Z
DESCRIPTION:13/63 Sokol H. Brod - ČVUT Praha 3:2 (-20\,-20\,21\,20\,10)
DTSTART;TZID=Europe/Berlin:20241130T100000
DTEND;TZID=Europe/Berlin:20241130T120000
LOCATION:Střední zdravotnická škola Havlíčkův Brod\, Masarykova 2033 Havlíč
 kův Brod
SUMMARY:2-Z-B: Sokol H. Brod-ČVUT Praha
END:VEVENT
BEGIN:VEVENT
UID:61356432-3465-4965-b037-633231663639
DTSTAMP:20260423T162021Z
DESCRIPTION:14/68 Sokol H. Brod - ČVUT Praha 3:1 (-24\,17\,22\,16)
DTSTART;TZID=Europe/Berlin:20241130T140000
DTEND;TZID=Europe/Berlin:20241130T160000
LOCATION:Střední zdravotnická škola Havlíčkův Brod\, Masarykova 2033 Havlíč
 kův Brod
SUMMARY:2-Z-B: Sokol H. Brod-ČVUT Praha
END:VEVENT
BEGIN:VEVENT
UID:63386231-6335-4166-b238-323662653436
DTSTAMP:20260423T162021Z
DESCRIPTION:17/82 Sokol H. Brod - VK Brno B 3:0 (18\,17\,14)
DTSTART;TZID=Europe/Berlin:20241214T100000
DTEND;TZID=Europe/Berlin:20241214T120000
LOCATION:Střední zdravotnická škola Havlíčkův Brod\, Masarykova 2033 Havlíč
 kův Brod
SUMMARY:2-Z-B: Sokol H. Brod-VK Brno B
END:VEVENT
BEGIN:VEVENT
UID:64643632-6566-4435-a136-356164343965
DTSTAMP:20260423T162021Z
DESCRIPTION:18/87 Sokol H. Brod - VK Brno B 3:1 (20\,-22\,10\,12)
DTSTART;TZID=Europe/Berlin:20241214T140000
DTEND;TZID=Europe/Berlin:20241214T160000
LOCATION:Střední zdravotnická škola Havlíčkův Brod\, Masarykova 2033 Havlíč
 kův Brod
SUMMARY:2-Z-B: Sokol H. Brod-VK Brno B
END:VEVENT
BEGIN:VEVENT
UID:37636538-3132-4863-a163-303061613035
DTSTAMP:20260423T162021Z
DESCRIPTION:19/95 Sokol H. Brod - Česká Třebová 0:3 (-16\,-17\,-13)
DTSTART;TZID=Europe/Berlin:20250111T100000
DTEND;TZID=Europe/Berlin:20250111T120000
LOCATION:Střední zdravotnická škola Havlíčkův Brod\, Masarykova 2033 Havlíč
 kův Brod
SUMMARY:2-Z-B: Sokol H. Brod-Česká Třebová
END:VEVENT
BEGIN:VEVENT
UID:35373734-3033-4466-b435-636538376231
DTSTAMP:20260423T162021Z
DESCRIPTION:20/100 Sokol H. Brod - Česká Třebová 3:2 (-15\,22\,-19\,18\,8)
DTSTART;TZID=Europe/Berlin:20250111T140000
DTEND;TZID=Europe/Berlin:20250111T160000
LOCATION:Střední zdravotnická škola Havlíčkův Brod\, Masarykova 2033 Havlíč
 kův Brod
SUMMARY:2-Z-B: Sokol H. Brod-Česká Třebová
END:VEVENT
BEGIN:VEVENT
UID:33633633-6266-4466-a632-613839373038
DTSTAMP:20260423T162021Z
DESCRIPTION:21/101 Sokol H. Brod - Junior 3:2 (-17\,-22\,21\,23\,8)
DTSTART;TZID=Europe/Berlin:20250118T100000
DTEND;TZID=Europe/Berlin:20250118T120000
LOCATION:Střední zdravotnická škola Havlíčkův Brod\, Masarykova 2033 Havlíč
 kův Brod
SUMMARY:2-Z-B: Sokol H. Brod-Junior
END:VEVENT
BEGIN:VEVENT
UID:38643366-3434-4765-b465-643434363132
DTSTAMP:20260423T162021Z
DESCRIPTION:22/106 Sokol H. Brod - Junior 3:1 (-17\,18\,20\,17)
DTSTART;TZID=Europe/Berlin:20250118T140000
DTEND;TZID=Europe/Berlin:20250118T160000
LOCATION:Střední zdravotnická škola Havlíčkův Brod\, Masarykova 2033 Havlíč
 kův Brod
SUMMARY:2-Z-B: Sokol H. Brod-Junior
END:VEVENT
BEGIN:VEVENT
UID:64666164-3337-4838-b334-376466643163
DTSTAMP:20260423T162021Z
DESCRIPTION:25/122 Sokol H. Brod - Bohemians 3:0 (21\,14\,20)
DTSTART;TZID=Europe/Berlin:20250201T100000
DTEND;TZID=Europe/Berlin:20250201T120000
LOCATION:Střední zdravotnická škola Havlíčkův Brod\, Masarykova 2033 Havlíč
 kův Brod
SUMMARY:2-Z-B: Sokol H. Brod-Bohemians
END:VEVENT
BEGIN:VEVENT
UID:39376339-6539-4164-a561-326339396430
DTSTAMP:20260423T162021Z
DESCRIPTION:26/127 Sokol H. Brod - Bohemians 3:1 (-24\,16\,10\,23)
DTSTART;TZID=Europe/Berlin:20250201T140000
DTEND;TZID=Europe/Berlin:20250201T160000
LOCATION:Střední zdravotnická škola Havlíčkův Brod\, Masarykova 2033 Havlíč
 kův Brod
SUMMARY:2-Z-B: Sokol H. Brod-Bohemians
END:VEVENT
BEGIN:VEVENT
UID:37316634-3464-4231-a535-333636396566
DTSTAMP:20260423T162021Z
DESCRIPTION:29/143 Sokol H. Brod - Jiskra H. Brod 3:0 (14\,22\,24)
DTSTART;TZID=Europe/Berlin:20250215T110000
DTEND;TZID=Europe/Berlin:20250215T130000
LOCATION:Střední zdravotnická škola Havlíčkův Brod\, Masarykova 2033 Havlíč
 kův Brod
SUMMARY:2-Z-B: Sokol H. Brod-Jiskra H. Brod
END:VEVENT
BEGIN:VEVENT
UID:65656632-6162-4237-a363-303661393932
DTSTAMP:20260423T162021Z
DESCRIPTION:30/148 Sokol H. Brod - Jiskra H. Brod 3:2 (21\,22\,-18\,-18\,8)
DTSTART;TZID=Europe/Berlin:20250215T150000
DTEND;TZID=Europe/Berlin:20250215T170000
LOCATION:Střední zdravotnická škola Havlíčkův Brod\, Masarykova 2033 Havlíč
 kův Brod
SUMMARY:2-Z-B: Sokol H. Brod-Jiskra H. Brod
END:VEVENT
BEGIN:VEVENT
UID:39383864-3039-4336-a331-313630353332
DTSTAMP:20260423T162021Z
DESCRIPTION:33/164 Sokol H. Brod - Rychnov n. K. 3:1 (-23\,22\,20\,19)
DTSTART;TZID=Europe/Berlin:20250308T100000
DTEND;TZID=Europe/Berlin:20250308T120000
LOCATION:Střední zdravotnická škola Havlíčkův Brod\, Masarykova 2033 Havlíč
 kův Brod
SUMMARY:2-Z-B: Sokol H. Brod-Rychnov n. K.
END:VEVENT
BEGIN:VEVENT
UID:64343066-6231-4666-b666-343036333061
DTSTAMP:20260423T162021Z
DESCRIPTION:34/169 Sokol H. Brod - Rychnov n. K. 3:1 (17\,-23\,16\,17)
DTSTART;TZID=Europe/Berlin:20250308T140000
DTEND;TZID=Europe/Berlin:20250308T160000
LOCATION:Střední zdravotnická škola Havlíčkův Brod\, Masarykova 2033 Havlíč
 kův Brod
SUMMARY:2-Z-B: Sokol H. Brod-Rychnov n. K.
END:VEVENT
BEGIN:VEVENT
UID:32323861-6262-4639-a137-646661303739
DTSTAMP:20260423T162021Z
DESCRIPTION:1/5 Česká Třebová - Sokol H. Brod 0:3 (-22\,-22\,-24)
DTSTART;TZID=Europe/Berlin:20241005T110000
DTEND;TZID=Europe/Berlin:20241005T130000
LOCATION:Základní škola Česká Třebová Habrmanova\, Na Skále\, Na Skále 566 
 Česká Třebová
SUMMARY:2-Z-B: Česká Třebová-Sokol H. Brod
END:VEVENT
BEGIN:VEVENT
UID:34646661-3533-4030-b462-353631623239
DTSTAMP:20260423T162021Z
DESCRIPTION:2/10 Česká Třebová - Sokol H. Brod 3:2 (23\,22\,-14\,-21\,9)
DTSTART;TZID=Europe/Berlin:20241005T150000
DTEND;TZID=Europe/Berlin:20241005T170000
LOCATION:Základní škola Česká Třebová Habrmanova\, Na Skále\, Na Skále 566 
 Česká Třebová
SUMMARY:2-Z-B: Česká Třebová-Sokol H. Brod
END:VEVENT
BEGIN:VEVENT
UID:32323532-3630-4637-a534-646631653164
DTSTAMP:20260423T162021Z
DESCRIPTION:3/11 Junior - Sokol H. Brod 3:0 (21\,16\,22)
DTSTART;TZID=Europe/Berlin:20241012T100000
DTEND;TZID=Europe/Berlin:20241012T120000
LOCATION:ZŠ Holzova 1\, Holzova 1461 Brno - Líšeň
SUMMARY:2-Z-B: Junior-Sokol H. Brod
END:VEVENT
BEGIN:VEVENT
UID:36393930-3137-4834-a337-666261396638
DTSTAMP:20260423T162021Z
DESCRIPTION:4/16 Junior - Sokol H. Brod 3:1 (23\,14\,-22\,21)
DTSTART;TZID=Europe/Berlin:20241012T140000
DTEND;TZID=Europe/Berlin:20241012T160000
LOCATION:ZŠ Holzova 1\, Holzova 1461 Brno - Líšeň
SUMMARY:2-Z-B: Junior-Sokol H. Brod
END:VEVENT
BEGIN:VEVENT
UID:32333261-3463-4033-b164-346638326663
DTSTAMP:20260423T162021Z
DESCRIPTION:7/32 Bohemians - Sokol H. Brod 1:3 (-24\,21\,-21\,-19)
DTSTART;TZID=Europe/Berlin:20241102T100000
DTEND;TZID=Europe/Berlin:20241102T120000
LOCATION:sportovní areál loděnice Podolí\, Modřanská 1107 Praha - Podolí
SUMMARY:2-Z-B: Bohemians-Sokol H. Brod
END:VEVENT
BEGIN:VEVENT
UID:61666234-3336-4332-a537-623561383337
DTSTAMP:20260423T162021Z
DESCRIPTION:8/37 Bohemians - Sokol H. Brod 2:3 (21\,-25\,-15\,19\,-8)
DTSTART;TZID=Europe/Berlin:20241102T140000
DTEND;TZID=Europe/Berlin:20241102T160000
LOCATION:sportovní areál loděnice Podolí\, Modřanská 1107 Praha - Podolí
SUMMARY:2-Z-B: Bohemians-Sokol H. Brod
END:VEVENT
BEGIN:VEVENT
UID:30396339-3839-4064-a461-656431353138
DTSTAMP:20260423T162021Z
DESCRIPTION:11/53 Jiskra H. Brod - Sokol H. Brod 3:1 (13\,20\,-21\,23)
DTSTART;TZID=Europe/Berlin:20241116T100000
DTEND;TZID=Europe/Berlin:20241116T120000
LOCATION:Sportovní hala TJ Jiskra\, Ledečská 3028 Havlíčkův Brod
SUMMARY:2-Z-B: Jiskra H. Brod-Sokol H. Brod
END:VEVENT
BEGIN:VEVENT
UID:64333635-6136-4130-b965-306532343261
DTSTAMP:20260423T162021Z
DESCRIPTION:12/58 Jiskra H. Brod - Sokol H. Brod 3:0 (19\,20\,17)
DTSTART;TZID=Europe/Berlin:20241116T140000
DTEND;TZID=Europe/Berlin:20241116T160000
LOCATION:Sportovní hala TJ Jiskra\, Ledečská 3028 Havlíčkův Brod
SUMMARY:2-Z-B: Jiskra H. Brod-Sokol H. Brod
END:VEVENT
BEGIN:VEVENT
UID:37376266-3531-4365-b663-393831383035
DTSTAMP:20260423T162021Z
DESCRIPTION:15/74 Rychnov n. K. - Sokol H. Brod 3:2 (18\,-22\,26\,-11\,13)
DTSTART;TZID=Europe/Berlin:20241207T100000
DTEND;TZID=Europe/Berlin:20241207T120000
LOCATION:Sportovní hala R.Šebrleho\, Hrdinů odboje 36 Rychnov nad Kněžnou
SUMMARY:2-Z-B: Rychnov n. K.-Sokol H. Brod
END:VEVENT
BEGIN:VEVENT
UID:33633539-3034-4530-b832-323866656132
DTSTAMP:20260423T162021Z
DESCRIPTION:16/79 Rychnov n. K. - Sokol H. Brod 0:3 (-22\,-12\,-23)
DTSTART;TZID=Europe/Berlin:20241207T140000
DTEND;TZID=Europe/Berlin:20241207T160000
LOCATION:Sportovní hala R.Šebrleho\, Hrdinů odboje 36 Rychnov nad Kněžnou
SUMMARY:2-Z-B: Rychnov n. K.-Sokol H. Brod
END:VEVENT
BEGIN:VEVENT
UID:64633466-6336-4332-b164-356366386664
DTSTAMP:20260423T162021Z
DESCRIPTION:23/115 Žižkov - Sokol H. Brod 1:3 (-12\,-19\,22\,-23)
DTSTART;TZID=Europe/Berlin:20250125T100000
DTEND;TZID=Europe/Berlin:20250125T120000
LOCATION:TJ Sokol Žižkov I.\, Hartigova 929 Praha - Žižkov
SUMMARY:2-Z-B: Žižkov-Sokol H. Brod
END:VEVENT
BEGIN:VEVENT
UID:32623333-3434-4734-a135-333933643531
DTSTAMP:20260423T162021Z
DESCRIPTION:24/120 Žižkov - Sokol H. Brod 2:3 (-16\,21\,-14\,15\,-11)
DTSTART;TZID=Europe/Berlin:20250125T140000
DTEND;TZID=Europe/Berlin:20250125T160000
LOCATION:TJ Sokol Žižkov I.\, Hartigova 929 Praha - Žižkov
SUMMARY:2-Z-B: Žižkov-Sokol H. Brod
END:VEVENT
BEGIN:VEVENT
UID:62373330-3534-4333-a166-303937303537
DTSTAMP:20260423T162021Z
DESCRIPTION:27/134 Nové Veselí - Sokol H. Brod 3:2 (24\,-25\,-23\,15\,14)
DTSTART;TZID=Europe/Berlin:20250208T100000
DTEND;TZID=Europe/Berlin:20250208T120000
LOCATION:Víceúčelová sportovní hala Nové Veselí\, Žďárská 356 Nové Veselí
SUMMARY:2-Z-B: Nové Veselí-Sokol H. Brod
END:VEVENT
BEGIN:VEVENT
UID:66386565-6538-4939-b632-306638313430
DTSTAMP:20260423T162021Z
DESCRIPTION:28/139 Nové Veselí - Sokol H. Brod 1:3 (-18\,-17\,19\,-15)
DTSTART;TZID=Europe/Berlin:20250208T140000
DTEND;TZID=Europe/Berlin:20250208T160000
LOCATION:Víceúčelová sportovní hala Nové Veselí\, Žďárská 356 Nové Veselí
SUMMARY:2-Z-B: Nové Veselí-Sokol H. Brod
END:VEVENT
BEGIN:VEVENT
UID:66373933-6264-4739-b833-623161326362
DTSTAMP:20260423T162021Z
DESCRIPTION:31/153 ČVUT Praha - Sokol H. Brod 3:1 (-21\,14\,17\,22)
DTSTART;TZID=Europe/Berlin:20250301T100000
DTEND;TZID=Europe/Berlin:20250301T120000
LOCATION:T. J. Sokol Karlín\, Malého 319 Praha - Karlín
SUMMARY:2-Z-B: ČVUT Praha-Sokol H. Brod
END:VEVENT
BEGIN:VEVENT
UID:37313136-3639-4530-b733-656239346666
DTSTAMP:20260423T162021Z
DESCRIPTION:32/158 ČVUT Praha - Sokol H. Brod 3:0 (21\,22\,23)
DTSTART;TZID=Europe/Berlin:20250301T140000
DTEND;TZID=Europe/Berlin:20250301T160000
LOCATION:T. J. Sokol Karlín\, Malého 319 Praha - Karlín
SUMMARY:2-Z-B: ČVUT Praha-Sokol H. Brod
END:VEVENT
BEGIN:VEVENT
UID:61633263-6134-4930-b631-636335386331
DTSTAMP:20260423T162021Z
DESCRIPTION:35/172 VK Brno B - Sokol H. Brod 3:1 (20\,-15\,27\,21)
DTSTART;TZID=Europe/Berlin:20250315T100000
DTEND;TZID=Europe/Berlin:20250315T120000
LOCATION:Gymnázium Matyáše Lercha\, Žižkova 980 Brno - Veveří
SUMMARY:2-Z-B: VK Brno B-Sokol H. Brod
END:VEVENT
BEGIN:VEVENT
UID:37313135-6534-4663-a638-636635383161
DTSTAMP:20260423T162021Z
DESCRIPTION:36/177 VK Brno B - Sokol H. Brod 3:1 (18\,-25\,18\,16)
DTSTART;TZID=Europe/Berlin:20250315T140000
DTEND;TZID=Europe/Berlin:20250315T160000
LOCATION:Gymnázium Matyáše Lercha\, Žižkova 980 Brno - Veveří
SUMMARY:2-Z-B: VK Brno B-Sokol H. Brod
END:VEVENT
END:VCALENDAR
