BEGIN:VCALENDAR
VERSION:2.0
PRODID:-//SGLD Brno85905//NONSGML kigkonsult.se iCalcreator 2.41.80//
CALSCALE:GREGORIAN
UID:66646533-3138-4035-b531-616335666266
BEGIN:VEVENT
UID:63306563-6135-4636-b163-326335326364
DTSTAMP:20260423T150556Z
DESCRIPTION:1/1 Brno - Znojmo 3:0 (19\,17\,22)
DTSTART;TZID=Europe/Berlin:20240928T100000
DTEND;TZID=Europe/Berlin:20240928T120000
LOCATION:Sportovní gymnázium Ludvíka Daňka\, Botanická 63 Brno - Ponava
SUMMARY:EX-U22M-1C: Brno-Znojmo
END:VEVENT
BEGIN:VEVENT
UID:30393063-3963-4636-b162-396233613936
DTSTAMP:20260423T150556Z
DESCRIPTION:1/4 Brno - Prosek 2:3 (-19\,-25\,21\,25\,-11)
DTSTART;TZID=Europe/Berlin:20240928T160000
DTEND;TZID=Europe/Berlin:20240928T180000
LOCATION:Sportovní gymnázium Ludvíka Daňka\, Botanická 63 Brno - Ponava
SUMMARY:EX-U22M-1C: Brno-Prosek
END:VEVENT
BEGIN:VEVENT
UID:34313264-3462-4065-b161-356365653461
DTSTAMP:20260423T150556Z
DESCRIPTION:1/7 Brno - Benátky n. J. 3:1 (14\,-23\,12\,17)
DTSTART;TZID=Europe/Berlin:20240929T110000
DTEND;TZID=Europe/Berlin:20240929T130000
LOCATION:Sportovní gymnázium Ludvíka Daňka\, Botanická 63 Brno - Ponava
SUMMARY:EX-U22M-1C: Brno-Benátky n. J.
END:VEVENT
BEGIN:VEVENT
UID:36343539-3435-4237-a664-323834393164
DTSTAMP:20260423T150556Z
DESCRIPTION:1/10 Kolín - Brno 0:3 (-10\,-14\,-14)
DTSTART;TZID=Europe/Berlin:20240929T170000
DTEND;TZID=Europe/Berlin:20240929T190000
LOCATION:Sportovní gymnázium Ludvíka Daňka\, Botanická 63 Brno - Ponava
SUMMARY:EX-U22M-1C: Kolín-Brno
END:VEVENT
BEGIN:VEVENT
UID:32366264-6236-4466-b833-383662636635
DTSTAMP:20260423T150556Z
DESCRIPTION:2/1 Brno - Blue Ostrava 1:3 (17\,-20\,-18\,-21)
DTSTART;TZID=Europe/Berlin:20241019T100000
DTEND;TZID=Europe/Berlin:20241019T120000
LOCATION:Sportovní gymnázium Ludvíka Daňka\, Botanická 63 Brno - Ponava
SUMMARY:EX-U22M-2A: Brno-Blue Ostrava
END:VEVENT
BEGIN:VEVENT
UID:65613430-6462-4863-b536-636639323666
DTSTAMP:20260423T150556Z
DESCRIPTION:2/3 Brno - Liberec 2:3 (16\,-17\,24\,-9\,-13)
DTSTART;TZID=Europe/Berlin:20241019T150000
DTEND;TZID=Europe/Berlin:20241019T170000
LOCATION:Sportovní gymnázium Ludvíka Daňka\, Botanická 63 Brno - Ponava
SUMMARY:EX-U22M-2A: Brno-Liberec
END:VEVENT
BEGIN:VEVENT
UID:66373731-3839-4037-b365-393233666534
DTSTAMP:20260423T150556Z
DESCRIPTION:2/6 Brno - Kladno 3:0 (22\,19\,16)\nNH:TJ Sokol Brno I Kounicov
 a 686 Brno - Veveří
DTSTART;TZID=Europe/Berlin:20241020T130000
DTEND;TZID=Europe/Berlin:20241020T150000
LOCATION:Sportovní gymnázium Ludvíka Daňka\, Botanická 63 Brno - Ponava
SUMMARY:EX-U22M-2A: Brno-Kladno
END:VEVENT
BEGIN:VEVENT
UID:38366464-3337-4166-b133-353839646465
DTSTAMP:20260423T150556Z
DESCRIPTION:2/2 Brno - České Budějovice 3:1 (-28\,23\,19\,19)
DTSTART;TZID=Europe/Berlin:20241130T120000
DTEND;TZID=Europe/Berlin:20241130T140000
LOCATION:Hala BIOS\, Jana Palacha 1840 Kladno
SUMMARY:EX-U22M-3A: Brno-České Budějovice
END:VEVENT
BEGIN:VEVENT
UID:33356461-3364-4564-b832-373037323739
DTSTAMP:20260423T150556Z
DESCRIPTION:2/3 Kladno - Brno 3:2 (25\,-17\,18\,-22\,16)
DTSTART;TZID=Europe/Berlin:20241130T150000
DTEND;TZID=Europe/Berlin:20241130T170000
LOCATION:Hala BIOS\, Jana Palacha 1840 Kladno
SUMMARY:EX-U22M-3A: Kladno-Brno
END:VEVENT
BEGIN:VEVENT
UID:33323237-6230-4233-a333-663931666662
DTSTAMP:20260423T150556Z
DESCRIPTION:2/5 Liberec - Brno 3:1 (16\,-20\,18\,23)
DTSTART;TZID=Europe/Berlin:20241201T100000
DTEND;TZID=Europe/Berlin:20241201T120000
LOCATION:Hala BIOS\, Jana Palacha 1840 Kladno
SUMMARY:EX-U22M-3A: Liberec-Brno
END:VEVENT
BEGIN:VEVENT
UID:62636135-3866-4134-b135-356634343034
DTSTAMP:20260423T150556Z
DESCRIPTION:2/6 Brno - Kladno 1:3 (16\,-22\,-21\,-22)
DTSTART;TZID=Europe/Berlin:20250119T120000
DTEND;TZID=Europe/Berlin:20250119T140000
LOCATION:Kladenská sportovní hala\, Sportovců 817 Kladno - Rozdělov
SUMMARY:EX-U22M-4A: Brno-Kladno
END:VEVENT
BEGIN:VEVENT
UID:61643765-3339-4161-a232-656565613566
DTSTAMP:20260423T150556Z
DESCRIPTION:2/2 Blue Ostrava - Brno 2:3 (19\,15\,-23\,-25\,-5)
DTSTART;TZID=Europe/Berlin:20250118T120000
DTEND;TZID=Europe/Berlin:20250118T140000
LOCATION:Kladenská sportovní hala\, Sportovců 817 Kladno - Rozdělov
SUMMARY:EX-U22M-4A: Blue Ostrava-Brno
END:VEVENT
BEGIN:VEVENT
UID:61363239-3738-4439-b761-616663643130
DTSTAMP:20260423T150556Z
DESCRIPTION:2/3 Liberec - Brno 3:1 (-18\,25\,29\,24)
DTSTART;TZID=Europe/Berlin:20250118T150000
DTEND;TZID=Europe/Berlin:20250118T170000
LOCATION:Kladenská sportovní hala\, Sportovců 817 Kladno - Rozdělov
SUMMARY:EX-U22M-4A: Liberec-Brno
END:VEVENT
BEGIN:VEVENT
UID:66623361-3866-4563-a233-666232616531
DTSTAMP:20260423T150556Z
DESCRIPTION:2/1 Brno - České Budějovice 3:0 (13\,12\,20)
DTSTART;TZID=Europe/Berlin:20250208T100000
DTEND;TZID=Europe/Berlin:20250208T120000
LOCATION:Sportovní gymnázium Ludvíka Daňka\, Botanická 63 Brno - Ponava
SUMMARY:EX-U22M-5A: Brno-České Budějovice
END:VEVENT
BEGIN:VEVENT
UID:31313665-3238-4337-a435-626639366138
DTSTAMP:20260423T150556Z
DESCRIPTION:2/4 Brno - Liberec 3:0 (16\,18\,20)
DTSTART;TZID=Europe/Berlin:20250208T170000
DTEND;TZID=Europe/Berlin:20250208T190000
LOCATION:Sportovní gymnázium Ludvíka Daňka\, Botanická 63 Brno - Ponava
SUMMARY:EX-U22M-5A: Brno-Liberec
END:VEVENT
BEGIN:VEVENT
UID:62653764-6130-4537-b264-323935653237
DTSTAMP:20260423T150556Z
DESCRIPTION:2/6 Kladno - Brno 1:3 (-19\,-18\,16\,-16)
DTSTART;TZID=Europe/Berlin:20250209T120000
DTEND;TZID=Europe/Berlin:20250209T140000
LOCATION:Sportovní gymnázium Ludvíka Daňka\, Botanická 63 Brno - Ponava
SUMMARY:EX-U22M-5A: Kladno-Brno
END:VEVENT
BEGIN:VEVENT
UID:37663936-3134-4062-b933-386236663530
DTSTAMP:20260423T150556Z
DESCRIPTION:2/3 Brno - Kladno 1:3 (18\,-16\,-18\,-21)
DTSTART;TZID=Europe/Berlin:20250308T150000
DTEND;TZID=Europe/Berlin:20250308T170000
LOCATION:Dukla Liberec\, Jeronýmova 558 Liberec - Liberec VII-Horní Růžodol
SUMMARY:EX-U22M-6A: Brno-Kladno
END:VEVENT
BEGIN:VEVENT
UID:61396330-6235-4536-a461-356535656237
DTSTAMP:20260423T150556Z
DESCRIPTION:2/5 Brno - Blue Ostrava 1:3 (19\,-22\,-20\,-23)
DTSTART;TZID=Europe/Berlin:20250309T110000
DTEND;TZID=Europe/Berlin:20250309T130000
LOCATION:Dukla Liberec\, Jeronýmova 558 Liberec - Liberec VII-Horní Růžodol
SUMMARY:EX-U22M-6A: Brno-Blue Ostrava
END:VEVENT
BEGIN:VEVENT
UID:61633133-3032-4536-a132-303834333331
DTSTAMP:20260423T150556Z
DESCRIPTION:2/1 Liberec - Brno 0:3 (-18\,-14\,-19)
DTSTART;TZID=Europe/Berlin:20250308T100000
DTEND;TZID=Europe/Berlin:20250308T120000
LOCATION:Dukla Liberec\, Jeronýmova 558 Liberec - Liberec VII-Horní Růžodol
SUMMARY:EX-U22M-6A: Liberec-Brno
END:VEVENT
BEGIN:VEVENT
UID:63323337-6635-4239-b438-656661656235
DTSTAMP:20260423T150556Z
DESCRIPTION:7/6 Brno - Blue Ostrava 3:1 (19\,-19\,22\,21)
DTSTART;TZID=Europe/Berlin:20250406T120000
DTEND;TZID=Europe/Berlin:20250406T140000
LOCATION:Sportovní hala Ostrava -Třebovice\, 5. května 5649 Ostrava - Třebo
 vice
SUMMARY:EX-U22M-7A: Brno-Blue Ostrava
END:VEVENT
BEGIN:VEVENT
UID:35663530-3864-4538-a463-373935363139
DTSTAMP:20260423T150556Z
DESCRIPTION:7/2 Kladno - Brno 0:3 (-20\,-23\,-22)
DTSTART;TZID=Europe/Berlin:20250405T110000
DTEND;TZID=Europe/Berlin:20250405T130000
LOCATION:Sportovní hala Ostrava -Třebovice\, 5. května 5649 Ostrava - Třebo
 vice
SUMMARY:EX-U22M-7A: Kladno-Brno
END:VEVENT
BEGIN:VEVENT
UID:62393931-6231-4161-b033-356565353734
DTSTAMP:20260423T150556Z
DESCRIPTION:7/3 Kojetín - Brno 1:3 (-19\,-18\,21\,-19)
DTSTART;TZID=Europe/Berlin:20250405T140000
DTEND;TZID=Europe/Berlin:20250405T160000
LOCATION:Sportovní hala Ostrava -Třebovice\, 5. května 5649 Ostrava - Třebo
 vice
SUMMARY:EX-U22M-7A: Kojetín-Brno
END:VEVENT
BEGIN:VEVENT
UID:30666435-6239-4236-b132-646637336465
DTSTAMP:20260423T150556Z
DESCRIPTION:1/4 Brno - Prosek X:3\nHala BIOS   Jana Palacha 1840 Kladno
DTSTART;TZID=Europe/Berlin:20250508T170000
DTEND;TZID=Europe/Berlin:20250508T190000
LOCATION:Hala BIOS\, Jana Palacha 1840 Kladno
SUMMARY:EX-U22M-F2: Brno-Prosek
END:VEVENT
BEGIN:VEVENT
UID:34623062-6438-4130-a531-353262376539
DTSTAMP:20260423T150556Z
DESCRIPTION:1/6 Brno - Kojetín 3:1 (20\,22\,-23\,21)\nHala BIOS   Jana Pala
 cha 1840 Kladno
DTSTART;TZID=Europe/Berlin:20250509T100000
DTEND;TZID=Europe/Berlin:20250509T120000
LOCATION:Hala BIOS\, Jana Palacha 1840 Kladno
SUMMARY:EX-U22M-F2: Brno-Kojetín
END:VEVENT
BEGIN:VEVENT
UID:33663132-3161-4465-b764-303738613332
DTSTAMP:20260423T150556Z
DESCRIPTION:1/12 Liberec - Brno 2:3 (20\,19\,-21\,-16\,-10)\nHala BIOS   Ja
 na Palacha 1840 Kladno
DTSTART;TZID=Europe/Berlin:20250509T180000
DTEND;TZID=Europe/Berlin:20250509T200000
LOCATION:Hala BIOS\, Jana Palacha 1840 Kladno
SUMMARY:EX-U22M-F2: Liberec-Brno
END:VEVENT
BEGIN:VEVENT
UID:62316265-6538-4434-b864-633861376464
DTSTAMP:20260423T150556Z
DESCRIPTION:1/2 Brno - Kladno 3:0 (22\,14\,18)\n3F2-4F1
DTSTART;TZID=Europe/Berlin:20250510T120000
DTEND;TZID=Europe/Berlin:20250510T140000
LOCATION:Kladenská sportovní hala\, Sportovců 817 Kladno - Rozdělov
SUMMARY:EX-U22M-F: Brno-Kladno
END:VEVENT
BEGIN:VEVENT
UID:31383766-3263-4263-b531-313031643362
DTSTAMP:20260423T150556Z
DESCRIPTION:2/6 Blue Ostrava - Brno 3:0 (30\,17\,21)\no 5.-6. místo
DTSTART;TZID=Europe/Berlin:20250511T110000
DTEND;TZID=Europe/Berlin:20250511T130000
LOCATION:Kladenská sportovní hala\, Sportovců 817 Kladno - Rozdělov
SUMMARY:EX-U22M-F: Blue Ostrava-Brno
END:VEVENT
END:VCALENDAR
