BEGIN:VCALENDAR
VERSION:2.0
PRODID:-//Spartak Velké Meziříčí85913//NONSGML kigkonsult.se iCalcreator 2.41.80//
CALSCALE:GREGORIAN
UID:38626331-6631-4131-a433-343162653139
BEGIN:VEVENT
UID:31616138-3365-4036-a134-356366323333
DTSTAMP:20260423T111536Z
DESCRIPTION:1/2 Velké Meziříčí - Ústí n. L. 3:1 (22\,-23\,25\,18)
DTSTART;TZID=Europe/Berlin:20240928T100000
DTEND;TZID=Europe/Berlin:20240928T120000
LOCATION:Mattoni Arena Hala míčových sportů\, Západní 1812 Karlovy Vary
SUMMARY:EX-U22M-1B: Velké Meziříčí-Ústí n. L.
END:VEVENT
BEGIN:VEVENT
UID:37666536-3532-4366-a534-373236373038
DTSTAMP:20260423T111536Z
DESCRIPTION:1/8 Velké Meziříčí - Kladno 0:3 (-20\,-16\,-19)\nNH: Hala Střed
 ní pedagogické školy hala Lidická 455 Karlovy
DTSTART;TZID=Europe/Berlin:20240929T100000
DTEND;TZID=Europe/Berlin:20240929T120000
LOCATION:Mattoni Arena Hala míčových sportů\, Západní 1812 Karlovy Vary
SUMMARY:EX-U22M-1B: Velké Meziříčí-Kladno
END:VEVENT
BEGIN:VEVENT
UID:63616438-6137-4835-b134-336163396136
DTSTAMP:20260423T111536Z
DESCRIPTION:1/4 Karlovarsko - Velké Meziříčí 3:0 (19\,24\,19)
DTSTART;TZID=Europe/Berlin:20240928T130000
DTEND;TZID=Europe/Berlin:20240928T150000
LOCATION:Mattoni Arena Hala míčových sportů\, Západní 1812 Karlovy Vary
SUMMARY:EX-U22M-1B: Karlovarsko-Velké Meziříčí
END:VEVENT
BEGIN:VEVENT
UID:31313964-6538-4934-b261-356135376463
DTSTAMP:20260423T111536Z
DESCRIPTION:2/2 Zlín - Velké Meziříčí 2:3 (18\,-22\,-19\,20\,-10)
DTSTART;TZID=Europe/Berlin:20241019T120000
DTEND;TZID=Europe/Berlin:20241019T140000
LOCATION:Speciální školy Hradec Králové\, Hradecká 1231 Hradec Králové
SUMMARY:EX-U22M-2C: Zlín-Velké Meziříčí
END:VEVENT
BEGIN:VEVENT
UID:30363433-3431-4232-b634-333732396663
DTSTAMP:20260423T111536Z
DESCRIPTION:2/4 Kolín - Velké Meziříčí 3:0 (20\,17\,20)
DTSTART;TZID=Europe/Berlin:20241019T170000
DTEND;TZID=Europe/Berlin:20241019T190000
LOCATION:Speciální školy Hradec Králové\, Hradecká 1231 Hradec Králové
SUMMARY:EX-U22M-2C: Kolín-Velké Meziříčí
END:VEVENT
BEGIN:VEVENT
UID:62313236-3561-4533-b335-666532646235
DTSTAMP:20260423T111536Z
DESCRIPTION:2/6 Hradec Králové - Velké Meziříčí 0:3 (-15\,-22\,-18)\nNH:Stř
 ední odborná škola a Střední odborné učiliště\, Hradec Králové\, Vocelova 
 1338 500 02.
DTSTART;TZID=Europe/Berlin:20241020T120000
DTEND;TZID=Europe/Berlin:20241020T140000
LOCATION:Speciální školy Hradec Králové\, Hradecká 1231 Hradec Králové
SUMMARY:EX-U22M-2C: Hradec Králové-Velké Meziříčí
END:VEVENT
BEGIN:VEVENT
UID:63303539-6665-4134-b733-363464316264
DTSTAMP:20260423T111536Z
DESCRIPTION:2/1 Velké Meziříčí - Kojetín 0:3 (-21\,-14\,-17)
DTSTART;TZID=Europe/Berlin:20241130T100000
DTEND;TZID=Europe/Berlin:20241130T120000
LOCATION:ZŠ Komenského\, Komenského 1 Velké Meziříčí
SUMMARY:EX-U22M-3C: Velké Meziříčí-Kojetín
END:VEVENT
BEGIN:VEVENT
UID:35383333-3937-4238-b632-363763313234
DTSTAMP:20260423T111536Z
DESCRIPTION:2/3 Velké Meziříčí - Příbram 3:1 (-25\,16\,17\,22)
DTSTART;TZID=Europe/Berlin:20241130T150000
DTEND;TZID=Europe/Berlin:20241130T170000
LOCATION:ZŠ Komenského\, Komenského 1 Velké Meziříčí
SUMMARY:EX-U22M-3C: Velké Meziříčí-Příbram
END:VEVENT
BEGIN:VEVENT
UID:39646437-3936-4463-b662-613534373264
DTSTAMP:20260423T111536Z
DESCRIPTION:2/6 Velké Meziříčí - Zlín 3:0 (16\,24\,26)
DTSTART;TZID=Europe/Berlin:20241201T120000
DTEND;TZID=Europe/Berlin:20241201T140000
LOCATION:ZŠ Komenského\, Komenského 1 Velké Meziříčí
SUMMARY:EX-U22M-3C: Velké Meziříčí-Zlín
END:VEVENT
BEGIN:VEVENT
UID:33333562-3866-4963-b730-656338656332
DTSTAMP:20260423T111536Z
DESCRIPTION:1/6 Velké Meziříčí - Kolín 3:0 (25\,20\,17)
DTSTART;TZID=Europe/Berlin:20250119T120000
DTEND;TZID=Europe/Berlin:20250119T140000
LOCATION:hala STAV\, SOŠ Kolín\, Brankovická 1417 Kolín - Kolín V
SUMMARY:EX-U22M-4C: Velké Meziříčí-Kolín
END:VEVENT
BEGIN:VEVENT
UID:62353365-3261-4139-b937-643766623037
DTSTAMP:20260423T111536Z
DESCRIPTION:1/2 Zlín - Velké Meziříčí 0:3 (-22\,-13\,-15)
DTSTART;TZID=Europe/Berlin:20250118T120000
DTEND;TZID=Europe/Berlin:20250118T140000
LOCATION:hala STAV\, SOŠ Kolín\, Brankovická 1417 Kolín - Kolín V
SUMMARY:EX-U22M-4C: Zlín-Velké Meziříčí
END:VEVENT
BEGIN:VEVENT
UID:34353463-6331-4662-b164-356666343063
DTSTAMP:20260423T111536Z
DESCRIPTION:1/3 Benátky n. J. - Velké Meziříčí 3:1 (21\,-23\,16\,22)
DTSTART;TZID=Europe/Berlin:20250118T150000
DTEND;TZID=Europe/Berlin:20250118T170000
LOCATION:hala STAV\, SOŠ Kolín\, Brankovická 1417 Kolín - Kolín V
SUMMARY:EX-U22M-4C: Benátky n. J.-Velké Meziříčí
END:VEVENT
BEGIN:VEVENT
UID:30663332-6434-4337-b263-633162646335
DTSTAMP:20260423T111536Z
DESCRIPTION:2/6 Velké Meziříčí - Blue Ostrava 0:3 (-18\,-23\,-21)
DTSTART;TZID=Europe/Berlin:20250209T120000
DTEND;TZID=Europe/Berlin:20250209T140000
LOCATION:Sportovní hala Ostrava -Třebovice\, 5. května 5649 Ostrava - Třebo
 vice
SUMMARY:EX-U22M-5B: Velké Meziříčí-Blue Ostrava
END:VEVENT
BEGIN:VEVENT
UID:34396264-3237-4766-b439-323033336262
DTSTAMP:20260423T111536Z
DESCRIPTION:2/2 Prosek - Velké Meziříčí 3:1 (21\,16\,-19\,16)
DTSTART;TZID=Europe/Berlin:20250208T120000
DTEND;TZID=Europe/Berlin:20250208T140000
LOCATION:Sportovní hala Ostrava -Třebovice\, 5. května 5649 Ostrava - Třebo
 vice
SUMMARY:EX-U22M-5B: Prosek-Velké Meziříčí
END:VEVENT
BEGIN:VEVENT
UID:66373261-6561-4134-b864-306232336632
DTSTAMP:20260423T111536Z
DESCRIPTION:2/3 Kojetín - Velké Meziříčí 3:0 (16\,22\,23)
DTSTART;TZID=Europe/Berlin:20250208T150000
DTEND;TZID=Europe/Berlin:20250208T170000
LOCATION:Sportovní hala Ostrava -Třebovice\, 5. května 5649 Ostrava - Třebo
 vice
SUMMARY:EX-U22M-5B: Kojetín-Velké Meziříčí
END:VEVENT
BEGIN:VEVENT
UID:37646534-3163-4638-a362-653637616464
DTSTAMP:20260423T111536Z
DESCRIPTION:2/3 Velké Meziříčí - Ústí n. L. 3:2 (-17\,26\,-23\,15\,14)
DTSTART;TZID=Europe/Berlin:20250308T150000
DTEND;TZID=Europe/Berlin:20250308T170000
LOCATION:hala STAV\, SOŠ Kolín\, Brankovická 1417 Kolín - Kolín V
SUMMARY:EX-U22M-6C: Velké Meziříčí-Ústí n. L.
END:VEVENT
BEGIN:VEVENT
UID:36616435-3230-4464-a162-643866383561
DTSTAMP:20260423T111536Z
DESCRIPTION:2/5 Velké Meziříčí - Karlovarsko 1:3 (-19\,-23\,18\,-22)
DTSTART;TZID=Europe/Berlin:20250309T100000
DTEND;TZID=Europe/Berlin:20250309T120000
LOCATION:hala STAV\, SOŠ Kolín\, Brankovická 1417 Kolín - Kolín V
SUMMARY:EX-U22M-6C: Velké Meziříčí-Karlovarsko
END:VEVENT
BEGIN:VEVENT
UID:36626463-3433-4336-b338-396536333063
DTSTAMP:20260423T111536Z
DESCRIPTION:2/1 Kolín - Velké Meziříčí 3:1 (22\,-24\,24\,18)
DTSTART;TZID=Europe/Berlin:20250308T100000
DTEND;TZID=Europe/Berlin:20250308T120000
LOCATION:hala STAV\, SOŠ Kolín\, Brankovická 1417 Kolín - Kolín V
SUMMARY:EX-U22M-6C: Kolín-Velké Meziříčí
END:VEVENT
BEGIN:VEVENT
UID:32636637-3164-4131-b062-643533363731
DTSTAMP:20260423T111536Z
DESCRIPTION:7/1 Velké Meziříčí - Znojmo 2:3 (-18\,-13\,24\,21\,-12)
DTSTART;TZID=Europe/Berlin:20250405T100000
DTEND;TZID=Europe/Berlin:20250405T120000
LOCATION:ZŠ Komenského\, Komenského 1 Velké Meziříčí
SUMMARY:EX-U22M-7C: Velké Meziříčí-Znojmo
END:VEVENT
BEGIN:VEVENT
UID:62646432-6462-4231-a265-663664313135
DTSTAMP:20260423T111536Z
DESCRIPTION:7/4 Velké Meziříčí - Příbram 1:3 (-10\,-20\,23\,-19)
DTSTART;TZID=Europe/Berlin:20250405T170000
DTEND;TZID=Europe/Berlin:20250405T190000
LOCATION:ZŠ Komenského\, Komenského 1 Velké Meziříčí
SUMMARY:EX-U22M-7C: Velké Meziříčí-Příbram
END:VEVENT
BEGIN:VEVENT
UID:37643262-3864-4364-b235-626261316463
DTSTAMP:20260423T111536Z
DESCRIPTION:7/6 Kolín - Velké Meziříčí 3:2 (-23\,23\,13\,-17\,12)
DTSTART;TZID=Europe/Berlin:20250406T120000
DTEND;TZID=Europe/Berlin:20250406T140000
LOCATION:ZŠ Komenského\, Komenského 1 Velké Meziříčí
SUMMARY:EX-U22M-7C: Kolín-Velké Meziříčí
END:VEVENT
END:VCALENDAR
