BEGIN:VCALENDAR
VERSION:2.0
PRODID:-//SK Volejbal Kolín85914//NONSGML kigkonsult.se iCalcreator 2.41.80//
CALSCALE:GREGORIAN
UID:30353935-6531-4437-b365-653833646565
BEGIN:VEVENT
UID:65646465-3136-4730-b966-303835313230
DTSTAMP:20260423T111539Z
DESCRIPTION:1/8 Kolín - Znojmo 3:2 (-21\,18\,-22\,21\,11)
DTSTART;TZID=Europe/Berlin:20240929T130000
DTEND;TZID=Europe/Berlin:20240929T150000
LOCATION:Sportovní gymnázium Ludvíka Daňka\, Botanická 63 Brno - Ponava
SUMMARY:EX-U22M-1C: Kolín-Znojmo
END:VEVENT
BEGIN:VEVENT
UID:62663665-3463-4263-b832-303261323563
DTSTAMP:20260423T111539Z
DESCRIPTION:1/10 Kolín - Brno 0:3 (-10\,-14\,-14)
DTSTART;TZID=Europe/Berlin:20240929T170000
DTEND;TZID=Europe/Berlin:20240929T190000
LOCATION:Sportovní gymnázium Ludvíka Daňka\, Botanická 63 Brno - Ponava
SUMMARY:EX-U22M-1C: Kolín-Brno
END:VEVENT
BEGIN:VEVENT
UID:39343964-6337-4537-a630-636232386135
DTSTAMP:20260423T111539Z
DESCRIPTION:1/2 Prosek - Kolín 1:3 (-22\,-19\,18\,-18)
DTSTART;TZID=Europe/Berlin:20240928T120000
DTEND;TZID=Europe/Berlin:20240928T140000
LOCATION:Sportovní gymnázium Ludvíka Daňka\, Botanická 63 Brno - Ponava
SUMMARY:EX-U22M-1C: Prosek-Kolín
END:VEVENT
BEGIN:VEVENT
UID:63336661-3562-4331-b562-636332316132
DTSTAMP:20260423T111539Z
DESCRIPTION:1/5 Benátky n. J. - Kolín 1:3 (22\,-19\,-19\,-25)
DTSTART;TZID=Europe/Berlin:20240928T180000
DTEND;TZID=Europe/Berlin:20240928T200000
LOCATION:Sportovní gymnázium Ludvíka Daňka\, Botanická 63 Brno - Ponava
SUMMARY:EX-U22M-1C: Benátky n. J.-Kolín
END:VEVENT
BEGIN:VEVENT
UID:34303064-6161-4433-b562-346661313766
DTSTAMP:20260423T111539Z
DESCRIPTION:2/4 Kolín - Velké Meziříčí 3:0 (20\,17\,20)
DTSTART;TZID=Europe/Berlin:20241019T170000
DTEND;TZID=Europe/Berlin:20241019T190000
LOCATION:Speciální školy Hradec Králové\, Hradecká 1231 Hradec Králové
SUMMARY:EX-U22M-2C: Kolín-Velké Meziříčí
END:VEVENT
BEGIN:VEVENT
UID:64383963-3432-4465-a635-336131613838
DTSTAMP:20260423T111539Z
DESCRIPTION:2/5 Kolín - Zlín 2:3 (20\,21\,-19\,-12\,-6)\nNH:Střední odborná
  škola a Střední odborné učiliště\, Hradec Králové\, Vocelova 1338 500 02.
DTSTART;TZID=Europe/Berlin:20241020T100000
DTEND;TZID=Europe/Berlin:20241020T120000
LOCATION:Speciální školy Hradec Králové\, Hradecká 1231 Hradec Králové
SUMMARY:EX-U22M-2C: Kolín-Zlín
END:VEVENT
BEGIN:VEVENT
UID:34353665-6461-4966-a431-303138623837
DTSTAMP:20260423T111539Z
DESCRIPTION:2/1 Hradec Králové - Kolín 0:3 (-17\,-19\,-22)
DTSTART;TZID=Europe/Berlin:20241019T100000
DTEND;TZID=Europe/Berlin:20241019T120000
LOCATION:Speciální školy Hradec Králové\, Hradecká 1231 Hradec Králové
SUMMARY:EX-U22M-2C: Hradec Králové-Kolín
END:VEVENT
BEGIN:VEVENT
UID:61626465-3965-4439-b036-616339373136
DTSTAMP:20260423T111539Z
DESCRIPTION:2/4 Kolín - Karlovarsko 3:2 (-22\,23\,18\,-21\,10)
DTSTART;TZID=Europe/Berlin:20241130T170000
DTEND;TZID=Europe/Berlin:20241130T190000
LOCATION:SH SK Prosek\, Lovosická 559 Praha - Letňany
SUMMARY:EX-U22M-3B: Kolín-Karlovarsko
END:VEVENT
BEGIN:VEVENT
UID:33316266-3536-4763-b065-356437386433
DTSTAMP:20260423T111539Z
DESCRIPTION:2/5 Kolín - Blue Ostrava 0:3 (-15\,-17\,-17)
DTSTART;TZID=Europe/Berlin:20241201T100000
DTEND;TZID=Europe/Berlin:20241201T120000
LOCATION:SH SK Prosek\, Lovosická 559 Praha - Letňany
SUMMARY:EX-U22M-3B: Kolín-Blue Ostrava
END:VEVENT
BEGIN:VEVENT
UID:65633162-6230-4134-a534-636532363234
DTSTAMP:20260423T111539Z
DESCRIPTION:2/1 Prosek - Kolín 3:0 (24\,24\,11)
DTSTART;TZID=Europe/Berlin:20241130T100000
DTEND;TZID=Europe/Berlin:20241130T120000
LOCATION:SH SK Prosek\, Lovosická 559 Praha - Letňany
SUMMARY:EX-U22M-3B: Prosek-Kolín
END:VEVENT
BEGIN:VEVENT
UID:38663839-3033-4539-b732-393536393636
DTSTAMP:20260423T111539Z
DESCRIPTION:1/1 Kolín - Benátky n. J. 3:2 (-21\,20\,23\,-20\,14)
DTSTART;TZID=Europe/Berlin:20250118T100000
DTEND;TZID=Europe/Berlin:20250118T120000
LOCATION:hala STAV\, SOŠ Kolín\, Brankovická 1417 Kolín - Kolín V
SUMMARY:EX-U22M-4C: Kolín-Benátky n. J.
END:VEVENT
BEGIN:VEVENT
UID:35323164-6638-4931-a364-333434336431
DTSTAMP:20260423T111539Z
DESCRIPTION:1/4 Kolín - Zlín 3:1 (-18\,25\,18\,20)
DTSTART;TZID=Europe/Berlin:20250118T170000
DTEND;TZID=Europe/Berlin:20250118T190000
LOCATION:hala STAV\, SOŠ Kolín\, Brankovická 1417 Kolín - Kolín V
SUMMARY:EX-U22M-4C: Kolín-Zlín
END:VEVENT
BEGIN:VEVENT
UID:35666461-3538-4231-b734-393164666632
DTSTAMP:20260423T111539Z
DESCRIPTION:1/6 Velké Meziříčí - Kolín 3:0 (25\,20\,17)
DTSTART;TZID=Europe/Berlin:20250119T120000
DTEND;TZID=Europe/Berlin:20250119T140000
LOCATION:hala STAV\, SOŠ Kolín\, Brankovická 1417 Kolín - Kolín V
SUMMARY:EX-U22M-4C: Velké Meziříčí-Kolín
END:VEVENT
BEGIN:VEVENT
UID:66623966-3436-4235-b865-323338393662
DTSTAMP:20260423T111539Z
DESCRIPTION:2/2 Kolín - Benátky n. J. 3:1 (20\,17\,-21\,20)
DTSTART;TZID=Europe/Berlin:20250208T120000
DTEND;TZID=Europe/Berlin:20250208T140000
LOCATION:Mattoni Arena Hala míčových sportů\, Západní 1812 Karlovy Vary
SUMMARY:EX-U22M-5C: Kolín-Benátky n. J.
END:VEVENT
BEGIN:VEVENT
UID:62636530-6265-4065-a566-653361663564
DTSTAMP:20260423T111539Z
DESCRIPTION:2/4 Karlovarsko - Kolín 3:1 (-18\,23\,15\,21)
DTSTART;TZID=Europe/Berlin:20250208T170000
DTEND;TZID=Europe/Berlin:20250208T190000
LOCATION:Mattoni Arena Hala míčových sportů\, Západní 1812 Karlovy Vary
SUMMARY:EX-U22M-5C: Karlovarsko-Kolín
END:VEVENT
BEGIN:VEVENT
UID:31663561-3130-4666-b631-646535316363
DTSTAMP:20260423T111539Z
DESCRIPTION:2/5 Příbram - Kolín 3:0 (11\,14\,27)\nNH: Hala Střední pedagogi
 cké školy hala Lidická 455 Karlovy Vary
DTSTART;TZID=Europe/Berlin:20250209T100000
DTEND;TZID=Europe/Berlin:20250209T120000
LOCATION:Mattoni Arena Hala míčových sportů\, Západní 1812 Karlovy Vary
SUMMARY:EX-U22M-5C: Příbram-Kolín
END:VEVENT
BEGIN:VEVENT
UID:37353762-3165-4563-b838-376532336165
DTSTAMP:20260423T111539Z
DESCRIPTION:2/1 Kolín - Velké Meziříčí 3:1 (22\,-24\,24\,18)
DTSTART;TZID=Europe/Berlin:20250308T100000
DTEND;TZID=Europe/Berlin:20250308T120000
LOCATION:hala STAV\, SOŠ Kolín\, Brankovická 1417 Kolín - Kolín V
SUMMARY:EX-U22M-6C: Kolín-Velké Meziříčí
END:VEVENT
BEGIN:VEVENT
UID:35346237-3335-4363-a234-313564336364
DTSTAMP:20260423T111539Z
DESCRIPTION:2/4 Kolín - Karlovarsko 0:3 (-16\,-13\,-16)
DTSTART;TZID=Europe/Berlin:20250308T170000
DTEND;TZID=Europe/Berlin:20250308T190000
LOCATION:hala STAV\, SOŠ Kolín\, Brankovická 1417 Kolín - Kolín V
SUMMARY:EX-U22M-6C: Kolín-Karlovarsko
END:VEVENT
BEGIN:VEVENT
UID:63373466-3534-4532-b166-646365306464
DTSTAMP:20260423T111539Z
DESCRIPTION:2/6 Ústí n. L. - Kolín 1:3 (-19\,19\,-14\,-17)
DTSTART;TZID=Europe/Berlin:20250309T120000
DTEND;TZID=Europe/Berlin:20250309T140000
LOCATION:hala STAV\, SOŠ Kolín\, Brankovická 1417 Kolín - Kolín V
SUMMARY:EX-U22M-6C: Ústí n. L.-Kolín
END:VEVENT
BEGIN:VEVENT
UID:34616465-3634-4764-b763-323666623438
DTSTAMP:20260423T111539Z
DESCRIPTION:7/6 Kolín - Velké Meziříčí 3:2 (-23\,23\,13\,-17\,12)
DTSTART;TZID=Europe/Berlin:20250406T120000
DTEND;TZID=Europe/Berlin:20250406T140000
LOCATION:ZŠ Komenského\, Komenského 1 Velké Meziříčí
SUMMARY:EX-U22M-7C: Kolín-Velké Meziříčí
END:VEVENT
BEGIN:VEVENT
UID:61303437-3132-4963-a530-643466353030
DTSTAMP:20260423T111539Z
DESCRIPTION:7/2 Příbram - Kolín 3:2 (-22\,20\,22\,-17\,9)
DTSTART;TZID=Europe/Berlin:20250405T120000
DTEND;TZID=Europe/Berlin:20250405T140000
LOCATION:ZŠ Komenského\, Komenského 1 Velké Meziříčí
SUMMARY:EX-U22M-7C: Příbram-Kolín
END:VEVENT
BEGIN:VEVENT
UID:33313636-3436-4233-a633-356264353665
DTSTAMP:20260423T111539Z
DESCRIPTION:7/3 Znojmo - Kolín 3:1 (-21\,16\,15\,17)
DTSTART;TZID=Europe/Berlin:20250405T150000
DTEND;TZID=Europe/Berlin:20250405T170000
LOCATION:ZŠ Komenského\, Komenského 1 Velké Meziříčí
SUMMARY:EX-U22M-7C: Znojmo-Kolín
END:VEVENT
END:VCALENDAR
