BEGIN:VCALENDAR
VERSION:2.0
PRODID:-//SK Prosek85918//NONSGML kigkonsult.se iCalcreator 2.41.80//
CALSCALE:GREGORIAN
UID:34373236-6633-4233-b362-643031373534
BEGIN:VEVENT
UID:36633934-3332-4232-a134-386236656262
DTSTAMP:20260423T150555Z
DESCRIPTION:1/2 Prosek - Kolín 1:3 (-22\,-19\,18\,-18)
DTSTART;TZID=Europe/Berlin:20240928T120000
DTEND;TZID=Europe/Berlin:20240928T140000
LOCATION:Sportovní gymnázium Ludvíka Daňka\, Botanická 63 Brno - Ponava
SUMMARY:EX-U22M-1C: Prosek-Kolín
END:VEVENT
BEGIN:VEVENT
UID:62653930-6236-4634-b730-316461623437
DTSTAMP:20260423T150555Z
DESCRIPTION:1/9 Prosek - Benátky n. J. 3:0 (23\,18\,11)
DTSTART;TZID=Europe/Berlin:20240929T150000
DTEND;TZID=Europe/Berlin:20240929T170000
LOCATION:Sportovní gymnázium Ludvíka Daňka\, Botanická 63 Brno - Ponava
SUMMARY:EX-U22M-1C: Prosek-Benátky n. J.
END:VEVENT
BEGIN:VEVENT
UID:33633739-6233-4939-a138-353639313764
DTSTAMP:20260423T150555Z
DESCRIPTION:1/4 Brno - Prosek 2:3 (-19\,-25\,21\,25\,-11)
DTSTART;TZID=Europe/Berlin:20240928T160000
DTEND;TZID=Europe/Berlin:20240928T180000
LOCATION:Sportovní gymnázium Ludvíka Daňka\, Botanická 63 Brno - Ponava
SUMMARY:EX-U22M-1C: Brno-Prosek
END:VEVENT
BEGIN:VEVENT
UID:35316433-6666-4633-b931-663235633935
DTSTAMP:20260423T150555Z
DESCRIPTION:1/6 Znojmo - Prosek 0:3 (-15\,-21\,-9)
DTSTART;TZID=Europe/Berlin:20240929T090000
DTEND;TZID=Europe/Berlin:20240929T110000
LOCATION:Sportovní gymnázium Ludvíka Daňka\, Botanická 63 Brno - Ponava
SUMMARY:EX-U22M-1C: Znojmo-Prosek
END:VEVENT
BEGIN:VEVENT
UID:37373738-3631-4133-a539-623132613038
DTSTAMP:20260423T150555Z
DESCRIPTION:2/2 Karlovarsko - Prosek 3:0 (20\,12\,20)
DTSTART;TZID=Europe/Berlin:20241019T120000
DTEND;TZID=Europe/Berlin:20241019T140000
LOCATION:ZŠ Oskara Nedbala České Budějovice\, O. Nedbala 882 České Budějovi
 ce - České Budějovice 2
SUMMARY:EX-U22M-2B: Karlovarsko-Prosek
END:VEVENT
BEGIN:VEVENT
UID:39653231-3738-4237-b964-653765323666
DTSTAMP:20260423T150555Z
DESCRIPTION:2/4 Příbram - Prosek 3:2 (-25\,-20\,21\,18\,13)
DTSTART;TZID=Europe/Berlin:20241019T170000
DTEND;TZID=Europe/Berlin:20241019T190000
LOCATION:ZŠ Oskara Nedbala České Budějovice\, O. Nedbala 882 České Budějovi
 ce - České Budějovice 2
SUMMARY:EX-U22M-2B: Příbram-Prosek
END:VEVENT
BEGIN:VEVENT
UID:33356261-3739-4263-a564-643665313665
DTSTAMP:20260423T150555Z
DESCRIPTION:2/6 České Budějovice - Prosek 2:3 (-21\,-25\,22\,24\,-7)
DTSTART;TZID=Europe/Berlin:20241020T110000
DTEND;TZID=Europe/Berlin:20241020T130000
LOCATION:ZŠ Oskara Nedbala České Budějovice\, O. Nedbala 882 České Budějovi
 ce - České Budějovice 2
SUMMARY:EX-U22M-2B: České Budějovice-Prosek
END:VEVENT
BEGIN:VEVENT
UID:63313339-3130-4539-a666-643663613438
DTSTAMP:20260423T150555Z
DESCRIPTION:2/1 Prosek - Kolín 3:0 (24\,24\,11)
DTSTART;TZID=Europe/Berlin:20241130T100000
DTEND;TZID=Europe/Berlin:20241130T120000
LOCATION:SH SK Prosek\, Lovosická 559 Praha - Letňany
SUMMARY:EX-U22M-3B: Prosek-Kolín
END:VEVENT
BEGIN:VEVENT
UID:66666534-6561-4362-a263-393036303336
DTSTAMP:20260423T150555Z
DESCRIPTION:2/3 Prosek - Blue Ostrava 0:3 (-15\,-17\,-17)
DTSTART;TZID=Europe/Berlin:20241130T150000
DTEND;TZID=Europe/Berlin:20241130T170000
LOCATION:SH SK Prosek\, Lovosická 559 Praha - Letňany
SUMMARY:EX-U22M-3B: Prosek-Blue Ostrava
END:VEVENT
BEGIN:VEVENT
UID:65663830-3165-4163-a533-333036373338
DTSTAMP:20260423T150555Z
DESCRIPTION:2/6 Prosek - Karlovarsko 0:3 (-19\,-21\,-20)
DTSTART;TZID=Europe/Berlin:20241201T120000
DTEND;TZID=Europe/Berlin:20241201T140000
LOCATION:SH SK Prosek\, Lovosická 559 Praha - Letňany
SUMMARY:EX-U22M-3B: Prosek-Karlovarsko
END:VEVENT
BEGIN:VEVENT
UID:62303663-6238-4463-b863-346632393036
DTSTAMP:20260423T150555Z
DESCRIPTION:1/3 Prosek - Karlovarsko 3:1 (-23\,20\,23\,17)
DTSTART;TZID=Europe/Berlin:20250118T150000
DTEND;TZID=Europe/Berlin:20250118T170000
LOCATION:ZŠ Oskara Nedbala České Budějovice\, O. Nedbala 882 České Budějovi
 ce - České Budějovice 2
SUMMARY:EX-U22M-4B: Prosek-Karlovarsko
END:VEVENT
BEGIN:VEVENT
UID:39366332-6261-4833-b933-366162306631
DTSTAMP:20260423T150555Z
DESCRIPTION:1/1 České Budějovice - Prosek 3:1 (14\,18\,-20\,23)
DTSTART;TZID=Europe/Berlin:20250118T100000
DTEND;TZID=Europe/Berlin:20250118T120000
LOCATION:ZŠ Oskara Nedbala České Budějovice\, O. Nedbala 882 České Budějovi
 ce - České Budějovice 2
SUMMARY:EX-U22M-4B: České Budějovice-Prosek
END:VEVENT
BEGIN:VEVENT
UID:63323565-3933-4632-b835-356639386562
DTSTAMP:20260423T150555Z
DESCRIPTION:1/5 Kojetín - Prosek 3:2 (-17\,19\,23\,-25\,11)
DTSTART;TZID=Europe/Berlin:20250119T100000
DTEND;TZID=Europe/Berlin:20250119T120000
LOCATION:ZŠ Oskara Nedbala České Budějovice\, O. Nedbala 882 České Budějovi
 ce - České Budějovice 2
SUMMARY:EX-U22M-4B: Kojetín-Prosek
END:VEVENT
BEGIN:VEVENT
UID:39306239-3064-4562-b636-636430393937
DTSTAMP:20260423T150555Z
DESCRIPTION:2/2 Prosek - Velké Meziříčí 3:1 (21\,16\,-19\,16)
DTSTART;TZID=Europe/Berlin:20250208T120000
DTEND;TZID=Europe/Berlin:20250208T140000
LOCATION:Sportovní hala Ostrava -Třebovice\, 5. května 5649 Ostrava - Třebo
 vice
SUMMARY:EX-U22M-5B: Prosek-Velké Meziříčí
END:VEVENT
BEGIN:VEVENT
UID:33373662-3438-4335-b764-363465636266
DTSTAMP:20260423T150555Z
DESCRIPTION:2/4 Blue Ostrava - Prosek 3:0 (18\,20\,22)
DTSTART;TZID=Europe/Berlin:20250208T170000
DTEND;TZID=Europe/Berlin:20250208T190000
LOCATION:Sportovní hala Ostrava -Třebovice\, 5. května 5649 Ostrava - Třebo
 vice
SUMMARY:EX-U22M-5B: Blue Ostrava-Prosek
END:VEVENT
BEGIN:VEVENT
UID:36316135-3939-4164-b832-653366303632
DTSTAMP:20260423T150555Z
DESCRIPTION:2/5 Kojetín - Prosek 3:1 (20\,23\,-22\,25)
DTSTART;TZID=Europe/Berlin:20250209T100000
DTEND;TZID=Europe/Berlin:20250209T120000
LOCATION:Sportovní hala Ostrava -Třebovice\, 5. května 5649 Ostrava - Třebo
 vice
SUMMARY:EX-U22M-5B: Kojetín-Prosek
END:VEVENT
BEGIN:VEVENT
UID:32336662-6232-4437-a363-376338616462
DTSTAMP:20260423T150555Z
DESCRIPTION:2/6 Prosek - Kojetín 1:3 (-23\,-12\,17\,-20)
DTSTART;TZID=Europe/Berlin:20250309T120000
DTEND;TZID=Europe/Berlin:20250309T140000
LOCATION:Městská sportovní hala\, Hanusíkova 1476 Kojetín - Kojetín I-Město
SUMMARY:EX-U22M-6B: Prosek-Kojetín
END:VEVENT
BEGIN:VEVENT
UID:63333139-3038-4461-a531-313030626435
DTSTAMP:20260423T150555Z
DESCRIPTION:2/2 Příbram - Prosek 0:3 (-12\,-28\,-19)
DTSTART;TZID=Europe/Berlin:20250308T120000
DTEND;TZID=Europe/Berlin:20250308T140000
LOCATION:Městská sportovní hala\, Hanusíkova 1476 Kojetín - Kojetín I-Město
SUMMARY:EX-U22M-6B: Příbram-Prosek
END:VEVENT
BEGIN:VEVENT
UID:39633137-6335-4333-b066-633739623864
DTSTAMP:20260423T150555Z
DESCRIPTION:2/3 České Budějovice - Prosek 3:0 (19\,25\,15)
DTSTART;TZID=Europe/Berlin:20250308T150000
DTEND;TZID=Europe/Berlin:20250308T170000
LOCATION:Městská sportovní hala\, Hanusíkova 1476 Kojetín - Kojetín I-Město
SUMMARY:EX-U22M-6B: České Budějovice-Prosek
END:VEVENT
BEGIN:VEVENT
UID:31323437-6330-4139-a333-393135656536
DTSTAMP:20260423T150555Z
DESCRIPTION:7/3 Prosek - Karlovarsko 3:1 (22\,19\,-23\,14)
DTSTART;TZID=Europe/Berlin:20250405T150000
DTEND;TZID=Europe/Berlin:20250405T170000
LOCATION:ZŠ Oskara Nedbala České Budějovice\, O. Nedbala 882 České Budějovi
 ce - České Budějovice 2
SUMMARY:EX-U22M-7B: Prosek-Karlovarsko
END:VEVENT
BEGIN:VEVENT
UID:37383933-3132-4432-a331-346561316532
DTSTAMP:20260423T150555Z
DESCRIPTION:7/5 Prosek - Liberec 3:0 (19\,15\,19)
DTSTART;TZID=Europe/Berlin:20250406T100000
DTEND;TZID=Europe/Berlin:20250406T120000
LOCATION:ZŠ Oskara Nedbala České Budějovice\, O. Nedbala 882 České Budějovi
 ce - České Budějovice 2
SUMMARY:EX-U22M-7B: Prosek-Liberec
END:VEVENT
BEGIN:VEVENT
UID:36393934-3638-4564-b830-646161373837
DTSTAMP:20260423T150555Z
DESCRIPTION:7/1 České Budějovice - Prosek 3:1 (-22\,17\,22\,16)
DTSTART;TZID=Europe/Berlin:20250405T100000
DTEND;TZID=Europe/Berlin:20250405T120000
LOCATION:ZŠ Oskara Nedbala České Budějovice\, O. Nedbala 882 České Budějovi
 ce - České Budějovice 2
SUMMARY:EX-U22M-7B: České Budějovice-Prosek
END:VEVENT
BEGIN:VEVENT
UID:30313462-3439-4133-a566-326537323239
DTSTAMP:20260423T150555Z
DESCRIPTION:1/8 Prosek - Liberec 1:3 (-19\,20\,-21\,-13)\nHala BIOS   Jana 
 Palacha 1840 Kladno
DTSTART;TZID=Europe/Berlin:20250509T120000
DTEND;TZID=Europe/Berlin:20250509T140000
LOCATION:Hala BIOS\, Jana Palacha 1840 Kladno
SUMMARY:EX-U22M-F2: Prosek-Liberec
END:VEVENT
BEGIN:VEVENT
UID:30336538-6337-4936-a230-353038623466
DTSTAMP:20260423T150555Z
DESCRIPTION:1/10 Prosek - Kojetín 3:0 (23\,24\,22)\nHala BIOS   Jana Palach
 a 1840 Kladno
DTSTART;TZID=Europe/Berlin:20250509T160000
DTEND;TZID=Europe/Berlin:20250509T180000
LOCATION:Hala BIOS\, Jana Palacha 1840 Kladno
SUMMARY:EX-U22M-F2: Prosek-Kojetín
END:VEVENT
BEGIN:VEVENT
UID:31373865-3561-4938-b934-623539656436
DTSTAMP:20260423T150555Z
DESCRIPTION:1/4 Brno - Prosek X:3\nHala BIOS   Jana Palacha 1840 Kladno
DTSTART;TZID=Europe/Berlin:20250508T170000
DTEND;TZID=Europe/Berlin:20250508T190000
LOCATION:Hala BIOS\, Jana Palacha 1840 Kladno
SUMMARY:EX-U22M-F2: Brno-Prosek
END:VEVENT
BEGIN:VEVENT
UID:61653235-3166-4832-a464-306438626635
DTSTAMP:20260423T150555Z
DESCRIPTION:2/7 Prosek - Liberec 0:3 (-25\,-22\,-22)\no 3.-4. místo
DTSTART;TZID=Europe/Berlin:20250511T130000
DTEND;TZID=Europe/Berlin:20250511T150000
LOCATION:Kladenská sportovní hala\, Sportovců 817 Kladno - Rozdělov
SUMMARY:EX-U22M-F: Prosek-Liberec
END:VEVENT
BEGIN:VEVENT
UID:30393434-3061-4664-b061-326534363137
DTSTAMP:20260423T150555Z
DESCRIPTION:1/3 České Budějovice - Prosek 3:0 (19\,25\,14)\n1F1-2F2
DTSTART;TZID=Europe/Berlin:20250510T150000
DTEND;TZID=Europe/Berlin:20250510T170000
LOCATION:Kladenská sportovní hala\, Sportovců 817 Kladno - Rozdělov
SUMMARY:EX-U22M-F: České Budějovice-Prosek
END:VEVENT
END:VCALENDAR
