BEGIN:VCALENDAR
VERSION:2.0
PRODID:-//TJ Junior Brno85927//NONSGML kigkonsult.se iCalcreator 2.41.80//
CALSCALE:GREGORIAN
UID:66313839-6563-4433-b131-373431653037
BEGIN:VEVENT
UID:38386365-3134-4031-a562-636133646666
DTSTAMP:20260423T062610Z
DESCRIPTION:1/2 Junior - Orion Praha 3:0 (19\,16\,18)
DTSTART;TZID=Europe/Berlin:20240915T133000
DTEND;TZID=Europe/Berlin:20240915T153000
LOCATION:Sportovní gymnázium Ludvíka Daňka\, Botanická 63 Brno - Ponava
SUMMARY:EX-U22Z-1D: Junior-Orion Praha
END:VEVENT
BEGIN:VEVENT
UID:66353766-3565-4236-a535-626630626165
DTSTAMP:20260423T062610Z
DESCRIPTION:1/1 KP Brno - Junior 3:0 (18\,12\,14)
DTSTART;TZID=Europe/Berlin:20240915T100000
DTEND;TZID=Europe/Berlin:20240915T120000
LOCATION:Sportovní gymnázium Ludvíka Daňka\, Botanická 63 Brno - Ponava
SUMMARY:EX-U22Z-1D: KP Brno-Junior
END:VEVENT
BEGIN:VEVENT
UID:37663061-3138-4637-a663-333066383235
DTSTAMP:20260423T062610Z
DESCRIPTION:1/2 Junior - Ostrava 0:3 (-22\,-18\,-19)
DTSTART;TZID=Europe/Berlin:20241020T133000
DTEND;TZID=Europe/Berlin:20241020T153000
LOCATION:TJ Tatran Střešovice\, Sibeliova 368 Praha - Střešovice
SUMMARY:EX-U22Z-2B: Junior-Ostrava
END:VEVENT
BEGIN:VEVENT
UID:65613634-3333-4236-a535-383935653732
DTSTAMP:20260423T062610Z
DESCRIPTION:1/1 Střešovice - Junior 2:3 (17\,26\,-21\,-21\,-16)
DTSTART;TZID=Europe/Berlin:20241020T100000
DTEND;TZID=Europe/Berlin:20241020T120000
LOCATION:TJ Tatran Střešovice\, Sibeliova 368 Praha - Střešovice
SUMMARY:EX-U22Z-2B: Střešovice-Junior
END:VEVENT
BEGIN:VEVENT
UID:64656637-6132-4365-b836-383032623661
DTSTAMP:20260423T062610Z
DESCRIPTION:1/1 Junior - Hradec Králové 1:3 (-21\,23\,-14\,-28)
DTSTART;TZID=Europe/Berlin:20241117T100000
DTEND;TZID=Europe/Berlin:20241117T120000
LOCATION:ZŠ Holzova 1\, Holzova 1461 Brno - Líšeň
SUMMARY:EX-U22Z-3B: Junior-Hradec Králové
END:VEVENT
BEGIN:VEVENT
UID:63376163-6563-4465-b139-343838643865
DTSTAMP:20260423T062610Z
DESCRIPTION:1/3 Olymp - Junior 3:0 (21\,19\,19)
DTSTART;TZID=Europe/Berlin:20241117T170000
DTEND;TZID=Europe/Berlin:20241117T190000
LOCATION:ZŠ Holzova 1\, Holzova 1461 Brno - Líšeň
SUMMARY:EX-U22Z-3B: Olymp-Junior
END:VEVENT
BEGIN:VEVENT
UID:36393935-3334-4864-b537-663930303530
DTSTAMP:20260423T062610Z
DESCRIPTION:3/1 Junior - Střešovice 3:0 (21\,22\,22)
DTSTART;TZID=Europe/Berlin:20241215T170000
DTEND;TZID=Europe/Berlin:20241215T190000
LOCATION:ZŠ Holzova 1\, Holzova 1461 Brno - Líšeň
SUMMARY:EX-U22Z-4C: Junior-Střešovice
END:VEVENT
BEGIN:VEVENT
UID:65663037-3434-4435-b035-306634356239
DTSTAMP:20260423T062610Z
DESCRIPTION:3/3 Plzeň - Junior 0:3 (-16\,-18\,-16)
DTSTART;TZID=Europe/Berlin:20241215T100000
DTEND;TZID=Europe/Berlin:20241215T120000
LOCATION:ZŠ Holzova 1\, Holzova 1461 Brno - Líšeň
SUMMARY:EX-U22Z-4C: Plzeň-Junior
END:VEVENT
BEGIN:VEVENT
UID:64386636-3932-4634-a337-656466333531
DTSTAMP:20260423T062610Z
DESCRIPTION:4/2 Junior - KP Brno 1:3 (-18\,25\,-21\,-22)
DTSTART;TZID=Europe/Berlin:20250202T133000
DTEND;TZID=Europe/Berlin:20250202T153000
LOCATION:Hala míčových sportů\, Varenská 3098 Ostrava - Moravská Ostrava
SUMMARY:EX-U22Z-5B: Junior-KP Brno
END:VEVENT
BEGIN:VEVENT
UID:62336531-3635-4532-a464-333230356263
DTSTAMP:20260423T062610Z
DESCRIPTION:4/1 Ostrava - Junior 3:0 (9\,20\,14)
DTSTART;TZID=Europe/Berlin:20250202T100000
DTEND;TZID=Europe/Berlin:20250202T120000
LOCATION:Hala míčových sportů\, Varenská 3098 Ostrava - Moravská Ostrava
SUMMARY:EX-U22Z-5B: Ostrava-Junior
END:VEVENT
BEGIN:VEVENT
UID:32303563-3239-4836-b164-396463656334
DTSTAMP:20260423T062610Z
DESCRIPTION:5/1 Junior - Lvice Praha 3:1 (-22\,18\,21\,15)
DTSTART;TZID=Europe/Berlin:20250309T100000
DTEND;TZID=Europe/Berlin:20250309T120000
LOCATION:ZŠ Holzova 1\, Holzova 1461 Brno - Líšeň
SUMMARY:EX-U22Z-6C: Junior-Lvice Praha
END:VEVENT
BEGIN:VEVENT
UID:39643663-6261-4134-b837-633635373362
DTSTAMP:20260423T062610Z
DESCRIPTION:5/3 Plzeň - Junior 2:3 (-22\,-22\,20\,20\,-8)
DTSTART;TZID=Europe/Berlin:20250309T170000
DTEND;TZID=Europe/Berlin:20250309T190000
LOCATION:ZŠ Holzova 1\, Holzova 1461 Brno - Líšeň
SUMMARY:EX-U22Z-6C: Plzeň-Junior
END:VEVENT
BEGIN:VEVENT
UID:37383665-3537-4730-a661-656132613065
DTSTAMP:20260423T062610Z
DESCRIPTION:6/2 Junior - Ostrava 0:3 (-22\,-12\,-23)
DTSTART;TZID=Europe/Berlin:20250406T133000
DTEND;TZID=Europe/Berlin:20250406T153000
LOCATION:Sportovní gymnázium Ludvíka Daňka\, Botanická 63 Brno - Ponava
SUMMARY:EX-U22Z-7B: Junior-Ostrava
END:VEVENT
BEGIN:VEVENT
UID:65373131-3935-4030-a238-383364383862
DTSTAMP:20260423T062610Z
DESCRIPTION:6/1 KP Brno - Junior 3:0 (22\,21\,21)
DTSTART;TZID=Europe/Berlin:20250406T100000
DTEND;TZID=Europe/Berlin:20250406T120000
LOCATION:Sportovní gymnázium Ludvíka Daňka\, Botanická 63 Brno - Ponava
SUMMARY:EX-U22Z-7B: KP Brno-Junior
END:VEVENT
BEGIN:VEVENT
UID:36353431-3437-4431-b933-613334313563
DTSTAMP:20260423T062610Z
DESCRIPTION:1/1 KP Brno - Junior 3:1 (19\,8\,-18\,15)
DTSTART;TZID=Europe/Berlin:20250501T120000
DTEND;TZID=Europe/Berlin:20250501T140000
LOCATION:Klimeška\, Čáslavská 274 Kutná Hora - Karlov
SUMMARY:EX-U22Z-F2: KP Brno-Junior
END:VEVENT
BEGIN:VEVENT
UID:35613839-3631-4739-b432-663138386363
DTSTAMP:20260423T062610Z
DESCRIPTION:2/2 Liberec - Junior 3:0 (15\,12\,16)
DTSTART;TZID=Europe/Berlin:20250501T160000
DTEND;TZID=Europe/Berlin:20250501T180000
LOCATION:Klimeška\, Čáslavská 274 Kutná Hora - Karlov
SUMMARY:EX-U22Z-F2: Liberec-Junior
END:VEVENT
BEGIN:VEVENT
UID:64303865-3536-4533-b363-633138393536
DTSTAMP:20260423T062610Z
DESCRIPTION:1/1 Ostrava - Junior 3:1 (-21\,16\,18\,8)\no 5.-6. místo
DTSTART;TZID=Europe/Berlin:20250503T110000
DTEND;TZID=Europe/Berlin:20250503T130000
LOCATION:Klimeška\, Čáslavská 274 Kutná Hora - Karlov
SUMMARY:EX-U22Z-F: Ostrava-Junior
END:VEVENT
END:VCALENDAR
